{"text_format":"1","workbook":"xlsx","n_sheets":11,"sheets":["SOLAI T2D SPA","Dati per tendine","Relazione","Mascherina","ST BLOCCO 42","ST BLOCCO 52","DT BLOCCO 42","DT BLOCCO 52","LP POLISTIROLO","LP LATERIZIO","CONTROLLO FINALE"],"not_rendered":{"charts":0,"images":1,"macros":1,"external_links":0,"defined_names":13,"comments":0,"pivot_tables":0},"unopened":[],"bounds":{"document_bytes":16777216,"sheet_cells":100000,"rows_first":2000,"rows_last":500,"rows_between":2000,"halvings":0,"cell_chars":16384,"cell_head_chars":4096},"cells_cut":0,"cells_raw":0,"read":"whole","date_system":"1900"}

{"sheet":"SOLAI T2D SPA","index":0,"n_rows":26,"n_cols":25,"rows_kept":26,"cut":false,"hidden":false,"merged":[[8,9,8,11],[9,9,10,9],[9,10,10,10],[9,11,10,11],[9,18,10,18],[7,9,7,24],[1,2,1,7],[7,2,7,7],[6,2,6,7],[5,2,5,7],[4,2,4,7],[3,2,3,7],[9,22,10,22],[8,17,8,20],[8,21,8,24],[8,12,10,12],[8,13,10,13],[8,14,10,14],[8,15,10,15],[8,16,10,16],[9,17,10,17],[9,19,10,19],[9,20,10,20],[9,21,10,21],[9,23,10,23],[9,24,10,24],[23,2,23,7],[24,2,24,7],[25,2,25,7],[10,2,10,7],[9,1,9,7],[17,1,17,7],[22,1,22,7],[13,2,13,7],[14,2,14,7],[15,2,15,7],[18,2,18,7],[19,2,19,7],[20,2,20,7],[12,2,12,7],[11,2,11,7]]}
[]
[null,"TIPO SOLAIO"]
[]
[null,{"$f":"IF(C2=\"\",\"\",IF(OR(C2=\"Travetto_singolo\",C2=\"Doppio_travetto\"),\"Larghezza travetto\",\"Tipo lastre\"))","v":""}]
[null,{"$f":"IF(C2=\"\",\"\",IF(OR(C2=\"Travetto_singolo\",C2=\"Doppio_travetto\"),\"Larghezza pignatta\",\"Spessore lastra\"))","v":""}]
[null,{"$f":"IF(C2=\"\",\"\",\"H alleggerimento\")","v":""}]
[null,{"$f":"IF(C2=\"\",\"\",\"Spessore soletta\")","v":""}]
[null,{"$f":"IF(C2=\"\",\"\",\"Peso proprio [daN/mq]\")","v":""},{"$f":"IF(OR(C2=\"\",C4=\"\",C5=\"\",C6=\"\",C7=\"\"),\"\",'CONTROLLO FINALE'!E10)","v":""},null,null,null,null,null,null,"CARICATO IN RELAZIONE (NUMERO MASSIMO CALCOLI 10)"]
[null,null,null,null,null,null,null,null,null,"Caratteristiche",null,null,"P.P.","G1","G2","Q","Lcal","Momento positivo slu",null,null,null,"Momento negativo slu"]
[null,{"$f":"IF(C2=\"\",\"\",\"DATI DI CALCOLO\")","v":""},null,null,null,null,null,null,null,"Tipo","Int","H",null,null,null,null,null,"Vincolo","Armatura","Msoll","Mres","Vincolo","Armatura","Msoll","Mres"]
[null,{"$f":"IF(C2=\"\",\"\",\"G1 [daN/mq]\")","v":""}]
[null,{"$f":"IF(C2=\"\",\"\",\"G2 [daN/mq]\")","v":""}]
[null,{"$f":"IF(C2=\"\",\"\",\"Q [daN/mq]\")","v":""}]
[null,{"$f":"IF(C2=\"\",\"\",\"Lcalcolo [ml]\")","v":""}]
[null,{"$f":"IF(C2=\"\",\"\",\"Vincolo campata (1/x)\")","v":""}]
[null,{"$f":"IF(C2=\"\",\"\",\"Vincolo appoggio (1/x)\")","v":""}]
[]
[null,{"$f":"IF(C2=\"\",\"\",\"RISULTATI DI CALCOLO MOMENTO POSITIVO\")","v":""}]
[null,{"$f":"IF(C2=\"\",\"\",\"Armatura campata\")","v":""},{"$f":"IF(AND(C2<>\"\",C4<>\"\",C5<>\"\",C6<>\"\",C7<>\"\",C11<>\"\",C12<>\"\",C13<>\"\",C14<>\"\",C15<>\"\",C16<>\"\"),'CONTROLLO FINALE'!K10,\"\")","v":""}]
[null,{"$f":"IF(C2=\"\",\"\",\"Mslu sollecitante / ml [daNm]\")","v":""},{"$f":"IF(AND(C2<>\"\",C4<>\"\",C5<>\"\",C6<>\"\",C7<>\"\",C11<>\"\",C12<>\"\",C13<>\"\",C14<>\"\",C15<>\"\",C16<>\"\"),(C8*1.3+C11*1.3+C12*1.5+C13*1.5)*C14*C14/C15,\"\")","v":""}]
[null,{"$f":"IF(C2=\"\",\"\",\"Mslu resistente / ml [daNm]\")","v":""},{"$f":"IF(OR(C2=\"\",C4=\"\",C5=\"\",C6=\"\",C7=\"\",C11=\"\",C12=\"\",C13=\"\",C14=\"\",C15=\"\",C16=\"\"),\"\",IF('CONTROLLO FINALE'!B13=1,\"NON VERIFICATO IN CAMPATA\",'CONTROLLO FINALE'!M10))","v":""}]
[]
[null,{"$f":"IF(C2=\"\",\"\",\"RISULTATI DI CALCOLO MOMENTO NEGATIVO\")","v":""}]
[null,{"$f":"IF(C2=\"\",\"\",\"Armatura appoggi\")","v":""},{"$f":"'CONTROLLO FINALE'!O10","v":""}]
[null,{"$f":"IF(C2=\"\",\"\",\"Mslu sollecitante / ml [daNm]\")","v":""},{"$f":"IF(AND(C2<>\"\",C4<>\"\",C5<>\"\",C6<>\"\",C7<>\"\",C11<>\"\",C12<>\"\",C13<>\"\",C14<>\"\",C15<>\"\",C16<>\"\"),(C8*1.3+C11*1.3+C12*1.5+C13*1.5)*C14*C14/C16,\"\")","v":""}]
[null,{"$f":"IF(C2=\"\",\"\",\"Mslu resistente / ml [daNm]\")","v":""},{"$f":"IF(OR(C2=\"\",C4=\"\",C5=\"\",C6=\"\",C7=\"\",C11=\"\",C12=\"\",C13=\"\",C14=\"\",C15=\"\",C16=\"\"),\"\",IF('CONTROLLO FINALE'!B14=1,\"NON VERIFICATO AGLI APPOGGI\",'CONTROLLO FINALE'!Q10))","v":""}]

{"sheet":"Dati per tendine","index":1,"n_rows":57,"n_cols":7,"rows_kept":57,"cut":false,"hidden":true,"merged":[]}
["Travetto_singolo","Travetto_singolo","Doppio_travetto","Lastre_predalles"]
["Lastre_predalles","Travetto_12","Travetto_12","Polistirolo_NOREI"]
[null,"Travetto_14","Travetto_14","Polistirolo_REI120"]
[]
[]
[null,"Travetto_12","Travetto_14","Polistirolo_NOREI","Polistirolo_REI120","Laterizio_NOREI","Laterizio_REI120"]
[null,"Pignatta_38","Pignatta_38","Spessore_4","Spessore_4","Spessore_4","Spessore_4"]
[null,"Pignatta_48","Pignatta_48","Spessore_5","Spessore_5","Spessore_5","Spessore_5"]
[]
[]
[]
[null,"Pignatta_38","Pignatta_48","Spessore_4","Spessore_5"]
[null,12,12,12,12]
[null,14,14,14,14]
[null,16,16,16,16]
[null,18,18,18,18]
[null,20,20,20,20]
[null,22,25,22,22]
[null,24,null,24,24]
[null,30,null,30,30]
[]
[]
[]
[]
[]
[]
[]
[]
[4]
[5]
[]
[1]
[2]
[3]
[4]
[5]
[6]
[7]
[8]
[9]
[10]
[]
[]
[]
[]
["Travetto singolo interasse 50 (12 + 38)"]
["Travetto singolo interasse 52 (14 + 38)"]
["Travetto singolo interasse 60 (12 + 48)"]
["Travetto singolo interasse 62 (14 + 48)"]
["Doppio travetto interasse 62 (2*12 + 38)"]
["Doppio travetto interasse 66 (2*14 + 38)"]
["Doppio travetto interasse 72 (2*12 + 48)"]
["Doppio travetto interasse 76 (2*14 + 48)"]
["Lastre predalles polistirolo (REI 120)"]
["Lastre predalles polistirolo (NO REI)"]
["Lastre predalles laterizio (REI 120)"]
["Lastre predalles laterizio (NO REI)"]

{"sheet":"Relazione","index":2,"n_rows":0,"n_cols":0,"rows_kept":0,"cut":false,"hidden":true,"merged":[]}

{"sheet":"Mascherina","index":3,"n_rows":0,"n_cols":0,"rows_kept":0,"cut":false,"hidden":true,"merged":[]}

{"sheet":"ST BLOCCO 42","index":4,"n_rows":134,"n_cols":41,"rows_kept":134,"cut":false,"hidden":true,"merged":[[121,22,122,22],[123,22,124,22],[125,22,126,22],[127,22,128,22],[129,22,130,22],[83,22,83,26],[86,22,87,22],[88,22,89,22],[90,22,91,22],[123,0,124,0],[119,0,120,0],[121,0,122,0],[112,22,112,26],[115,22,116,22],[117,22,118,22],[119,22,120,22],[92,22,93,22],[94,22,95,22],[96,22,97,22],[98,22,99,22],[100,22,101,22],[125,0,126,0],[127,0,128,0],[129,0,130,0],[83,0,83,4],[86,0,87,0],[88,0,89,0],[90,0,91,0],[92,0,93,0],[94,0,95,0],[96,0,97,0],[98,0,99,0],[100,0,101,0],[111,0,111,16],[113,5,113,16],[115,0,116,0],[117,0,118,0],[0,0,0,16],[1,16,11,16],[30,0,30,16],[31,16,45,16],[112,0,112,4],[84,5,84,16],[82,0,82,16],[59,0,60,0],[61,0,62,0],[53,0,54,0],[55,0,56,0],[51,0,52,0],[19,0,20,0],[21,0,22,0],[57,0,58,0],[47,0,48,0],[49,0,50,0],[31,0,44,4],[23,0,24,0],[25,0,26,0],[1,0,10,4],[45,5,45,15],[45,18,46,18],[1,5,1,11],[1,12,1,15],[27,0,28,0],[13,0,14,0],[15,0,16,0],[3,12,10,15],[11,5,11,15],[17,0,18,0],[33,5,33,11],[31,5,31,11],[3,5,3,11],[31,12,31,15],[33,12,44,15],[57,22,58,22],[59,22,60,22],[61,22,62,22],[45,27,45,37],[55,22,56,22],[53,22,54,22],[0,40,12,40],[0,22,0,25],[47,22,48,22],[49,22,50,22],[51,22,52,22],[19,22,20,22],[21,22,22,22],[23,22,24,22],[25,22,26,22],[27,22,28,22],[11,27,11,37],[13,22,14,22],[15,22,16,22],[17,22,18,22]]}
["INTERASSE 50 CM - Larghezza travetto 12 cm - Larghezza blocco 42",null,null,null,null,null,null,null,null,null,null,null,null,null,null,null,null,null,null,null,"CONTROLLO",null,"GENRALE",null,null,null,null,null,null,null,null,null,null,null,null,null,null,null,null,null,"VERIFICA AL TAGLIO"]
["MOMENTO POSITIVO",null,null,null,null,"Armatura standard",null,null,null,null,null,null,"Armatura non standard",null,null,null,"Taglio ultimo"]
[null,null,null,null,null,"2f5","2f5 + 1f8","2f5 + 1f10","2f5 + 1f12","2f5 + 2f10","2f5 + 1f10 + 1f12","2f5 + 2f12","2f5 + 1f12 + 1f14","2f5 + 2f14","2f5 + 1f14 + 1f16","2f5 + 2f16"]
[null,null,null,null,null,"Lunghezza travetti confezionati disponibili (cm)",null,null,null,null,null,null,"Travetti da confezionare su richiesta"]
[null,null,null,null,null,100,240,380,440,500,600,680]
[null,null,null,null,null,120,260,400,460,520,620,700]
[null,null,null,null,null,140,280,420,480,540,640]
[null,null,null,null,null,160,300,null,null,560,660]
[null,null,null,null,null,180,320,null,null,580,null,null,null,null,null,null,null,null,null,null,null,null,null,null,null,null,null,"2f5","2f5 + 1f8","2f5 + 1f10","2f5 + 1f12","2f5 + 2f10","2f5 + 1f10 + 1f12","2f5 + 2f12","2f5 + 1f12 + 1f14","2f5 + 2f14","2f5 + 1f14 + 1f16","2f5 + 2f16"]
[null,null,null,null,null,200,340,null,null,null,null,null,null,null,null,null,null,null,null,null,null,null,null,null,null,null,null,{"$f":"IF(AND(AB30<800000000,AB30=$AM$30),AB9,\"\")","v":""},{"$f":"IF(AND(AC30<800000000,AC30=$AM$30),AC9,\"\")","v":""},"","","","","","","","","",{"$f":"AB10&AC10&AD10&AE10&AF10&AG10&AH10&AI10&AJ10&AK10&AL10","v":""}]
[null,null,null,null,null,220,360]
["Altezza pignatta","Spessore soletta","Altezza solaio","Peso solaio","Volume cls getto in opera (l/mq)","Momenti ultimi riferiti ad una striscia di solaio larga 1,00 metro",null,null,null,null,null,null,null,null,null,null,null,null,null,null,{"$f":"IF(AND('SOLAI T2D SPA'!C2=\"Travetto_singolo\",'SOLAI T2D SPA'!C4=\"Travetto_12\",'SOLAI T2D SPA'!C5=\"Pignatta_38\"),1,0)","v":0},null,"Altezza pignatta","Spessore soletta","Altezza solaio","Peso solaio",null,"Momenti ultimi riferiti ad una striscia di solaio larga 1,00 metro"]
["[cm]","[cm]","[cm]","[daN/mq]","[l/mq]","[daNm]","[daNm]","[daNm]","[daNm]","[daNm]","[daNm]","[daNm]","[daNm]","[daNm]","[daNm]","[daNm]","[daN]",null,null,null,null,null,"[cm]","[cm]","[cm]","[daN/mq]",null,"[daNm]","[daNm]","[daNm]","[daNm]","[daNm]","[daNm]","[daNm]","[daNm]","[daNm]","[daNm]","[daNm]"]
[12,4,{"$f":"A14+B14","v":16},214,60.76,427.06,962.22,1256.68,1610.78,2051.88,2390.38,2722.78,3106.76,3481.8,3902.64,4312,1522,null,null,null,null,null,{"$f":"IF(AND($U$12=1,'SOLAI T2D SPA'!$C$6='ST BLOCCO 42'!A14),'ST BLOCCO 42'!A14,10000000000)","v":10000000000},{"$f":"IF(W14=10000000000,10000000000,IF('SOLAI T2D SPA'!$C$7='ST BLOCCO 42'!B14,'ST BLOCCO 42'!B14,10000000000))","v":10000000000},{"$f":"W14+X14","v":20000000000},{"$f":"IF(Y14>100000,10000000000,D14)","v":10000000000},null,{"$f":"IF($X$14=10000000000,10000000000,IF('SOLAI T2D SPA'!$C$20<='ST BLOCCO 42'!F14,'ST BLOCCO 42'!F14,10000000000))","v":10000000000},{"$f":"IF($X$14=10000000000,10000000000,IF('SOLAI T2D SPA'!$C$20<='ST BLOCCO 42'!G14,'ST BLOCCO 42'!G14,10000000000))","v":10000000000},{"$f":"IF($X$14=10000000000,10000000000,IF('SOLAI T2D SPA'!$C$20<='ST BLOCCO 42'!H14,'ST BLOCCO 42'!H14,10000000000))","v":10000000000},{"$f":"IF($X$14=10000000000,10000000000,IF('SOLAI T2D SPA'!$C$20<='ST BLOCCO 42'!I14,'ST BLOCCO 42'!I14,10000000000))","v":10000000000},{"$f":"IF($X$14=10000000000,10000000000,IF('SOLAI T2D SPA'!$C$20<='ST BLOCCO 42'!J14,'ST BLOCCO 42'!J14,10000000000))","v":10000000000},{"$f":"IF($X$14=10000000000,10000000000,IF('SOLAI T2D SPA'!$C$20<='ST BLOCCO 42'!K14,'ST BLOCCO 42'!K14,10000000000))","v":10000000000},{"$f":"IF($X$14=10000000000,10000000000,IF('SOLAI T2D SPA'!$C$20<='ST BLOCCO 42'!L14,'ST BLOCCO 42'!L14,10000000000))","v":10000000000},{"$f":"IF($X$14=10000000000,10000000000,IF('SOLAI T2D SPA'!$C$20<='ST BLOCCO 42'!M14,'ST BLOCCO 42'!M14,10000000000))","v":10000000000},{"$f":"IF($X$14=10000000000,10000000000,IF('SOLAI T2D SPA'!$C$20<='ST BLOCCO 42'!N14,'ST BLOCCO 42'!N14,10000000000))","v":10000000000},{"$f":"IF($X$14=10000000000,10000000000,IF('SOLAI T2D SPA'!$C$20<='ST BLOCCO 42'!O14,'ST BLOCCO 42'!O14,10000000000))","v":10000000000},{"$f":"IF($X$14=10000000000,10000000000,IF('SOLAI T2D SPA'!$C$20<='ST BLOCCO 42'!P14,'ST BLOCCO 42'!P14,10000000000))","v":10000000000},null,null,{"$f":"IF(X14=10000000000,10000000000,IF('SOLAI T2D SPA'!$C$7='ST BLOCCO 42'!B14,Q14,10000000000))","v":10000000000}]
[null,5,{"$f":"A14+B15","v":17},239,70.759999999999991,458.44,1036.46,1356.64,1742.84,2226.7399999999998,2600.96,2969.86,3398.3,3820.12,4297.2,4764.54,1630,null,null,null,null,null,null,{"$f":"IF(W14=10000000000,10000000000,IF('SOLAI T2D SPA'!$C$7='ST BLOCCO 42'!B15,'ST BLOCCO 42'!B15,10000000000))","v":10000000000},{"$f":"W14+X15","v":20000000000},{"$f":"IF(Y15>100000,10000000000,D15)","v":10000000000},null,{"$f":"IF($X$15=10000000000,10000000000,IF('SOLAI T2D SPA'!$C$20<='ST BLOCCO 42'!F15,'ST BLOCCO 42'!F15,10000000000))","v":10000000000},{"$f":"IF($X$15=10000000000,10000000000,IF('SOLAI T2D SPA'!$C$20<='ST BLOCCO 42'!G15,'ST BLOCCO 42'!G15,10000000000))","v":10000000000},{"$f":"IF($X$15=10000000000,10000000000,IF('SOLAI T2D SPA'!$C$20<='ST BLOCCO 42'!H15,'ST BLOCCO 42'!H15,10000000000))","v":10000000000},{"$f":"IF($X$15=10000000000,10000000000,IF('SOLAI T2D SPA'!$C$20<='ST BLOCCO 42'!I15,'ST BLOCCO 42'!I15,10000000000))","v":10000000000},{"$f":"IF($X$15=10000000000,10000000000,IF('SOLAI T2D SPA'!$C$20<='ST BLOCCO 42'!J15,'ST BLOCCO 42'!J15,10000000000))","v":10000000000},{"$f":"IF($X$15=10000000000,10000000000,IF('SOLAI T2D SPA'!$C$20<='ST BLOCCO 42'!K15,'ST BLOCCO 42'!K15,10000000000))","v":10000000000},{"$f":"IF($X$15=10000000000,10000000000,IF('SOLAI T2D SPA'!$C$20<='ST BLOCCO 42'!L15,'ST BLOCCO 42'!L15,10000000000))","v":10000000000},{"$f":"IF($X$15=10000000000,10000000000,IF('SOLAI T2D SPA'!$C$20<='ST BLOCCO 42'!M15,'ST BLOCCO 42'!M15,10000000000))","v":10000000000},{"$f":"IF($X$15=10000000000,10000000000,IF('SOLAI T2D SPA'!$C$20<='ST BLOCCO 42'!N15,'ST BLOCCO 42'!N15,10000000000))","v":10000000000},{"$f":"IF($X$15=10000000000,10000000000,IF('SOLAI T2D SPA'!$C$20<='ST BLOCCO 42'!O15,'ST BLOCCO 42'!O15,10000000000))","v":10000000000},{"$f":"IF($X$15=10000000000,10000000000,IF('SOLAI T2D SPA'!$C$20<='ST BLOCCO 42'!P15,'ST BLOCCO 42'!P15,10000000000))","v":10000000000},null,null,{"$f":"IF(X15=10000000000,10000000000,IF('SOLAI T2D SPA'!$C$7='ST BLOCCO 42'!B15,Q15,10000000000))","v":10000000000}]
[14,4,{"$f":"A16+B16","v":18},224,65.16,488.34,1102.1400000000001,1440.98,1849.38,2358.88,2751.76,3137.96,3586.32,4024.96,4519.1400000000003,5002.04,1738,null,null,null,null,null,{"$f":"IF(AND($U$12=1,'SOLAI T2D SPA'!$C$6='ST BLOCCO 42'!A16),'ST BLOCCO 42'!A16,10000000000)","v":10000000000},{"$f":"IF(W16=10000000000,10000000000,IF('SOLAI T2D SPA'!$C$7='ST BLOCCO 42'!B16,'ST BLOCCO 42'!B16,10000000000))","v":10000000000},{"$f":"W16+X16","v":20000000000},10000000000,null,{"$f":"IF($X$16=10000000000,10000000000,IF('SOLAI T2D SPA'!$C$20<='ST BLOCCO 42'!F16,'ST BLOCCO 42'!F16,10000000000))","v":10000000000},{"$f":"IF($X$16=10000000000,10000000000,IF('SOLAI T2D SPA'!$C$20<='ST BLOCCO 42'!G16,'ST BLOCCO 42'!G16,10000000000))","v":10000000000},{"$f":"IF($X$16=10000000000,10000000000,IF('SOLAI T2D SPA'!$C$20<='ST BLOCCO 42'!H16,'ST BLOCCO 42'!H16,10000000000))","v":10000000000},{"$f":"IF($X$16=10000000000,10000000000,IF('SOLAI T2D SPA'!$C$20<='ST BLOCCO 42'!I16,'ST BLOCCO 42'!I16,10000000000))","v":10000000000},{"$f":"IF($X$16=10000000000,10000000000,IF('SOLAI T2D SPA'!$C$20<='ST BLOCCO 42'!J16,'ST BLOCCO 42'!J16,10000000000))","v":10000000000},{"$f":"IF($X$16=10000000000,10000000000,IF('SOLAI T2D SPA'!$C$20<='ST BLOCCO 42'!K16,'ST BLOCCO 42'!K16,10000000000))","v":10000000000},{"$f":"IF($X$16=10000000000,10000000000,IF('SOLAI T2D SPA'!$C$20<='ST BLOCCO 42'!L16,'ST BLOCCO 42'!L16,10000000000))","v":10000000000},{"$f":"IF($X$16=10000000000,10000000000,IF('SOLAI T2D SPA'!$C$20<='ST BLOCCO 42'!M16,'ST BLOCCO 42'!M16,10000000000))","v":10000000000},{"$f":"IF($X$16=10000000000,10000000000,IF('SOLAI T2D SPA'!$C$20<='ST BLOCCO 42'!N16,'ST BLOCCO 42'!N16,10000000000))","v":10000000000},{"$f":"IF($X$16=10000000000,10000000000,IF('SOLAI T2D SPA'!$C$20<='ST BLOCCO 42'!O16,'ST BLOCCO 42'!O16,10000000000))","v":10000000000},{"$f":"IF($X$16=10000000000,10000000000,IF('SOLAI T2D SPA'!$C$20<='ST BLOCCO 42'!P16,'ST BLOCCO 42'!P16,10000000000))","v":10000000000},null,null,{"$f":"IF(X16=10000000000,10000000000,IF('SOLAI T2D SPA'!$C$7='ST BLOCCO 42'!B16,Q16,10000000000))","v":10000000000}]
[null,5,{"$f":"A16+B17","v":19},249,75.16,519.70000000000005,1176.3399999999999,1540.98,1981.4,2534.2199999999998,2962.1,3385.24,3877.94,4363.24,4914.96,5455.88,1848,null,null,null,null,null,null,{"$f":"IF(W16=10000000000,10000000000,IF('SOLAI T2D SPA'!$C$7='ST BLOCCO 42'!B17,'ST BLOCCO 42'!B17,10000000000))","v":10000000000},{"$f":"W16+X17","v":20000000000},10000000000,null,{"$f":"IF($X$17=10000000000,10000000000,IF('SOLAI T2D SPA'!$C$20<='ST BLOCCO 42'!F17,'ST BLOCCO 42'!F17,10000000000))","v":10000000000},{"$f":"IF($X$17=10000000000,10000000000,IF('SOLAI T2D SPA'!$C$20<='ST BLOCCO 42'!G17,'ST BLOCCO 42'!G17,10000000000))","v":10000000000},{"$f":"IF($X$17=10000000000,10000000000,IF('SOLAI T2D SPA'!$C$20<='ST BLOCCO 42'!H17,'ST BLOCCO 42'!H17,10000000000))","v":10000000000},{"$f":"IF($X$17=10000000000,10000000000,IF('SOLAI T2D SPA'!$C$20<='ST BLOCCO 42'!I17,'ST BLOCCO 42'!I17,10000000000))","v":10000000000},{"$f":"IF($X$17=10000000000,10000000000,IF('SOLAI T2D SPA'!$C$20<='ST BLOCCO 42'!J17,'ST BLOCCO 42'!J17,10000000000))","v":10000000000},{"$f":"IF($X$17=10000000000,10000000000,IF('SOLAI T2D SPA'!$C$20<='ST BLOCCO 42'!K17,'ST BLOCCO 42'!K17,10000000000))","v":10000000000},{"$f":"IF($X$17=10000000000,10000000000,IF('SOLAI T2D SPA'!$C$20<='ST BLOCCO 42'!L17,'ST BLOCCO 42'!L17,10000000000))","v":10000000000},{"$f":"IF($X$17=10000000000,10000000000,IF('SOLAI T2D SPA'!$C$20<='ST BLOCCO 42'!M17,'ST BLOCCO 42'!M17,10000000000))","v":10000000000},{"$f":"IF($X$17=10000000000,10000000000,IF('SOLAI T2D SPA'!$C$20<='ST BLOCCO 42'!N17,'ST BLOCCO 42'!N17,10000000000))","v":10000000000},{"$f":"IF($X$17=10000000000,10000000000,IF('SOLAI T2D SPA'!$C$20<='ST BLOCCO 42'!O17,'ST BLOCCO 42'!O17,10000000000))","v":10000000000},{"$f":"IF($X$17=10000000000,10000000000,IF('SOLAI T2D SPA'!$C$20<='ST BLOCCO 42'!P17,'ST BLOCCO 42'!P17,10000000000))","v":10000000000},null,null,{"$f":"IF(X17=10000000000,10000000000,IF('SOLAI T2D SPA'!$C$7='ST BLOCCO 42'!B17,Q17,10000000000))","v":10000000000}]
[16,4,{"$f":"A18+B18","v":20},245,66.44,549.70000000000005,1242.02,1625.54,2087.6,2666.18,3112.98,3553.9,4065.42,4567.8999999999996,5136.0600000000004,5691.8,1956,null,null,null,null,null,{"$f":"IF(AND($U$12=1,'SOLAI T2D SPA'!$C$6='ST BLOCCO 42'!A18),'ST BLOCCO 42'!A18,10000000000)","v":10000000000},{"$f":"IF(W18=10000000000,10000000000,IF('SOLAI T2D SPA'!$C$7='ST BLOCCO 42'!B18,'ST BLOCCO 42'!B18,10000000000))","v":10000000000},{"$f":"W18+X18","v":20000000000},10000000000,null,{"$f":"IF($X$18=10000000000,10000000000,IF('SOLAI T2D SPA'!$C$20<='ST BLOCCO 42'!F18,'ST BLOCCO 42'!F18,10000000000))","v":10000000000},{"$f":"IF($X$18=10000000000,10000000000,IF('SOLAI T2D SPA'!$C$20<='ST BLOCCO 42'!G18,'ST BLOCCO 42'!G18,10000000000))","v":10000000000},{"$f":"IF($X$18=10000000000,10000000000,IF('SOLAI T2D SPA'!$C$20<='ST BLOCCO 42'!H18,'ST BLOCCO 42'!H18,10000000000))","v":10000000000},{"$f":"IF($X$18=10000000000,10000000000,IF('SOLAI T2D SPA'!$C$20<='ST BLOCCO 42'!I18,'ST BLOCCO 42'!I18,10000000000))","v":10000000000},{"$f":"IF($X$18=10000000000,10000000000,IF('SOLAI T2D SPA'!$C$20<='ST BLOCCO 42'!J18,'ST BLOCCO 42'!J18,10000000000))","v":10000000000},{"$f":"IF($X$18=10000000000,10000000000,IF('SOLAI T2D SPA'!$C$20<='ST BLOCCO 42'!K18,'ST BLOCCO 42'!K18,10000000000))","v":10000000000},{"$f":"IF($X$18=10000000000,10000000000,IF('SOLAI T2D SPA'!$C$20<='ST BLOCCO 42'!L18,'ST BLOCCO 42'!L18,10000000000))","v":10000000000},{"$f":"IF($X$18=10000000000,10000000000,IF('SOLAI T2D SPA'!$C$20<='ST BLOCCO 42'!M18,'ST BLOCCO 42'!M18,10000000000))","v":10000000000},{"$f":"IF($X$18=10000000000,10000000000,IF('SOLAI T2D SPA'!$C$20<='ST BLOCCO 42'!N18,'ST BLOCCO 42'!N18,10000000000))","v":10000000000},{"$f":"IF($X$18=10000000000,10000000000,IF('SOLAI T2D SPA'!$C$20<='ST BLOCCO 42'!O18,'ST BLOCCO 42'!O18,10000000000))","v":10000000000},{"$f":"IF($X$18=10000000000,10000000000,IF('SOLAI T2D SPA'!$C$20<='ST BLOCCO 42'!P18,'ST BLOCCO 42'!P18,10000000000))","v":10000000000},null,null,{"$f":"IF(X18=10000000000,10000000000,IF('SOLAI T2D SPA'!$C$7='ST BLOCCO 42'!B18,Q18,10000000000))","v":10000000000}]
[null,5,{"$f":"A18+B19","v":21},270,76.44,580.94000000000005,1316.24,1725.08,2220.08,2841.42,3324.04,3800.54,4357.5200000000004,4907.24,5531.54,6146.08,2064,null,null,null,null,null,null,{"$f":"IF(W18=10000000000,10000000000,IF('SOLAI T2D SPA'!$C$7='ST BLOCCO 42'!B19,'ST BLOCCO 42'!B19,10000000000))","v":10000000000},{"$f":"W18+X19","v":20000000000},10000000000,null,{"$f":"IF($X$19=10000000000,10000000000,IF('SOLAI T2D SPA'!$C$20<='ST BLOCCO 42'!F19,'ST BLOCCO 42'!F19,10000000000))","v":10000000000},{"$f":"IF($X$19=10000000000,10000000000,IF('SOLAI T2D SPA'!$C$20<='ST BLOCCO 42'!G19,'ST BLOCCO 42'!G19,10000000000))","v":10000000000},{"$f":"IF($X$19=10000000000,10000000000,IF('SOLAI T2D SPA'!$C$20<='ST BLOCCO 42'!H19,'ST BLOCCO 42'!H19,10000000000))","v":10000000000},{"$f":"IF($X$19=10000000000,10000000000,IF('SOLAI T2D SPA'!$C$20<='ST BLOCCO 42'!I19,'ST BLOCCO 42'!I19,10000000000))","v":10000000000},{"$f":"IF($X$19=10000000000,10000000000,IF('SOLAI T2D SPA'!$C$20<='ST BLOCCO 42'!J19,'ST BLOCCO 42'!J19,10000000000))","v":10000000000},{"$f":"IF($X$19=10000000000,10000000000,IF('SOLAI T2D SPA'!$C$20<='ST BLOCCO 42'!K19,'ST BLOCCO 42'!K19,10000000000))","v":10000000000},{"$f":"IF($X$19=10000000000,10000000000,IF('SOLAI T2D SPA'!$C$20<='ST BLOCCO 42'!L19,'ST BLOCCO 42'!L19,10000000000))","v":10000000000},{"$f":"IF($X$19=10000000000,10000000000,IF('SOLAI T2D SPA'!$C$20<='ST BLOCCO 42'!M19,'ST BLOCCO 42'!M19,10000000000))","v":10000000000},{"$f":"IF($X$19=10000000000,10000000000,IF('SOLAI T2D SPA'!$C$20<='ST BLOCCO 42'!N19,'ST BLOCCO 42'!N19,10000000000))","v":10000000000},{"$f":"IF($X$19=10000000000,10000000000,IF('SOLAI T2D SPA'!$C$20<='ST BLOCCO 42'!O19,'ST BLOCCO 42'!O19,10000000000))","v":10000000000},{"$f":"IF($X$19=10000000000,10000000000,IF('SOLAI T2D SPA'!$C$20<='ST BLOCCO 42'!P19,'ST BLOCCO 42'!P19,10000000000))","v":10000000000},null,null,{"$f":"IF(X19=10000000000,10000000000,IF('SOLAI T2D SPA'!$C$7='ST BLOCCO 42'!B19,Q19,10000000000))","v":10000000000}]
[18,4,{"$f":"A20+B20","v":22},259,71.88,610.96,1382.16,1809.9,2326,2973.88,3474.52,3969.26,4544.72,5111.08,5753.5,6383.64,2174,null,null,null,null,null,{"$f":"IF(AND($U$12=1,'SOLAI T2D SPA'!$C$6='ST BLOCCO 42'!A20),'ST BLOCCO 42'!A20,10000000000)","v":10000000000},{"$f":"IF(W20=10000000000,10000000000,IF('SOLAI T2D SPA'!$C$7='ST BLOCCO 42'!B20,'ST BLOCCO 42'!B20,10000000000))","v":10000000000},{"$f":"W20+X20","v":20000000000},10000000000,null,{"$f":"IF($X$20=10000000000,10000000000,IF('SOLAI T2D SPA'!$C$20<='ST BLOCCO 42'!F20,'ST BLOCCO 42'!F20,10000000000))","v":10000000000},{"$f":"IF($X$20=10000000000,10000000000,IF('SOLAI T2D SPA'!$C$20<='ST BLOCCO 42'!G20,'ST BLOCCO 42'!G20,10000000000))","v":10000000000},{"$f":"IF($X$20=10000000000,10000000000,IF('SOLAI T2D SPA'!$C$20<='ST BLOCCO 42'!H20,'ST BLOCCO 42'!H20,10000000000))","v":10000000000},{"$f":"IF($X$20=10000000000,10000000000,IF('SOLAI T2D SPA'!$C$20<='ST BLOCCO 42'!I20,'ST BLOCCO 42'!I20,10000000000))","v":10000000000},{"$f":"IF($X$20=10000000000,10000000000,IF('SOLAI T2D SPA'!$C$20<='ST BLOCCO 42'!J20,'ST BLOCCO 42'!J20,10000000000))","v":10000000000},{"$f":"IF($X$20=10000000000,10000000000,IF('SOLAI T2D SPA'!$C$20<='ST BLOCCO 42'!K20,'ST BLOCCO 42'!K20,10000000000))","v":10000000000},{"$f":"IF($X$20=10000000000,10000000000,IF('SOLAI T2D SPA'!$C$20<='ST BLOCCO 42'!L20,'ST BLOCCO 42'!L20,10000000000))","v":10000000000},{"$f":"IF($X$20=10000000000,10000000000,IF('SOLAI T2D SPA'!$C$20<='ST BLOCCO 42'!M20,'ST BLOCCO 42'!M20,10000000000))","v":10000000000},{"$f":"IF($X$20=10000000000,10000000000,IF('SOLAI T2D SPA'!$C$20<='ST BLOCCO 42'!N20,'ST BLOCCO 42'!N20,10000000000))","v":10000000000},{"$f":"IF($X$20=10000000000,10000000000,IF('SOLAI T2D SPA'!$C$20<='ST BLOCCO 42'!O20,'ST BLOCCO 42'!O20,10000000000))","v":10000000000},{"$f":"IF($X$20=10000000000,10000000000,IF('SOLAI T2D SPA'!$C$20<='ST BLOCCO 42'!P20,'ST BLOCCO 42'!P20,10000000000))","v":10000000000},null,null,{"$f":"IF(X20=10000000000,10000000000,IF('SOLAI T2D SPA'!$C$7='ST BLOCCO 42'!B20,Q20,10000000000))","v":10000000000}]
[null,5,{"$f":"A20+B21","v":23},284,81.88,642,1456,1909,2458,3149,3685,4216,4837,5451,6149,6837,2242,null,null,null,null,null,null,{"$f":"IF(W20=10000000000,10000000000,IF('SOLAI T2D SPA'!$C$7='ST BLOCCO 42'!B21,'ST BLOCCO 42'!B21,10000000000))","v":10000000000},{"$f":"W20+X21","v":20000000000},10000000000,null,{"$f":"IF($X$21=10000000000,10000000000,IF('SOLAI T2D SPA'!$C$20<='ST BLOCCO 42'!F21,'ST BLOCCO 42'!F21,10000000000))","v":10000000000},{"$f":"IF($X$21=10000000000,10000000000,IF('SOLAI T2D SPA'!$C$20<='ST BLOCCO 42'!G21,'ST BLOCCO 42'!G21,10000000000))","v":10000000000},{"$f":"IF($X$21=10000000000,10000000000,IF('SOLAI T2D SPA'!$C$20<='ST BLOCCO 42'!H21,'ST BLOCCO 42'!H21,10000000000))","v":10000000000},{"$f":"IF($X$21=10000000000,10000000000,IF('SOLAI T2D SPA'!$C$20<='ST BLOCCO 42'!I21,'ST BLOCCO 42'!I21,10000000000))","v":10000000000},{"$f":"IF($X$21=10000000000,10000000000,IF('SOLAI T2D SPA'!$C$20<='ST BLOCCO 42'!J21,'ST BLOCCO 42'!J21,10000000000))","v":10000000000},{"$f":"IF($X$21=10000000000,10000000000,IF('SOLAI T2D SPA'!$C$20<='ST BLOCCO 42'!K21,'ST BLOCCO 42'!K21,10000000000))","v":10000000000},{"$f":"IF($X$21=10000000000,10000000000,IF('SOLAI T2D SPA'!$C$20<='ST BLOCCO 42'!L21,'ST BLOCCO 42'!L21,10000000000))","v":10000000000},{"$f":"IF($X$21=10000000000,10000000000,IF('SOLAI T2D SPA'!$C$20<='ST BLOCCO 42'!M21,'ST BLOCCO 42'!M21,10000000000))","v":10000000000},{"$f":"IF($X$21=10000000000,10000000000,IF('SOLAI T2D SPA'!$C$20<='ST BLOCCO 42'!N21,'ST BLOCCO 42'!N21,10000000000))","v":10000000000},{"$f":"IF($X$21=10000000000,10000000000,IF('SOLAI T2D SPA'!$C$20<='ST BLOCCO 42'!O21,'ST BLOCCO 42'!O21,10000000000))","v":10000000000},{"$f":"IF($X$21=10000000000,10000000000,IF('SOLAI T2D SPA'!$C$20<='ST BLOCCO 42'!P21,'ST BLOCCO 42'!P21,10000000000))","v":10000000000},null,null,{"$f":"IF(X21=10000000000,10000000000,IF('SOLAI T2D SPA'!$C$7='ST BLOCCO 42'!B21,Q21,10000000000))","v":10000000000}]
[20,4,{"$f":"A22+B22","v":24},274,76.28,672.22,1522,1994.02,2564.58,3280.98,3836.28,4384.92,5024.54,5654.58,6370.44,7073.94,2308,null,null,null,null,null,{"$f":"IF(AND($U$12=1,'SOLAI T2D SPA'!$C$6='ST BLOCCO 42'!A22),'ST BLOCCO 42'!A22,10000000000)","v":10000000000},{"$f":"IF(W22=10000000000,10000000000,IF('SOLAI T2D SPA'!$C$7='ST BLOCCO 42'!B22,'ST BLOCCO 42'!B22,10000000000))","v":10000000000},{"$f":"W22+X22","v":20000000000},10000000000,null,{"$f":"IF($X$22=10000000000,10000000000,IF('SOLAI T2D SPA'!$C$20<='ST BLOCCO 42'!F22,'ST BLOCCO 42'!F22,10000000000))","v":10000000000},{"$f":"IF($X$22=10000000000,10000000000,IF('SOLAI T2D SPA'!$C$20<='ST BLOCCO 42'!G22,'ST BLOCCO 42'!G22,10000000000))","v":10000000000},{"$f":"IF($X$22=10000000000,10000000000,IF('SOLAI T2D SPA'!$C$20<='ST BLOCCO 42'!H22,'ST BLOCCO 42'!H22,10000000000))","v":10000000000},{"$f":"IF($X$22=10000000000,10000000000,IF('SOLAI T2D SPA'!$C$20<='ST BLOCCO 42'!I22,'ST BLOCCO 42'!I22,10000000000))","v":10000000000},{"$f":"IF($X$22=10000000000,10000000000,IF('SOLAI T2D SPA'!$C$20<='ST BLOCCO 42'!J22,'ST BLOCCO 42'!J22,10000000000))","v":10000000000},{"$f":"IF($X$22=10000000000,10000000000,IF('SOLAI T2D SPA'!$C$20<='ST BLOCCO 42'!K22,'ST BLOCCO 42'!K22,10000000000))","v":10000000000},{"$f":"IF($X$22=10000000000,10000000000,IF('SOLAI T2D SPA'!$C$20<='ST BLOCCO 42'!L22,'ST BLOCCO 42'!L22,10000000000))","v":10000000000},{"$f":"IF($X$22=10000000000,10000000000,IF('SOLAI T2D SPA'!$C$20<='ST BLOCCO 42'!M22,'ST BLOCCO 42'!M22,10000000000))","v":10000000000},{"$f":"IF($X$22=10000000000,10000000000,IF('SOLAI T2D SPA'!$C$20<='ST BLOCCO 42'!N22,'ST BLOCCO 42'!N22,10000000000))","v":10000000000},{"$f":"IF($X$22=10000000000,10000000000,IF('SOLAI T2D SPA'!$C$20<='ST BLOCCO 42'!O22,'ST BLOCCO 42'!O22,10000000000))","v":10000000000},{"$f":"IF($X$22=10000000000,10000000000,IF('SOLAI T2D SPA'!$C$20<='ST BLOCCO 42'!P22,'ST BLOCCO 42'!P22,10000000000))","v":10000000000},null,null,{"$f":"IF(X22=10000000000,10000000000,IF('SOLAI T2D SPA'!$C$7='ST BLOCCO 42'!B22,Q22,10000000000))","v":10000000000}]
[null,5,{"$f":"A22+B23","v":25},299,86.28,703.6,1595.96,2093.2600000000002,2696.42,3456.18,4046.7,4631.82,5316.46,5993.76,6766.18,7528.1,2374,null,null,null,null,null,null,{"$f":"IF(W22=10000000000,10000000000,IF('SOLAI T2D SPA'!$C$7='ST BLOCCO 42'!B23,'ST BLOCCO 42'!B23,10000000000))","v":10000000000},{"$f":"W22+X23","v":20000000000},10000000000,null,{"$f":"IF($X$23=10000000000,10000000000,IF('SOLAI T2D SPA'!$C$20<='ST BLOCCO 42'!F23,'ST BLOCCO 42'!F23,10000000000))","v":10000000000},{"$f":"IF($X$23=10000000000,10000000000,IF('SOLAI T2D SPA'!$C$20<='ST BLOCCO 42'!G23,'ST BLOCCO 42'!G23,10000000000))","v":10000000000},{"$f":"IF($X$23=10000000000,10000000000,IF('SOLAI T2D SPA'!$C$20<='ST BLOCCO 42'!H23,'ST BLOCCO 42'!H23,10000000000))","v":10000000000},{"$f":"IF($X$23=10000000000,10000000000,IF('SOLAI T2D SPA'!$C$20<='ST BLOCCO 42'!I23,'ST BLOCCO 42'!I23,10000000000))","v":10000000000},{"$f":"IF($X$23=10000000000,10000000000,IF('SOLAI T2D SPA'!$C$20<='ST BLOCCO 42'!J23,'ST BLOCCO 42'!J23,10000000000))","v":10000000000},{"$f":"IF($X$23=10000000000,10000000000,IF('SOLAI T2D SPA'!$C$20<='ST BLOCCO 42'!K23,'ST BLOCCO 42'!K23,10000000000))","v":10000000000},{"$f":"IF($X$23=10000000000,10000000000,IF('SOLAI T2D SPA'!$C$20<='ST BLOCCO 42'!L23,'ST BLOCCO 42'!L23,10000000000))","v":10000000000},{"$f":"IF($X$23=10000000000,10000000000,IF('SOLAI T2D SPA'!$C$20<='ST BLOCCO 42'!M23,'ST BLOCCO 42'!M23,10000000000))","v":10000000000},{"$f":"IF($X$23=10000000000,10000000000,IF('SOLAI T2D SPA'!$C$20<='ST BLOCCO 42'!N23,'ST BLOCCO 42'!N23,10000000000))","v":10000000000},{"$f":"IF($X$23=10000000000,10000000000,IF('SOLAI T2D SPA'!$C$20<='ST BLOCCO 42'!O23,'ST BLOCCO 42'!O23,10000000000))","v":10000000000},{"$f":"IF($X$23=10000000000,10000000000,IF('SOLAI T2D SPA'!$C$20<='ST BLOCCO 42'!P23,'ST BLOCCO 42'!P23,10000000000))","v":10000000000},null,null,{"$f":"IF(X23=10000000000,10000000000,IF('SOLAI T2D SPA'!$C$7='ST BLOCCO 42'!B23,Q23,10000000000))","v":10000000000}]
[22,4,{"$f":"A24+B24","v":26},290,81.72,733.52,1662.06,2178.34,2803.28,3588.26,4197.34,4800.26,5503.58,6198.5,6987.98,7765.08,2440,null,null,null,null,null,{"$f":"IF(AND($U$12=1,'SOLAI T2D SPA'!$C$6='ST BLOCCO 42'!A24),'ST BLOCCO 42'!A24,10000000000)","v":10000000000},{"$f":"IF(W24=10000000000,10000000000,IF('SOLAI T2D SPA'!$C$7='ST BLOCCO 42'!B24,'ST BLOCCO 42'!B24,10000000000))","v":10000000000},{"$f":"W24+X24","v":20000000000},10000000000,null,{"$f":"IF($X$24=10000000000,10000000000,IF('SOLAI T2D SPA'!$C$20<='ST BLOCCO 42'!F24,'ST BLOCCO 42'!F24,10000000000))","v":10000000000},{"$f":"IF($X$24=10000000000,10000000000,IF('SOLAI T2D SPA'!$C$20<='ST BLOCCO 42'!G24,'ST BLOCCO 42'!G24,10000000000))","v":10000000000},{"$f":"IF($X$24=10000000000,10000000000,IF('SOLAI T2D SPA'!$C$20<='ST BLOCCO 42'!H24,'ST BLOCCO 42'!H24,10000000000))","v":10000000000},{"$f":"IF($X$24=10000000000,10000000000,IF('SOLAI T2D SPA'!$C$20<='ST BLOCCO 42'!I24,'ST BLOCCO 42'!I24,10000000000))","v":10000000000},{"$f":"IF($X$24=10000000000,10000000000,IF('SOLAI T2D SPA'!$C$20<='ST BLOCCO 42'!J24,'ST BLOCCO 42'!J24,10000000000))","v":10000000000},{"$f":"IF($X$24=10000000000,10000000000,IF('SOLAI T2D SPA'!$C$20<='ST BLOCCO 42'!K24,'ST BLOCCO 42'!K24,10000000000))","v":10000000000},{"$f":"IF($X$24=10000000000,10000000000,IF('SOLAI T2D SPA'!$C$20<='ST BLOCCO 42'!L24,'ST BLOCCO 42'!L24,10000000000))","v":10000000000},{"$f":"IF($X$24=10000000000,10000000000,IF('SOLAI T2D SPA'!$C$20<='ST BLOCCO 42'!M24,'ST BLOCCO 42'!M24,10000000000))","v":10000000000},{"$f":"IF($X$24=10000000000,10000000000,IF('SOLAI T2D SPA'!$C$20<='ST BLOCCO 42'!N24,'ST BLOCCO 42'!N24,10000000000))","v":10000000000},{"$f":"IF($X$24=10000000000,10000000000,IF('SOLAI T2D SPA'!$C$20<='ST BLOCCO 42'!O24,'ST BLOCCO 42'!O24,10000000000))","v":10000000000},{"$f":"IF($X$24=10000000000,10000000000,IF('SOLAI T2D SPA'!$C$20<='ST BLOCCO 42'!P24,'ST BLOCCO 42'!P24,10000000000))","v":10000000000},null,null,{"$f":"IF(X24=10000000000,10000000000,IF('SOLAI T2D SPA'!$C$7='ST BLOCCO 42'!B24,Q24,10000000000))","v":10000000000}]
[null,5,{"$f":"A24+B25","v":27},315,91.719999999999985,764.98,1735.82,2277.4,2934.74,3763.4,4407.78,5047.32,5795.9,6537.1,7382.84,8218.7999999999993,2504,null,null,null,null,null,null,{"$f":"IF(W24=10000000000,10000000000,IF('SOLAI T2D SPA'!$C$7='ST BLOCCO 42'!B25,'ST BLOCCO 42'!B25,10000000000))","v":10000000000},{"$f":"W24+X25","v":20000000000},10000000000,null,{"$f":"IF($X$25=10000000000,10000000000,IF('SOLAI T2D SPA'!$C$20<='ST BLOCCO 42'!F25,'ST BLOCCO 42'!F25,10000000000))","v":10000000000},{"$f":"IF($X$25=10000000000,10000000000,IF('SOLAI T2D SPA'!$C$20<='ST BLOCCO 42'!G25,'ST BLOCCO 42'!G25,10000000000))","v":10000000000},{"$f":"IF($X$25=10000000000,10000000000,IF('SOLAI T2D SPA'!$C$20<='ST BLOCCO 42'!H25,'ST BLOCCO 42'!H25,10000000000))","v":10000000000},{"$f":"IF($X$25=10000000000,10000000000,IF('SOLAI T2D SPA'!$C$20<='ST BLOCCO 42'!I25,'ST BLOCCO 42'!I25,10000000000))","v":10000000000},{"$f":"IF($X$25=10000000000,10000000000,IF('SOLAI T2D SPA'!$C$20<='ST BLOCCO 42'!J25,'ST BLOCCO 42'!J25,10000000000))","v":10000000000},{"$f":"IF($X$25=10000000000,10000000000,IF('SOLAI T2D SPA'!$C$20<='ST BLOCCO 42'!K25,'ST BLOCCO 42'!K25,10000000000))","v":10000000000},{"$f":"IF($X$25=10000000000,10000000000,IF('SOLAI T2D SPA'!$C$20<='ST BLOCCO 42'!L25,'ST BLOCCO 42'!L25,10000000000))","v":10000000000},{"$f":"IF($X$25=10000000000,10000000000,IF('SOLAI T2D SPA'!$C$20<='ST BLOCCO 42'!M25,'ST BLOCCO 42'!M25,10000000000))","v":10000000000},{"$f":"IF($X$25=10000000000,10000000000,IF('SOLAI T2D SPA'!$C$20<='ST BLOCCO 42'!N25,'ST BLOCCO 42'!N25,10000000000))","v":10000000000},{"$f":"IF($X$25=10000000000,10000000000,IF('SOLAI T2D SPA'!$C$20<='ST BLOCCO 42'!O25,'ST BLOCCO 42'!O25,10000000000))","v":10000000000},{"$f":"IF($X$25=10000000000,10000000000,IF('SOLAI T2D SPA'!$C$20<='ST BLOCCO 42'!P25,'ST BLOCCO 42'!P25,10000000000))","v":10000000000},null,null,{"$f":"IF(X25=10000000000,10000000000,IF('SOLAI T2D SPA'!$C$7='ST BLOCCO 42'!B25,Q25,10000000000))","v":10000000000}]
[24,4,{"$f":"A26+B26","v":28},306,85.08,794.84,1801.7,2362.44,3041.66,3895.46,4559.18,5215.76,5983.22,6741.7,7604.66,8456.14,2570,null,null,null,null,null,{"$f":"IF(AND($U$12=1,'SOLAI T2D SPA'!$C$6='ST BLOCCO 42'!A26),'ST BLOCCO 42'!A26,10000000000)","v":10000000000},{"$f":"IF(W26=10000000000,10000000000,IF('SOLAI T2D SPA'!$C$7='ST BLOCCO 42'!B26,'ST BLOCCO 42'!B26,10000000000))","v":10000000000},{"$f":"W26+X26","v":20000000000},10000000000,null,{"$f":"IF($X$26=10000000000,10000000000,IF('SOLAI T2D SPA'!$C$20<='ST BLOCCO 42'!F26,'ST BLOCCO 42'!F26,10000000000))","v":10000000000},{"$f":"IF($X$26=10000000000,10000000000,IF('SOLAI T2D SPA'!$C$20<='ST BLOCCO 42'!G26,'ST BLOCCO 42'!G26,10000000000))","v":10000000000},{"$f":"IF($X$26=10000000000,10000000000,IF('SOLAI T2D SPA'!$C$20<='ST BLOCCO 42'!H26,'ST BLOCCO 42'!H26,10000000000))","v":10000000000},{"$f":"IF($X$26=10000000000,10000000000,IF('SOLAI T2D SPA'!$C$20<='ST BLOCCO 42'!I26,'ST BLOCCO 42'!I26,10000000000))","v":10000000000},{"$f":"IF($X$26=10000000000,10000000000,IF('SOLAI T2D SPA'!$C$20<='ST BLOCCO 42'!J26,'ST BLOCCO 42'!J26,10000000000))","v":10000000000},{"$f":"IF($X$26=10000000000,10000000000,IF('SOLAI T2D SPA'!$C$20<='ST BLOCCO 42'!K26,'ST BLOCCO 42'!K26,10000000000))","v":10000000000},{"$f":"IF($X$26=10000000000,10000000000,IF('SOLAI T2D SPA'!$C$20<='ST BLOCCO 42'!L26,'ST BLOCCO 42'!L26,10000000000))","v":10000000000},{"$f":"IF($X$26=10000000000,10000000000,IF('SOLAI T2D SPA'!$C$20<='ST BLOCCO 42'!M26,'ST BLOCCO 42'!M26,10000000000))","v":10000000000},{"$f":"IF($X$26=10000000000,10000000000,IF('SOLAI T2D SPA'!$C$20<='ST BLOCCO 42'!N26,'ST BLOCCO 42'!N26,10000000000))","v":10000000000},{"$f":"IF($X$26=10000000000,10000000000,IF('SOLAI T2D SPA'!$C$20<='ST BLOCCO 42'!O26,'ST BLOCCO 42'!O26,10000000000))","v":10000000000},{"$f":"IF($X$26=10000000000,10000000000,IF('SOLAI T2D SPA'!$C$20<='ST BLOCCO 42'!P26,'ST BLOCCO 42'!P26,10000000000))","v":10000000000},null,null,{"$f":"IF(X26=10000000000,10000000000,IF('SOLAI T2D SPA'!$C$7='ST BLOCCO 42'!B26,Q26,10000000000))","v":10000000000}]
[null,5,{"$f":"A26+B27","v":29},331,95.08,826.26,1875.56,2461.4,3172.66,4070.58,4769.4799999999996,5462.66,6275.52,7080.38,7999.92,8909.7000000000007,2634,null,null,null,null,null,null,{"$f":"IF(W26=10000000000,10000000000,IF('SOLAI T2D SPA'!$C$7='ST BLOCCO 42'!B27,'ST BLOCCO 42'!B27,10000000000))","v":10000000000},{"$f":"W26+X27","v":20000000000},10000000000,null,{"$f":"IF($X$27=10000000000,10000000000,IF('SOLAI T2D SPA'!$C$20<='ST BLOCCO 42'!F27,'ST BLOCCO 42'!F27,10000000000))","v":10000000000},{"$f":"IF($X$27=10000000000,10000000000,IF('SOLAI T2D SPA'!$C$20<='ST BLOCCO 42'!G27,'ST BLOCCO 42'!G27,10000000000))","v":10000000000},{"$f":"IF($X$27=10000000000,10000000000,IF('SOLAI T2D SPA'!$C$20<='ST BLOCCO 42'!H27,'ST BLOCCO 42'!H27,10000000000))","v":10000000000},{"$f":"IF($X$27=10000000000,10000000000,IF('SOLAI T2D SPA'!$C$20<='ST BLOCCO 42'!I27,'ST BLOCCO 42'!I27,10000000000))","v":10000000000},{"$f":"IF($X$27=10000000000,10000000000,IF('SOLAI T2D SPA'!$C$20<='ST BLOCCO 42'!J27,'ST BLOCCO 42'!J27,10000000000))","v":10000000000},{"$f":"IF($X$27=10000000000,10000000000,IF('SOLAI T2D SPA'!$C$20<='ST BLOCCO 42'!K27,'ST BLOCCO 42'!K27,10000000000))","v":10000000000},{"$f":"IF($X$27=10000000000,10000000000,IF('SOLAI T2D SPA'!$C$20<='ST BLOCCO 42'!L27,'ST BLOCCO 42'!L27,10000000000))","v":10000000000},{"$f":"IF($X$27=10000000000,10000000000,IF('SOLAI T2D SPA'!$C$20<='ST BLOCCO 42'!M27,'ST BLOCCO 42'!M27,10000000000))","v":10000000000},{"$f":"IF($X$27=10000000000,10000000000,IF('SOLAI T2D SPA'!$C$20<='ST BLOCCO 42'!N27,'ST BLOCCO 42'!N27,10000000000))","v":10000000000},{"$f":"IF($X$27=10000000000,10000000000,IF('SOLAI T2D SPA'!$C$20<='ST BLOCCO 42'!O27,'ST BLOCCO 42'!O27,10000000000))","v":10000000000},{"$f":"IF($X$27=10000000000,10000000000,IF('SOLAI T2D SPA'!$C$20<='ST BLOCCO 42'!P27,'ST BLOCCO 42'!P27,10000000000))","v":10000000000},null,null,{"$f":"IF(X27=10000000000,10000000000,IF('SOLAI T2D SPA'!$C$7='ST BLOCCO 42'!B27,Q27,10000000000))","v":10000000000}]
[30,4,{"$f":"A28+B28","v":34},350,99.32,979.06,2221.2800000000002,2914.5,3756.24,4817.5,5643.1,6462.02,7421.76,8371.7800000000007,9456.0400000000009,10529,2946,null,null,null,null,null,{"$f":"IF(AND($U$12=1,'SOLAI T2D SPA'!$C$6='ST BLOCCO 42'!A28),'ST BLOCCO 42'!A28,10000000000)","v":10000000000},{"$f":"IF(W28=10000000000,10000000000,IF('SOLAI T2D SPA'!$C$7='ST BLOCCO 42'!B28,'ST BLOCCO 42'!B28,10000000000))","v":10000000000},{"$f":"W28+X28","v":20000000000},10000000000,null,{"$f":"IF($X$28=10000000000,10000000000,IF('SOLAI T2D SPA'!$C$20<='ST BLOCCO 42'!F28,'ST BLOCCO 42'!F28,10000000000))","v":10000000000},{"$f":"IF($X$28=10000000000,10000000000,IF('SOLAI T2D SPA'!$C$20<='ST BLOCCO 42'!G28,'ST BLOCCO 42'!G28,10000000000))","v":10000000000},{"$f":"IF($X$28=10000000000,10000000000,IF('SOLAI T2D SPA'!$C$20<='ST BLOCCO 42'!H28,'ST BLOCCO 42'!H28,10000000000))","v":10000000000},{"$f":"IF($X$28=10000000000,10000000000,IF('SOLAI T2D SPA'!$C$20<='ST BLOCCO 42'!I28,'ST BLOCCO 42'!I28,10000000000))","v":10000000000},{"$f":"IF($X$28=10000000000,10000000000,IF('SOLAI T2D SPA'!$C$20<='ST BLOCCO 42'!J28,'ST BLOCCO 42'!J28,10000000000))","v":10000000000},{"$f":"IF($X$28=10000000000,10000000000,IF('SOLAI T2D SPA'!$C$20<='ST BLOCCO 42'!K28,'ST BLOCCO 42'!K28,10000000000))","v":10000000000},{"$f":"IF($X$28=10000000000,10000000000,IF('SOLAI T2D SPA'!$C$20<='ST BLOCCO 42'!L28,'ST BLOCCO 42'!L28,10000000000))","v":10000000000},{"$f":"IF($X$28=10000000000,10000000000,IF('SOLAI T2D SPA'!$C$20<='ST BLOCCO 42'!M28,'ST BLOCCO 42'!M28,10000000000))","v":10000000000},{"$f":"IF($X$28=10000000000,10000000000,IF('SOLAI T2D SPA'!$C$20<='ST BLOCCO 42'!N28,'ST BLOCCO 42'!N28,10000000000))","v":10000000000},{"$f":"IF($X$28=10000000000,10000000000,IF('SOLAI T2D SPA'!$C$20<='ST BLOCCO 42'!O28,'ST BLOCCO 42'!O28,10000000000))","v":10000000000},{"$f":"IF($X$28=10000000000,10000000000,IF('SOLAI T2D SPA'!$C$20<='ST BLOCCO 42'!P28,'ST BLOCCO 42'!P28,10000000000))","v":10000000000},null,null,{"$f":"IF(X28=10000000000,10000000000,IF('SOLAI T2D SPA'!$C$7='ST BLOCCO 42'!B28,Q28,10000000000))","v":10000000000}]
[null,5,{"$f":"A28+B29","v":35},375,109.31999999999998,1010.18,2294.9,3013.32,3887.24,4991.4399999999996,5852.98,6709.56,7713.74,8710.52,9851.44,10982.62,3008,null,null,null,null,null,null,{"$f":"IF(W28=10000000000,10000000000,IF('SOLAI T2D SPA'!$C$7='ST BLOCCO 42'!B29,'ST BLOCCO 42'!B29,10000000000))","v":10000000000},{"$f":"W28+X29","v":20000000000},10000000000,null,{"$f":"IF($X$29=10000000000,10000000000,IF('SOLAI T2D SPA'!$C$20<='ST BLOCCO 42'!F29,'ST BLOCCO 42'!F29,10000000000))","v":10000000000},{"$f":"IF($X$29=10000000000,10000000000,IF('SOLAI T2D SPA'!$C$20<='ST BLOCCO 42'!G29,'ST BLOCCO 42'!G29,10000000000))","v":10000000000},{"$f":"IF($X$29=10000000000,10000000000,IF('SOLAI T2D SPA'!$C$20<='ST BLOCCO 42'!H29,'ST BLOCCO 42'!H29,10000000000))","v":10000000000},{"$f":"IF($X$29=10000000000,10000000000,IF('SOLAI T2D SPA'!$C$20<='ST BLOCCO 42'!I29,'ST BLOCCO 42'!I29,10000000000))","v":10000000000},{"$f":"IF($X$29=10000000000,10000000000,IF('SOLAI T2D SPA'!$C$20<='ST BLOCCO 42'!J29,'ST BLOCCO 42'!J29,10000000000))","v":10000000000},{"$f":"IF($X$29=10000000000,10000000000,IF('SOLAI T2D SPA'!$C$20<='ST BLOCCO 42'!K29,'ST BLOCCO 42'!K29,10000000000))","v":10000000000},{"$f":"IF($X$29=10000000000,10000000000,IF('SOLAI T2D SPA'!$C$20<='ST BLOCCO 42'!L29,'ST BLOCCO 42'!L29,10000000000))","v":10000000000},{"$f":"IF($X$29=10000000000,10000000000,IF('SOLAI T2D SPA'!$C$20<='ST BLOCCO 42'!M29,'ST BLOCCO 42'!M29,10000000000))","v":10000000000},{"$f":"IF($X$29=10000000000,10000000000,IF('SOLAI T2D SPA'!$C$20<='ST BLOCCO 42'!N29,'ST BLOCCO 42'!N29,10000000000))","v":10000000000},{"$f":"IF($X$29=10000000000,10000000000,IF('SOLAI T2D SPA'!$C$20<='ST BLOCCO 42'!O29,'ST BLOCCO 42'!O29,10000000000))","v":10000000000},{"$f":"IF($X$29=10000000000,10000000000,IF('SOLAI T2D SPA'!$C$20<='ST BLOCCO 42'!P29,'ST BLOCCO 42'!P29,10000000000))","v":10000000000},null,null,{"$f":"IF(X29=10000000000,10000000000,IF('SOLAI T2D SPA'!$C$7='ST BLOCCO 42'!B29,Q29,10000000000))","v":10000000000}]
[null,null,null,null,null,null,null,null,null,null,null,null,null,null,null,null,null,null,null,null,null,null,{"$f":"MIN(W14:W29)","v":10000000000},{"$f":"MIN(X14:X29)","v":10000000000},20000000000,10000000000,null,{"$f":"MIN(AB14:AB29)","v":10000000000},{"$f":"MIN(AC14:AC29)","v":10000000000},10000000000,10000000000,10000000000,10000000000,10000000000,10000000000,10000000000,10000000000,10000000000,{"$f":"MIN(AB30:AL30)","v":10000000000},{"$f":"IF(AND(U12=1,AM30=10000000000),1,0)","v":0},{"$f":"MIN(AO14:AO29)","v":10000000000}]
["INTERASSE 52 CM - Larghezza travetto 14 cm - Larghezza blocco 42"]
["MOMENTO POSITIVO",null,null,null,null,"Armatura standard",null,null,null,null,null,null,"Armatura non standard",null,null,null,"Taglio ultimo"]
[null,null,null,null,null,"2f5","2f5 + 1f8","2f5 + 1f10","2f5 + 1f12","2f5 + 2f10","2f5 + 1f10 + 1f12","2f5 + 2f12","2f5 + 1f12 + 1f14","2f5 + 2f14","2f5 + 1f14 + 1f16","2f5 + 2f16"]
[null,null,null,null,null,"Lunghezza travetti confezionati disponibili (cm)",null,null,null,null,null,null,"Travetti da confezionare su richiesta"]
[null,null,null,null,null,100,140,360,420,480,580,640]
[null,null,null,null,null,120,160,380,440,500,600,660]
[null,null,null,null,null,null,180,400,460,520,620,680]
[null,null,null,null,null,null,200,null,null,540,null,700]
[null,null,null,null,null,null,220,null,null,560]
[null,null,null,null,null,null,240]
[null,null,null,null,null,null,260]
[null,null,null,null,null,null,280]
[null,null,null,null,null,null,300,null,null,null,null,null,null,null,null,null,null,null,null,null,null,null,null,null,null,null,null,"2f5","2f5 + 1f8","2f5 + 1f10","2f5 + 1f12","2f5 + 2f10","2f5 + 1f10 + 1f12","2f5 + 2f12","2f5 + 1f12 + 1f14","2f5 + 2f14","2f5 + 1f14 + 1f16","2f5 + 2f16"]
[null,null,null,null,null,null,320,null,null,null,null,null,null,null,null,null,null,null,null,null,null,null,null,null,null,null,null,{"$f":"IF(AND(AB64<800000000,AB64=$AM$64),AB43,\"\")","v":""},{"$f":"IF(AND(AC64<800000000,AC64=$AM$64),AC43,\"\")","v":""},"","","","","","","","","",{"$f":"AB44&AC44&AD44&AE44&AF44&AG44&AH44&AI44&AJ44&AK44&AL44","v":""}]
[null,null,null,null,null,null,340]
["Altezza pignatta","Spessore soletta","Altezza solaio","Peso solaio","Volume cls getto in opera (l/mq)","Momenti ultimi riferiti ad una striscia di solaio larga 1,00 metro",null,null,null,null,null,null,null,null,null,null,null,null,"CALCOLO",null,{"$f":"IF(AND('SOLAI T2D SPA'!C2=\"Travetto_singolo\",'SOLAI T2D SPA'!C4=\"Travetto_14\",'SOLAI T2D SPA'!C5=\"Pignatta_38\"),1,0)","v":0},null,"Altezza pignatta","Spessore soletta","Altezza solaio","Peso solaio",null,"Momenti ultimi riferiti ad una striscia di solaio larga 1,00 metro"]
["[cm]","[cm]","[cm]","[daN/mq]","[l/mq]","[daNm]","[daNm]","[daNm]","[daNm]","[daNm]","[daNm]","[daNm]","[daNm]","[daNm]","[daNm]","[daNm]","[daN]",null,null,null,null,null,"[cm]","[cm]","[cm]","[daN/mq]",null,"[daNm]","[daNm]","[daNm]","[daNm]","[daNm]","[daNm]","[daNm]","[daNm]","[daNm]","[daNm]","[daNm]"]
[12,4,{"$f":"A48+B48","v":16},221,60.76,410.71153846153845,925.94230769230762,1209.75,1551.3076923076922,1976.6153846153843,2303.7692307692309,2625.3653846153848,2997.0769230769229,3359.8461538461534,3768.5192307692309,4165.038461538461,1728.8461538461538,null,{"$f":"\"MOM52\"&A48&B48","v":"MOM52124"},null,null,null,{"$f":"IF(AND($U$46=1,'SOLAI T2D SPA'!$C$6='ST BLOCCO 42'!A48),'ST BLOCCO 42'!A48,10000000000)","v":10000000000},{"$f":"IF(W48=10000000000,10000000000,IF('SOLAI T2D SPA'!$C$7='ST BLOCCO 42'!B48,'ST BLOCCO 42'!B48,10000000000))","v":10000000000},{"$f":"W48+X48","v":20000000000},{"$f":"IF(Y48>100000,10000000000,D48)","v":10000000000},null,{"$f":"IF($X$48=10000000000,10000000000,IF('SOLAI T2D SPA'!$C$20<='ST BLOCCO 42'!F48,'ST BLOCCO 42'!F48,10000000000))","v":10000000000},{"$f":"IF($X$48=10000000000,10000000000,IF('SOLAI T2D SPA'!$C$20<='ST BLOCCO 42'!G48,'ST BLOCCO 42'!G48,10000000000))","v":10000000000},{"$f":"IF($X$48=10000000000,10000000000,IF('SOLAI T2D SPA'!$C$20<='ST BLOCCO 42'!H48,'ST BLOCCO 42'!H48,10000000000))","v":10000000000},{"$f":"IF($X$48=10000000000,10000000000,IF('SOLAI T2D SPA'!$C$20<='ST BLOCCO 42'!I48,'ST BLOCCO 42'!I48,10000000000))","v":10000000000},{"$f":"IF($X$48=10000000000,10000000000,IF('SOLAI T2D SPA'!$C$20<='ST BLOCCO 42'!J48,'ST BLOCCO 42'!J48,10000000000))","v":10000000000},{"$f":"IF($X$48=10000000000,10000000000,IF('SOLAI T2D SPA'!$C$20<='ST BLOCCO 42'!K48,'ST BLOCCO 42'!K48,10000000000))","v":10000000000},{"$f":"IF($X$48=10000000000,10000000000,IF('SOLAI T2D SPA'!$C$20<='ST BLOCCO 42'!L48,'ST BLOCCO 42'!L48,10000000000))","v":10000000000},{"$f":"IF($X$48=10000000000,10000000000,IF('SOLAI T2D SPA'!$C$20<='ST BLOCCO 42'!M48,'ST BLOCCO 42'!M48,10000000000))","v":10000000000},{"$f":"IF($X$48=10000000000,10000000000,IF('SOLAI T2D SPA'!$C$20<='ST BLOCCO 42'!N48,'ST BLOCCO 42'!N48,10000000000))","v":10000000000},{"$f":"IF($X$48=10000000000,10000000000,IF('SOLAI T2D SPA'!$C$20<='ST BLOCCO 42'!O48,'ST BLOCCO 42'!O48,10000000000))","v":10000000000},{"$f":"IF($X$48=10000000000,10000000000,IF('SOLAI T2D SPA'!$C$20<='ST BLOCCO 42'!P48,'ST BLOCCO 42'!P48,10000000000))","v":10000000000},null,null,{"$f":"IF(X48=10000000000,10000000000,IF('SOLAI T2D SPA'!$C$7='ST BLOCCO 42'!B48,Q48,10000000000))","v":10000000000}]
[null,5,{"$f":"A48+B49","v":17},246,70.759999999999991,440.94230769230768,997.17307692307679,1305.4807692307693,1677.7307692307691,2144.0769230769233,2505.0576923076924,2861.3076923076924,3276.0192307692305,3683.5,4144.5769230769229,4597.4423076923076,1851.9230769230769,null,{"$f":"\"MOM52\"&A48&B49","v":"MOM52125"},null,null,null,null,{"$f":"IF(W48=10000000000,10000000000,IF('SOLAI T2D SPA'!$C$7='ST BLOCCO 42'!B49,'ST BLOCCO 42'!B49,10000000000))","v":10000000000},{"$f":"W48+X49","v":20000000000},{"$f":"IF(Y49>100000,10000000000,D49)","v":10000000000},null,{"$f":"IF($X$49=10000000000,10000000000,IF('SOLAI T2D SPA'!$C$20<='ST BLOCCO 42'!F49,'ST BLOCCO 42'!F49,10000000000))","v":10000000000},{"$f":"IF($X$49=10000000000,10000000000,IF('SOLAI T2D SPA'!$C$20<='ST BLOCCO 42'!G49,'ST BLOCCO 42'!G49,10000000000))","v":10000000000},{"$f":"IF($X$49=10000000000,10000000000,IF('SOLAI T2D SPA'!$C$20<='ST BLOCCO 42'!H49,'ST BLOCCO 42'!H49,10000000000))","v":10000000000},{"$f":"IF($X$49=10000000000,10000000000,IF('SOLAI T2D SPA'!$C$20<='ST BLOCCO 42'!I49,'ST BLOCCO 42'!I49,10000000000))","v":10000000000},{"$f":"IF($X$49=10000000000,10000000000,IF('SOLAI T2D SPA'!$C$20<='ST BLOCCO 42'!J49,'ST BLOCCO 42'!J49,10000000000))","v":10000000000},{"$f":"IF($X$49=10000000000,10000000000,IF('SOLAI T2D SPA'!$C$20<='ST BLOCCO 42'!K49,'ST BLOCCO 42'!K49,10000000000))","v":10000000000},{"$f":"IF($X$49=10000000000,10000000000,IF('SOLAI T2D SPA'!$C$20<='ST BLOCCO 42'!L49,'ST BLOCCO 42'!L49,10000000000))","v":10000000000},{"$f":"IF($X$49=10000000000,10000000000,IF('SOLAI T2D SPA'!$C$20<='ST BLOCCO 42'!M49,'ST BLOCCO 42'!M49,10000000000))","v":10000000000},{"$f":"IF($X$49=10000000000,10000000000,IF('SOLAI T2D SPA'!$C$20<='ST BLOCCO 42'!N49,'ST BLOCCO 42'!N49,10000000000))","v":10000000000},{"$f":"IF($X$49=10000000000,10000000000,IF('SOLAI T2D SPA'!$C$20<='ST BLOCCO 42'!O49,'ST BLOCCO 42'!O49,10000000000))","v":10000000000},{"$f":"IF($X$49=10000000000,10000000000,IF('SOLAI T2D SPA'!$C$20<='ST BLOCCO 42'!P49,'ST BLOCCO 42'!P49,10000000000))","v":10000000000},null,null,{"$f":"IF(X49=10000000000,10000000000,IF('SOLAI T2D SPA'!$C$7='ST BLOCCO 42'!B49,Q49,10000000000))","v":10000000000}]
[14,4,{"$f":"A50+B50","v":18},232,65.16,469.69230769230768,1060.7115384615386,1387.1730769230769,1780.6923076923076,2272.3846153846157,2651.4615384615386,3025.0192307692305,3458.1153846153848,3882.1538461538462,4361.7307692307686,4829.0192307692305,1975,null,{"$f":"\"MOM52\"&A50&B50","v":"MOM52144"},null,null,null,{"$f":"IF(AND($U$46=1,'SOLAI T2D SPA'!$C$6='ST BLOCCO 42'!A50),'ST BLOCCO 42'!A50,10000000000)","v":10000000000},{"$f":"IF(W50=10000000000,10000000000,IF('SOLAI T2D SPA'!$C$7='ST BLOCCO 42'!B50,'ST BLOCCO 42'!B50,10000000000))","v":10000000000},{"$f":"W50+X50","v":20000000000},10000000000,null,{"$f":"IF($X$50=10000000000,10000000000,IF('SOLAI T2D SPA'!$C$20<='ST BLOCCO 42'!F50,'ST BLOCCO 42'!F50,10000000000))","v":10000000000},{"$f":"IF($X$50=10000000000,10000000000,IF('SOLAI T2D SPA'!$C$20<='ST BLOCCO 42'!G50,'ST BLOCCO 42'!G50,10000000000))","v":10000000000},{"$f":"IF($X$50=10000000000,10000000000,IF('SOLAI T2D SPA'!$C$20<='ST BLOCCO 42'!H50,'ST BLOCCO 42'!H50,10000000000))","v":10000000000},{"$f":"IF($X$50=10000000000,10000000000,IF('SOLAI T2D SPA'!$C$20<='ST BLOCCO 42'!I50,'ST BLOCCO 42'!I50,10000000000))","v":10000000000},{"$f":"IF($X$50=10000000000,10000000000,IF('SOLAI T2D SPA'!$C$20<='ST BLOCCO 42'!J50,'ST BLOCCO 42'!J50,10000000000))","v":10000000000},{"$f":"IF($X$50=10000000000,10000000000,IF('SOLAI T2D SPA'!$C$20<='ST BLOCCO 42'!K50,'ST BLOCCO 42'!K50,10000000000))","v":10000000000},{"$f":"IF($X$50=10000000000,10000000000,IF('SOLAI T2D SPA'!$C$20<='ST BLOCCO 42'!L50,'ST BLOCCO 42'!L50,10000000000))","v":10000000000},{"$f":"IF($X$50=10000000000,10000000000,IF('SOLAI T2D SPA'!$C$20<='ST BLOCCO 42'!M50,'ST BLOCCO 42'!M50,10000000000))","v":10000000000},{"$f":"IF($X$50=10000000000,10000000000,IF('SOLAI T2D SPA'!$C$20<='ST BLOCCO 42'!N50,'ST BLOCCO 42'!N50,10000000000))","v":10000000000},{"$f":"IF($X$50=10000000000,10000000000,IF('SOLAI T2D SPA'!$C$20<='ST BLOCCO 42'!O50,'ST BLOCCO 42'!O50,10000000000))","v":10000000000},{"$f":"IF($X$50=10000000000,10000000000,IF('SOLAI T2D SPA'!$C$20<='ST BLOCCO 42'!P50,'ST BLOCCO 42'!P50,10000000000))","v":10000000000},null,null,{"$f":"IF(X50=10000000000,10000000000,IF('SOLAI T2D SPA'!$C$7='ST BLOCCO 42'!B50,Q50,10000000000))","v":10000000000}]
[null,5,{"$f":"A50+B51","v":19},257,75.16,499.82692307692309,1131.6730769230769,1482.7884615384614,1906.9807692307691,2439.6923076923076,2852.8653846153848,3260.7692307692305,3736.7307692307691,4205.2692307692305,4738.1923076923076,5262.0769230769229,2100,null,{"$f":"\"MOM52\"&A50&B51","v":"MOM52145"},null,null,null,null,{"$f":"IF(W50=10000000000,10000000000,IF('SOLAI T2D SPA'!$C$7='ST BLOCCO 42'!B51,'ST BLOCCO 42'!B51,10000000000))","v":10000000000},{"$f":"W50+X51","v":20000000000},10000000000,null,{"$f":"IF($X$51=10000000000,10000000000,IF('SOLAI T2D SPA'!$C$20<='ST BLOCCO 42'!F51,'ST BLOCCO 42'!F51,10000000000))","v":10000000000},{"$f":"IF($X$51=10000000000,10000000000,IF('SOLAI T2D SPA'!$C$20<='ST BLOCCO 42'!G51,'ST BLOCCO 42'!G51,10000000000))","v":10000000000},{"$f":"IF($X$51=10000000000,10000000000,IF('SOLAI T2D SPA'!$C$20<='ST BLOCCO 42'!H51,'ST BLOCCO 42'!H51,10000000000))","v":10000000000},{"$f":"IF($X$51=10000000000,10000000000,IF('SOLAI T2D SPA'!$C$20<='ST BLOCCO 42'!I51,'ST BLOCCO 42'!I51,10000000000))","v":10000000000},{"$f":"IF($X$51=10000000000,10000000000,IF('SOLAI T2D SPA'!$C$20<='ST BLOCCO 42'!J51,'ST BLOCCO 42'!J51,10000000000))","v":10000000000},{"$f":"IF($X$51=10000000000,10000000000,IF('SOLAI T2D SPA'!$C$20<='ST BLOCCO 42'!K51,'ST BLOCCO 42'!K51,10000000000))","v":10000000000},{"$f":"IF($X$51=10000000000,10000000000,IF('SOLAI T2D SPA'!$C$20<='ST BLOCCO 42'!L51,'ST BLOCCO 42'!L51,10000000000))","v":10000000000},{"$f":"IF($X$51=10000000000,10000000000,IF('SOLAI T2D SPA'!$C$20<='ST BLOCCO 42'!M51,'ST BLOCCO 42'!M51,10000000000))","v":10000000000},{"$f":"IF($X$51=10000000000,10000000000,IF('SOLAI T2D SPA'!$C$20<='ST BLOCCO 42'!N51,'ST BLOCCO 42'!N51,10000000000))","v":10000000000},{"$f":"IF($X$51=10000000000,10000000000,IF('SOLAI T2D SPA'!$C$20<='ST BLOCCO 42'!O51,'ST BLOCCO 42'!O51,10000000000))","v":10000000000},{"$f":"IF($X$51=10000000000,10000000000,IF('SOLAI T2D SPA'!$C$20<='ST BLOCCO 42'!P51,'ST BLOCCO 42'!P51,10000000000))","v":10000000000},null,null,{"$f":"IF(X51=10000000000,10000000000,IF('SOLAI T2D SPA'!$C$7='ST BLOCCO 42'!B51,Q51,10000000000))","v":10000000000}]
[16,4,{"$f":"A52+B52","v":20},255,66.44,528.69230769230774,1195.2115384615383,1564.4999999999998,2010.0192307692307,2567.8653846153843,2998.8653846153848,3424.4038461538462,3919.1538461538462,4404.7692307692305,4954.8269230769238,5493.5,2223.0769230769229,null,{"$f":"\"MOM52\"&A52&B52","v":"MOM52164"},null,null,null,{"$f":"IF(AND($U$46=1,'SOLAI T2D SPA'!$C$6='ST BLOCCO 42'!A52),'ST BLOCCO 42'!A52,10000000000)","v":10000000000},{"$f":"IF(W52=10000000000,10000000000,IF('SOLAI T2D SPA'!$C$7='ST BLOCCO 42'!B52,'ST BLOCCO 42'!B52,10000000000))","v":10000000000},{"$f":"W52+X52","v":20000000000},10000000000,null,{"$f":"IF($X$52=10000000000,10000000000,IF('SOLAI T2D SPA'!$C$20<='ST BLOCCO 42'!F52,'ST BLOCCO 42'!F52,10000000000))","v":10000000000},{"$f":"IF($X$52=10000000000,10000000000,IF('SOLAI T2D SPA'!$C$20<='ST BLOCCO 42'!G52,'ST BLOCCO 42'!G52,10000000000))","v":10000000000},{"$f":"IF($X$52=10000000000,10000000000,IF('SOLAI T2D SPA'!$C$20<='ST BLOCCO 42'!H52,'ST BLOCCO 42'!H52,10000000000))","v":10000000000},{"$f":"IF($X$52=10000000000,10000000000,IF('SOLAI T2D SPA'!$C$20<='ST BLOCCO 42'!I52,'ST BLOCCO 42'!I52,10000000000))","v":10000000000},{"$f":"IF($X$52=10000000000,10000000000,IF('SOLAI T2D SPA'!$C$20<='ST BLOCCO 42'!J52,'ST BLOCCO 42'!J52,10000000000))","v":10000000000},{"$f":"IF($X$52=10000000000,10000000000,IF('SOLAI T2D SPA'!$C$20<='ST BLOCCO 42'!K52,'ST BLOCCO 42'!K52,10000000000))","v":10000000000},{"$f":"IF($X$52=10000000000,10000000000,IF('SOLAI T2D SPA'!$C$20<='ST BLOCCO 42'!L52,'ST BLOCCO 42'!L52,10000000000))","v":10000000000},{"$f":"IF($X$52=10000000000,10000000000,IF('SOLAI T2D SPA'!$C$20<='ST BLOCCO 42'!M52,'ST BLOCCO 42'!M52,10000000000))","v":10000000000},{"$f":"IF($X$52=10000000000,10000000000,IF('SOLAI T2D SPA'!$C$20<='ST BLOCCO 42'!N52,'ST BLOCCO 42'!N52,10000000000))","v":10000000000},{"$f":"IF($X$52=10000000000,10000000000,IF('SOLAI T2D SPA'!$C$20<='ST BLOCCO 42'!O52,'ST BLOCCO 42'!O52,10000000000))","v":10000000000},{"$f":"IF($X$52=10000000000,10000000000,IF('SOLAI T2D SPA'!$C$20<='ST BLOCCO 42'!P52,'ST BLOCCO 42'!P52,10000000000))","v":10000000000},null,null,{"$f":"IF(X52=10000000000,10000000000,IF('SOLAI T2D SPA'!$C$7='ST BLOCCO 42'!B52,Q52,10000000000))","v":10000000000}]
[null,5,{"$f":"A52+B53","v":21},280,76.44,558.71153846153834,1266.3269230769231,1659.7692307692307,2136.3269230769233,2735.4230769230771,3200.0769230769229,3660.6923076923076,4197.9038461538457,4728.5192307692305,5331.3846153846152,5926.3076923076924,2346.1538461538462,null,{"$f":"\"MOM52\"&A52&B53","v":"MOM52165"},null,null,null,null,{"$f":"IF(W52=10000000000,10000000000,IF('SOLAI T2D SPA'!$C$7='ST BLOCCO 42'!B53,'ST BLOCCO 42'!B53,10000000000))","v":10000000000},{"$f":"W52+X53","v":20000000000},10000000000,null,{"$f":"IF($X$53=10000000000,10000000000,IF('SOLAI T2D SPA'!$C$20<='ST BLOCCO 42'!F53,'ST BLOCCO 42'!F53,10000000000))","v":10000000000},{"$f":"IF($X$53=10000000000,10000000000,IF('SOLAI T2D SPA'!$C$20<='ST BLOCCO 42'!G53,'ST BLOCCO 42'!G53,10000000000))","v":10000000000},{"$f":"IF($X$53=10000000000,10000000000,IF('SOLAI T2D SPA'!$C$20<='ST BLOCCO 42'!H53,'ST BLOCCO 42'!H53,10000000000))","v":10000000000},{"$f":"IF($X$53=10000000000,10000000000,IF('SOLAI T2D SPA'!$C$20<='ST BLOCCO 42'!I53,'ST BLOCCO 42'!I53,10000000000))","v":10000000000},{"$f":"IF($X$53=10000000000,10000000000,IF('SOLAI T2D SPA'!$C$20<='ST BLOCCO 42'!J53,'ST BLOCCO 42'!J53,10000000000))","v":10000000000},{"$f":"IF($X$53=10000000000,10000000000,IF('SOLAI T2D SPA'!$C$20<='ST BLOCCO 42'!K53,'ST BLOCCO 42'!K53,10000000000))","v":10000000000},{"$f":"IF($X$53=10000000000,10000000000,IF('SOLAI T2D SPA'!$C$20<='ST BLOCCO 42'!L53,'ST BLOCCO 42'!L53,10000000000))","v":10000000000},{"$f":"IF($X$53=10000000000,10000000000,IF('SOLAI T2D SPA'!$C$20<='ST BLOCCO 42'!M53,'ST BLOCCO 42'!M53,10000000000))","v":10000000000},{"$f":"IF($X$53=10000000000,10000000000,IF('SOLAI T2D SPA'!$C$20<='ST BLOCCO 42'!N53,'ST BLOCCO 42'!N53,10000000000))","v":10000000000},{"$f":"IF($X$53=10000000000,10000000000,IF('SOLAI T2D SPA'!$C$20<='ST BLOCCO 42'!O53,'ST BLOCCO 42'!O53,10000000000))","v":10000000000},{"$f":"IF($X$53=10000000000,10000000000,IF('SOLAI T2D SPA'!$C$20<='ST BLOCCO 42'!P53,'ST BLOCCO 42'!P53,10000000000))","v":10000000000},null,null,{"$f":"IF(X53=10000000000,10000000000,IF('SOLAI T2D SPA'!$C$7='ST BLOCCO 42'!B53,Q53,10000000000))","v":10000000000}]
[18,4,{"$f":"A54+B54","v":22},270,71.88,587.61538461538464,1329.6346153846152,1741.6346153846152,2239.1346153846152,2862.9807692307691,3346.4230769230771,3823.8076923076924,4380.1923076923076,4927.3653846153848,5547.9230769230771,6158.25,2469.2307692307691,null,{"$f":"\"MOM52\"&A54&B54","v":"MOM52184"},null,null,null,{"$f":"IF(AND($U$46=1,'SOLAI T2D SPA'!$C$6='ST BLOCCO 42'!A54),'ST BLOCCO 42'!A54,10000000000)","v":10000000000},{"$f":"IF(W54=10000000000,10000000000,IF('SOLAI T2D SPA'!$C$7='ST BLOCCO 42'!B54,'ST BLOCCO 42'!B54,10000000000))","v":10000000000},{"$f":"W54+X54","v":20000000000},10000000000,null,{"$f":"IF($X$54=10000000000,10000000000,IF('SOLAI T2D SPA'!$C$20<='ST BLOCCO 42'!F54,'ST BLOCCO 42'!F54,10000000000))","v":10000000000},{"$f":"IF($X$54=10000000000,10000000000,IF('SOLAI T2D SPA'!$C$20<='ST BLOCCO 42'!G54,'ST BLOCCO 42'!G54,10000000000))","v":10000000000},{"$f":"IF($X$54=10000000000,10000000000,IF('SOLAI T2D SPA'!$C$20<='ST BLOCCO 42'!H54,'ST BLOCCO 42'!H54,10000000000))","v":10000000000},{"$f":"IF($X$54=10000000000,10000000000,IF('SOLAI T2D SPA'!$C$20<='ST BLOCCO 42'!I54,'ST BLOCCO 42'!I54,10000000000))","v":10000000000},{"$f":"IF($X$54=10000000000,10000000000,IF('SOLAI T2D SPA'!$C$20<='ST BLOCCO 42'!J54,'ST BLOCCO 42'!J54,10000000000))","v":10000000000},{"$f":"IF($X$54=10000000000,10000000000,IF('SOLAI T2D SPA'!$C$20<='ST BLOCCO 42'!K54,'ST BLOCCO 42'!K54,10000000000))","v":10000000000},{"$f":"IF($X$54=10000000000,10000000000,IF('SOLAI T2D SPA'!$C$20<='ST BLOCCO 42'!L54,'ST BLOCCO 42'!L54,10000000000))","v":10000000000},{"$f":"IF($X$54=10000000000,10000000000,IF('SOLAI T2D SPA'!$C$20<='ST BLOCCO 42'!M54,'ST BLOCCO 42'!M54,10000000000))","v":10000000000},{"$f":"IF($X$54=10000000000,10000000000,IF('SOLAI T2D SPA'!$C$20<='ST BLOCCO 42'!N54,'ST BLOCCO 42'!N54,10000000000))","v":10000000000},{"$f":"IF($X$54=10000000000,10000000000,IF('SOLAI T2D SPA'!$C$20<='ST BLOCCO 42'!O54,'ST BLOCCO 42'!O54,10000000000))","v":10000000000},{"$f":"IF($X$54=10000000000,10000000000,IF('SOLAI T2D SPA'!$C$20<='ST BLOCCO 42'!P54,'ST BLOCCO 42'!P54,10000000000))","v":10000000000},null,null,{"$f":"IF(X54=10000000000,10000000000,IF('SOLAI T2D SPA'!$C$7='ST BLOCCO 42'!B54,Q54,10000000000))","v":10000000000}]
[null,5,{"$f":"A54+B55","v":23},295,81.88,617.65384615384619,1400.6538461538462,1836.8653846153845,2365.3461538461538,3030.6730769230771,3547.7692307692305,4059.8076923076919,4658.5961538461534,5250.9038461538457,5925.038461538461,6589.9807692307686,2546.1538461538462,null,{"$f":"\"MOM52\"&A54&B55","v":"MOM52185"},null,null,null,null,{"$f":"IF(W54=10000000000,10000000000,IF('SOLAI T2D SPA'!$C$7='ST BLOCCO 42'!B55,'ST BLOCCO 42'!B55,10000000000))","v":10000000000},{"$f":"W54+X55","v":20000000000},10000000000,null,{"$f":"IF($X$55=10000000000,10000000000,IF('SOLAI T2D SPA'!$C$20<='ST BLOCCO 42'!F55,'ST BLOCCO 42'!F55,10000000000))","v":10000000000},{"$f":"IF($X$55=10000000000,10000000000,IF('SOLAI T2D SPA'!$C$20<='ST BLOCCO 42'!G55,'ST BLOCCO 42'!G55,10000000000))","v":10000000000},{"$f":"IF($X$55=10000000000,10000000000,IF('SOLAI T2D SPA'!$C$20<='ST BLOCCO 42'!H55,'ST BLOCCO 42'!H55,10000000000))","v":10000000000},{"$f":"IF($X$55=10000000000,10000000000,IF('SOLAI T2D SPA'!$C$20<='ST BLOCCO 42'!I55,'ST BLOCCO 42'!I55,10000000000))","v":10000000000},{"$f":"IF($X$55=10000000000,10000000000,IF('SOLAI T2D SPA'!$C$20<='ST BLOCCO 42'!J55,'ST BLOCCO 42'!J55,10000000000))","v":10000000000},{"$f":"IF($X$55=10000000000,10000000000,IF('SOLAI T2D SPA'!$C$20<='ST BLOCCO 42'!K55,'ST BLOCCO 42'!K55,10000000000))","v":10000000000},{"$f":"IF($X$55=10000000000,10000000000,IF('SOLAI T2D SPA'!$C$20<='ST BLOCCO 42'!L55,'ST BLOCCO 42'!L55,10000000000))","v":10000000000},{"$f":"IF($X$55=10000000000,10000000000,IF('SOLAI T2D SPA'!$C$20<='ST BLOCCO 42'!M55,'ST BLOCCO 42'!M55,10000000000))","v":10000000000},{"$f":"IF($X$55=10000000000,10000000000,IF('SOLAI T2D SPA'!$C$20<='ST BLOCCO 42'!N55,'ST BLOCCO 42'!N55,10000000000))","v":10000000000},{"$f":"IF($X$55=10000000000,10000000000,IF('SOLAI T2D SPA'!$C$20<='ST BLOCCO 42'!O55,'ST BLOCCO 42'!O55,10000000000))","v":10000000000},{"$f":"IF($X$55=10000000000,10000000000,IF('SOLAI T2D SPA'!$C$20<='ST BLOCCO 42'!P55,'ST BLOCCO 42'!P55,10000000000))","v":10000000000},null,null,{"$f":"IF(X55=10000000000,10000000000,IF('SOLAI T2D SPA'!$C$7='ST BLOCCO 42'!B55,Q55,10000000000))","v":10000000000}]
[20,4,{"$f":"A56+B56","v":24},286,76.28,646.5,1464.2307692307691,1918.6346153846155,2468.4807692307691,3158.6538461538462,3694.0384615384614,4223.3076923076924,4840.5576923076924,5450.038461538461,6141.3653846153848,6821.8653846153838,2623.0769230769229,null,{"$f":"\"MOM52\"&A56&B56","v":"MOM52204"},null,null,null,{"$f":"IF(AND($U$46=1,'SOLAI T2D SPA'!$C$6='ST BLOCCO 42'!A56),'ST BLOCCO 42'!A56,10000000000)","v":10000000000},{"$f":"IF(W56=10000000000,10000000000,IF('SOLAI T2D SPA'!$C$7='ST BLOCCO 42'!B56,'ST BLOCCO 42'!B56,10000000000))","v":10000000000},{"$f":"W56+X56","v":20000000000},10000000000,null,{"$f":"IF($X$56=10000000000,10000000000,IF('SOLAI T2D SPA'!$C$20<='ST BLOCCO 42'!F56,'ST BLOCCO 42'!F56,10000000000))","v":10000000000},{"$f":"IF($X$56=10000000000,10000000000,IF('SOLAI T2D SPA'!$C$20<='ST BLOCCO 42'!G56,'ST BLOCCO 42'!G56,10000000000))","v":10000000000},{"$f":"IF($X$56=10000000000,10000000000,IF('SOLAI T2D SPA'!$C$20<='ST BLOCCO 42'!H56,'ST BLOCCO 42'!H56,10000000000))","v":10000000000},{"$f":"IF($X$56=10000000000,10000000000,IF('SOLAI T2D SPA'!$C$20<='ST BLOCCO 42'!I56,'ST BLOCCO 42'!I56,10000000000))","v":10000000000},{"$f":"IF($X$56=10000000000,10000000000,IF('SOLAI T2D SPA'!$C$20<='ST BLOCCO 42'!J56,'ST BLOCCO 42'!J56,10000000000))","v":10000000000},{"$f":"IF($X$56=10000000000,10000000000,IF('SOLAI T2D SPA'!$C$20<='ST BLOCCO 42'!K56,'ST BLOCCO 42'!K56,10000000000))","v":10000000000},{"$f":"IF($X$56=10000000000,10000000000,IF('SOLAI T2D SPA'!$C$20<='ST BLOCCO 42'!L56,'ST BLOCCO 42'!L56,10000000000))","v":10000000000},{"$f":"IF($X$56=10000000000,10000000000,IF('SOLAI T2D SPA'!$C$20<='ST BLOCCO 42'!M56,'ST BLOCCO 42'!M56,10000000000))","v":10000000000},{"$f":"IF($X$56=10000000000,10000000000,IF('SOLAI T2D SPA'!$C$20<='ST BLOCCO 42'!N56,'ST BLOCCO 42'!N56,10000000000))","v":10000000000},{"$f":"IF($X$56=10000000000,10000000000,IF('SOLAI T2D SPA'!$C$20<='ST BLOCCO 42'!O56,'ST BLOCCO 42'!O56,10000000000))","v":10000000000},{"$f":"IF($X$56=10000000000,10000000000,IF('SOLAI T2D SPA'!$C$20<='ST BLOCCO 42'!P56,'ST BLOCCO 42'!P56,10000000000))","v":10000000000},null,null,{"$f":"IF(X56=10000000000,10000000000,IF('SOLAI T2D SPA'!$C$7='ST BLOCCO 42'!B56,Q56,10000000000))","v":10000000000}]
[null,5,{"$f":"A56+B57","v":25},311,86.28,676.61538461538453,1535.0576923076924,2013.8846153846155,2594.5384615384614,3326.2115384615386,3895.3846153846152,4459.4807692307686,5119.5,5772.9038461538457,6518.4038461538466,7254.8269230769229,2698.0769230769229,null,{"$f":"\"MOM52\"&A56&B57","v":"MOM52205"},null,null,null,null,{"$f":"IF(W56=10000000000,10000000000,IF('SOLAI T2D SPA'!$C$7='ST BLOCCO 42'!B57,'ST BLOCCO 42'!B57,10000000000))","v":10000000000},{"$f":"W56+X57","v":20000000000},10000000000,null,{"$f":"IF($X$57=10000000000,10000000000,IF('SOLAI T2D SPA'!$C$20<='ST BLOCCO 42'!F57,'ST BLOCCO 42'!F57,10000000000))","v":10000000000},{"$f":"IF($X$57=10000000000,10000000000,IF('SOLAI T2D SPA'!$C$20<='ST BLOCCO 42'!G57,'ST BLOCCO 42'!G57,10000000000))","v":10000000000},{"$f":"IF($X$57=10000000000,10000000000,IF('SOLAI T2D SPA'!$C$20<='ST BLOCCO 42'!H57,'ST BLOCCO 42'!H57,10000000000))","v":10000000000},{"$f":"IF($X$57=10000000000,10000000000,IF('SOLAI T2D SPA'!$C$20<='ST BLOCCO 42'!I57,'ST BLOCCO 42'!I57,10000000000))","v":10000000000},{"$f":"IF($X$57=10000000000,10000000000,IF('SOLAI T2D SPA'!$C$20<='ST BLOCCO 42'!J57,'ST BLOCCO 42'!J57,10000000000))","v":10000000000},{"$f":"IF($X$57=10000000000,10000000000,IF('SOLAI T2D SPA'!$C$20<='ST BLOCCO 42'!K57,'ST BLOCCO 42'!K57,10000000000))","v":10000000000},{"$f":"IF($X$57=10000000000,10000000000,IF('SOLAI T2D SPA'!$C$20<='ST BLOCCO 42'!L57,'ST BLOCCO 42'!L57,10000000000))","v":10000000000},{"$f":"IF($X$57=10000000000,10000000000,IF('SOLAI T2D SPA'!$C$20<='ST BLOCCO 42'!M57,'ST BLOCCO 42'!M57,10000000000))","v":10000000000},{"$f":"IF($X$57=10000000000,10000000000,IF('SOLAI T2D SPA'!$C$20<='ST BLOCCO 42'!N57,'ST BLOCCO 42'!N57,10000000000))","v":10000000000},{"$f":"IF($X$57=10000000000,10000000000,IF('SOLAI T2D SPA'!$C$20<='ST BLOCCO 42'!O57,'ST BLOCCO 42'!O57,10000000000))","v":10000000000},{"$f":"IF($X$57=10000000000,10000000000,IF('SOLAI T2D SPA'!$C$20<='ST BLOCCO 42'!P57,'ST BLOCCO 42'!P57,10000000000))","v":10000000000},null,null,{"$f":"IF(X57=10000000000,10000000000,IF('SOLAI T2D SPA'!$C$7='ST BLOCCO 42'!B57,Q57,10000000000))","v":10000000000}]
[22,4,{"$f":"A58+B58","v":26},304,81.72,705.44230769230762,1598.7307692307693,2095.6538461538462,2697.9038461538462,3454.1153846153848,4041.75,4622.8461538461543,5301.9807692307695,5972.2692307692305,6735.1153846153848,7486.5961538461534,2773.0769230769229,null,{"$f":"\"MOM52\"&A58&B58","v":"MOM52224"},null,null,null,{"$f":"IF(AND($U$46=1,'SOLAI T2D SPA'!$C$6='ST BLOCCO 42'!A58),'ST BLOCCO 42'!A58,10000000000)","v":10000000000},{"$f":"IF(W58=10000000000,10000000000,IF('SOLAI T2D SPA'!$C$7='ST BLOCCO 42'!B58,'ST BLOCCO 42'!B58,10000000000))","v":10000000000},{"$f":"W58+X58","v":20000000000},10000000000,null,{"$f":"IF($X$58=10000000000,10000000000,IF('SOLAI T2D SPA'!$C$20<='ST BLOCCO 42'!F58,'ST BLOCCO 42'!F58,10000000000))","v":10000000000},{"$f":"IF($X$58=10000000000,10000000000,IF('SOLAI T2D SPA'!$C$20<='ST BLOCCO 42'!G58,'ST BLOCCO 42'!G58,10000000000))","v":10000000000},{"$f":"IF($X$58=10000000000,10000000000,IF('SOLAI T2D SPA'!$C$20<='ST BLOCCO 42'!H58,'ST BLOCCO 42'!H58,10000000000))","v":10000000000},{"$f":"IF($X$58=10000000000,10000000000,IF('SOLAI T2D SPA'!$C$20<='ST BLOCCO 42'!I58,'ST BLOCCO 42'!I58,10000000000))","v":10000000000},{"$f":"IF($X$58=10000000000,10000000000,IF('SOLAI T2D SPA'!$C$20<='ST BLOCCO 42'!J58,'ST BLOCCO 42'!J58,10000000000))","v":10000000000},{"$f":"IF($X$58=10000000000,10000000000,IF('SOLAI T2D SPA'!$C$20<='ST BLOCCO 42'!K58,'ST BLOCCO 42'!K58,10000000000))","v":10000000000},{"$f":"IF($X$58=10000000000,10000000000,IF('SOLAI T2D SPA'!$C$20<='ST BLOCCO 42'!L58,'ST BLOCCO 42'!L58,10000000000))","v":10000000000},{"$f":"IF($X$58=10000000000,10000000000,IF('SOLAI T2D SPA'!$C$20<='ST BLOCCO 42'!M58,'ST BLOCCO 42'!M58,10000000000))","v":10000000000},{"$f":"IF($X$58=10000000000,10000000000,IF('SOLAI T2D SPA'!$C$20<='ST BLOCCO 42'!N58,'ST BLOCCO 42'!N58,10000000000))","v":10000000000},{"$f":"IF($X$58=10000000000,10000000000,IF('SOLAI T2D SPA'!$C$20<='ST BLOCCO 42'!O58,'ST BLOCCO 42'!O58,10000000000))","v":10000000000},{"$f":"IF($X$58=10000000000,10000000000,IF('SOLAI T2D SPA'!$C$20<='ST BLOCCO 42'!P58,'ST BLOCCO 42'!P58,10000000000))","v":10000000000},null,null,{"$f":"IF(X58=10000000000,10000000000,IF('SOLAI T2D SPA'!$C$7='ST BLOCCO 42'!B58,Q58,10000000000))","v":10000000000}]
[null,5,{"$f":"A58+B59","v":27},329,91.719999999999985,735.63461538461536,1669.5192307692307,2190.9423076923076,2823.4230769230771,3621.9230769230771,4243.0192307692305,4858.9807692307695,5580.5576923076915,6295.5576923076924,7111.6923076923076,7918.6730769230762,2846.1538461538462,null,{"$f":"\"MOM52\"&A58&B59","v":"MOM52225"},null,null,null,null,{"$f":"IF(W58=10000000000,10000000000,IF('SOLAI T2D SPA'!$C$7='ST BLOCCO 42'!B59,'ST BLOCCO 42'!B59,10000000000))","v":10000000000},{"$f":"W58+X59","v":20000000000},10000000000,null,{"$f":"IF($X$59=10000000000,10000000000,IF('SOLAI T2D SPA'!$C$20<='ST BLOCCO 42'!F59,'ST BLOCCO 42'!F59,10000000000))","v":10000000000},{"$f":"IF($X$59=10000000000,10000000000,IF('SOLAI T2D SPA'!$C$20<='ST BLOCCO 42'!G59,'ST BLOCCO 42'!G59,10000000000))","v":10000000000},{"$f":"IF($X$59=10000000000,10000000000,IF('SOLAI T2D SPA'!$C$20<='ST BLOCCO 42'!H59,'ST BLOCCO 42'!H59,10000000000))","v":10000000000},{"$f":"IF($X$59=10000000000,10000000000,IF('SOLAI T2D SPA'!$C$20<='ST BLOCCO 42'!I59,'ST BLOCCO 42'!I59,10000000000))","v":10000000000},{"$f":"IF($X$59=10000000000,10000000000,IF('SOLAI T2D SPA'!$C$20<='ST BLOCCO 42'!J59,'ST BLOCCO 42'!J59,10000000000))","v":10000000000},{"$f":"IF($X$59=10000000000,10000000000,IF('SOLAI T2D SPA'!$C$20<='ST BLOCCO 42'!K59,'ST BLOCCO 42'!K59,10000000000))","v":10000000000},{"$f":"IF($X$59=10000000000,10000000000,IF('SOLAI T2D SPA'!$C$20<='ST BLOCCO 42'!L59,'ST BLOCCO 42'!L59,10000000000))","v":10000000000},{"$f":"IF($X$59=10000000000,10000000000,IF('SOLAI T2D SPA'!$C$20<='ST BLOCCO 42'!M59,'ST BLOCCO 42'!M59,10000000000))","v":10000000000},{"$f":"IF($X$59=10000000000,10000000000,IF('SOLAI T2D SPA'!$C$20<='ST BLOCCO 42'!N59,'ST BLOCCO 42'!N59,10000000000))","v":10000000000},{"$f":"IF($X$59=10000000000,10000000000,IF('SOLAI T2D SPA'!$C$20<='ST BLOCCO 42'!O59,'ST BLOCCO 42'!O59,10000000000))","v":10000000000},{"$f":"IF($X$59=10000000000,10000000000,IF('SOLAI T2D SPA'!$C$20<='ST BLOCCO 42'!P59,'ST BLOCCO 42'!P59,10000000000))","v":10000000000},null,null,{"$f":"IF(X59=10000000000,10000000000,IF('SOLAI T2D SPA'!$C$7='ST BLOCCO 42'!B59,Q59,10000000000))","v":10000000000}]
[24,4,{"$f":"A60+B60","v":28},321,85.08,764.38461538461536,1733.3076923076924,2272.8846153846157,2927,3749.8461538461538,4389.2115384615381,5022.4423076923076,5762.8076923076915,6494.8846153846152,7328.6346153846152,8150.9807692307686,2919.2307692307691,null,{"$f":"\"MOM52\"&A60&B60","v":"MOM52244"},null,null,null,{"$f":"IF(AND($U$46=1,'SOLAI T2D SPA'!$C$6='ST BLOCCO 42'!A60),'ST BLOCCO 42'!A60,10000000000)","v":10000000000},{"$f":"IF(W60=10000000000,10000000000,IF('SOLAI T2D SPA'!$C$7='ST BLOCCO 42'!B60,'ST BLOCCO 42'!B60,10000000000))","v":10000000000},{"$f":"W60+X60","v":20000000000},10000000000,null,{"$f":"IF($X$60=10000000000,10000000000,IF('SOLAI T2D SPA'!$C$20<='ST BLOCCO 42'!F60,'ST BLOCCO 42'!F60,10000000000))","v":10000000000},{"$f":"IF($X$60=10000000000,10000000000,IF('SOLAI T2D SPA'!$C$20<='ST BLOCCO 42'!G60,'ST BLOCCO 42'!G60,10000000000))","v":10000000000},{"$f":"IF($X$60=10000000000,10000000000,IF('SOLAI T2D SPA'!$C$20<='ST BLOCCO 42'!H60,'ST BLOCCO 42'!H60,10000000000))","v":10000000000},{"$f":"IF($X$60=10000000000,10000000000,IF('SOLAI T2D SPA'!$C$20<='ST BLOCCO 42'!I60,'ST BLOCCO 42'!I60,10000000000))","v":10000000000},{"$f":"IF($X$60=10000000000,10000000000,IF('SOLAI T2D SPA'!$C$20<='ST BLOCCO 42'!J60,'ST BLOCCO 42'!J60,10000000000))","v":10000000000},{"$f":"IF($X$60=10000000000,10000000000,IF('SOLAI T2D SPA'!$C$20<='ST BLOCCO 42'!K60,'ST BLOCCO 42'!K60,10000000000))","v":10000000000},{"$f":"IF($X$60=10000000000,10000000000,IF('SOLAI T2D SPA'!$C$20<='ST BLOCCO 42'!L60,'ST BLOCCO 42'!L60,10000000000))","v":10000000000},{"$f":"IF($X$60=10000000000,10000000000,IF('SOLAI T2D SPA'!$C$20<='ST BLOCCO 42'!M60,'ST BLOCCO 42'!M60,10000000000))","v":10000000000},{"$f":"IF($X$60=10000000000,10000000000,IF('SOLAI T2D SPA'!$C$20<='ST BLOCCO 42'!N60,'ST BLOCCO 42'!N60,10000000000))","v":10000000000},{"$f":"IF($X$60=10000000000,10000000000,IF('SOLAI T2D SPA'!$C$20<='ST BLOCCO 42'!O60,'ST BLOCCO 42'!O60,10000000000))","v":10000000000},{"$f":"IF($X$60=10000000000,10000000000,IF('SOLAI T2D SPA'!$C$20<='ST BLOCCO 42'!P60,'ST BLOCCO 42'!P60,10000000000))","v":10000000000},null,null,{"$f":"IF(X60=10000000000,10000000000,IF('SOLAI T2D SPA'!$C$7='ST BLOCCO 42'!B60,Q60,10000000000))","v":10000000000}]
[null,5,{"$f":"A60+B61","v":29},346,95.08,794.59615384615381,1804,2367.8269230769229,3052.5384615384614,3917.0769230769233,4590.2115384615381,5258.2692307692305,6041.7115384615381,6818,7705.25,8583.3846153846152,2992.3076923076924,null,{"$f":"\"MOM52\"&A60&B61","v":"MOM52245"},null,null,null,null,{"$f":"IF(W60=10000000000,10000000000,IF('SOLAI T2D SPA'!$C$7='ST BLOCCO 42'!B61,'ST BLOCCO 42'!B61,10000000000))","v":10000000000},{"$f":"W60+X61","v":20000000000},10000000000,null,{"$f":"IF($X$61=10000000000,10000000000,IF('SOLAI T2D SPA'!$C$20<='ST BLOCCO 42'!F61,'ST BLOCCO 42'!F61,10000000000))","v":10000000000},{"$f":"IF($X$61=10000000000,10000000000,IF('SOLAI T2D SPA'!$C$20<='ST BLOCCO 42'!G61,'ST BLOCCO 42'!G61,10000000000))","v":10000000000},{"$f":"IF($X$61=10000000000,10000000000,IF('SOLAI T2D SPA'!$C$20<='ST BLOCCO 42'!H61,'ST BLOCCO 42'!H61,10000000000))","v":10000000000},{"$f":"IF($X$61=10000000000,10000000000,IF('SOLAI T2D SPA'!$C$20<='ST BLOCCO 42'!I61,'ST BLOCCO 42'!I61,10000000000))","v":10000000000},{"$f":"IF($X$61=10000000000,10000000000,IF('SOLAI T2D SPA'!$C$20<='ST BLOCCO 42'!J61,'ST BLOCCO 42'!J61,10000000000))","v":10000000000},{"$f":"IF($X$61=10000000000,10000000000,IF('SOLAI T2D SPA'!$C$20<='ST BLOCCO 42'!K61,'ST BLOCCO 42'!K61,10000000000))","v":10000000000},{"$f":"IF($X$61=10000000000,10000000000,IF('SOLAI T2D SPA'!$C$20<='ST BLOCCO 42'!L61,'ST BLOCCO 42'!L61,10000000000))","v":10000000000},{"$f":"IF($X$61=10000000000,10000000000,IF('SOLAI T2D SPA'!$C$20<='ST BLOCCO 42'!M61,'ST BLOCCO 42'!M61,10000000000))","v":10000000000},{"$f":"IF($X$61=10000000000,10000000000,IF('SOLAI T2D SPA'!$C$20<='ST BLOCCO 42'!N61,'ST BLOCCO 42'!N61,10000000000))","v":10000000000},{"$f":"IF($X$61=10000000000,10000000000,IF('SOLAI T2D SPA'!$C$20<='ST BLOCCO 42'!O61,'ST BLOCCO 42'!O61,10000000000))","v":10000000000},{"$f":"IF($X$61=10000000000,10000000000,IF('SOLAI T2D SPA'!$C$20<='ST BLOCCO 42'!P61,'ST BLOCCO 42'!P61,10000000000))","v":10000000000},null,null,{"$f":"IF(X61=10000000000,10000000000,IF('SOLAI T2D SPA'!$C$7='ST BLOCCO 42'!B61,Q61,10000000000))","v":10000000000}]
[30,4,{"$f":"A62+B62","v":34},369,99.32,941.40384615384608,2136.4807692307691,2803.6538461538462,3613.8076923076924,4636.1730769230762,5431.5961538461534,6221.211538461539,7146.038461538461,8061.7884615384619,9108.7307692307695,10143.403846153846,3348.0769230769229,null,{"$f":"\"MOM52\"&A62&B62","v":"MOM52304"},null,null,null,{"$f":"IF(AND($U$46=1,'SOLAI T2D SPA'!$C$6='ST BLOCCO 42'!A62),'ST BLOCCO 42'!A62,10000000000)","v":10000000000},{"$f":"IF(W62=10000000000,10000000000,IF('SOLAI T2D SPA'!$C$7='ST BLOCCO 42'!B62,'ST BLOCCO 42'!B62,10000000000))","v":10000000000},{"$f":"W62+X62","v":20000000000},10000000000,null,{"$f":"IF($X$62=10000000000,10000000000,IF('SOLAI T2D SPA'!$C$20<='ST BLOCCO 42'!F62,'ST BLOCCO 42'!F62,10000000000))","v":10000000000},{"$f":"IF($X$62=10000000000,10000000000,IF('SOLAI T2D SPA'!$C$20<='ST BLOCCO 42'!G62,'ST BLOCCO 42'!G62,10000000000))","v":10000000000},{"$f":"IF($X$62=10000000000,10000000000,IF('SOLAI T2D SPA'!$C$20<='ST BLOCCO 42'!H62,'ST BLOCCO 42'!H62,10000000000))","v":10000000000},{"$f":"IF($X$62=10000000000,10000000000,IF('SOLAI T2D SPA'!$C$20<='ST BLOCCO 42'!I62,'ST BLOCCO 42'!I62,10000000000))","v":10000000000},{"$f":"IF($X$62=10000000000,10000000000,IF('SOLAI T2D SPA'!$C$20<='ST BLOCCO 42'!J62,'ST BLOCCO 42'!J62,10000000000))","v":10000000000},{"$f":"IF($X$62=10000000000,10000000000,IF('SOLAI T2D SPA'!$C$20<='ST BLOCCO 42'!K62,'ST BLOCCO 42'!K62,10000000000))","v":10000000000},{"$f":"IF($X$62=10000000000,10000000000,IF('SOLAI T2D SPA'!$C$20<='ST BLOCCO 42'!L62,'ST BLOCCO 42'!L62,10000000000))","v":10000000000},{"$f":"IF($X$62=10000000000,10000000000,IF('SOLAI T2D SPA'!$C$20<='ST BLOCCO 42'!M62,'ST BLOCCO 42'!M62,10000000000))","v":10000000000},{"$f":"IF($X$62=10000000000,10000000000,IF('SOLAI T2D SPA'!$C$20<='ST BLOCCO 42'!N62,'ST BLOCCO 42'!N62,10000000000))","v":10000000000},{"$f":"IF($X$62=10000000000,10000000000,IF('SOLAI T2D SPA'!$C$20<='ST BLOCCO 42'!O62,'ST BLOCCO 42'!O62,10000000000))","v":10000000000},{"$f":"IF($X$62=10000000000,10000000000,IF('SOLAI T2D SPA'!$C$20<='ST BLOCCO 42'!P62,'ST BLOCCO 42'!P62,10000000000))","v":10000000000},null,null,{"$f":"IF(X62=10000000000,10000000000,IF('SOLAI T2D SPA'!$C$7='ST BLOCCO 42'!B62,Q62,10000000000))","v":10000000000}]
[null,5,{"$f":"A62+B63","v":35},394,109.31999999999998,971.5,2207.0576923076924,2898.5,3739.3461538461538,4802.5192307692305,5632.2307692307695,6457.0576923076924,7424.7499999999991,8385.038461538461,9485.4807692307677,10575.76923076923,3417.3076923076924,null,{"$f":"\"MOM52\"&A62&B63","v":"MOM52305"},null,null,null,null,{"$f":"IF(W62=10000000000,10000000000,IF('SOLAI T2D SPA'!$C$7='ST BLOCCO 42'!B63,'ST BLOCCO 42'!B63,10000000000))","v":10000000000},{"$f":"W62+X63","v":20000000000},10000000000,null,{"$f":"IF($X$63=10000000000,10000000000,IF('SOLAI T2D SPA'!$C$20<='ST BLOCCO 42'!F63,'ST BLOCCO 42'!F63,10000000000))","v":10000000000},{"$f":"IF($X$63=10000000000,10000000000,IF('SOLAI T2D SPA'!$C$20<='ST BLOCCO 42'!G63,'ST BLOCCO 42'!G63,10000000000))","v":10000000000},{"$f":"IF($X$63=10000000000,10000000000,IF('SOLAI T2D SPA'!$C$20<='ST BLOCCO 42'!H63,'ST BLOCCO 42'!H63,10000000000))","v":10000000000},{"$f":"IF($X$63=10000000000,10000000000,IF('SOLAI T2D SPA'!$C$20<='ST BLOCCO 42'!I63,'ST BLOCCO 42'!I63,10000000000))","v":10000000000},{"$f":"IF($X$63=10000000000,10000000000,IF('SOLAI T2D SPA'!$C$20<='ST BLOCCO 42'!J63,'ST BLOCCO 42'!J63,10000000000))","v":10000000000},{"$f":"IF($X$63=10000000000,10000000000,IF('SOLAI T2D SPA'!$C$20<='ST BLOCCO 42'!K63,'ST BLOCCO 42'!K63,10000000000))","v":10000000000},{"$f":"IF($X$63=10000000000,10000000000,IF('SOLAI T2D SPA'!$C$20<='ST BLOCCO 42'!L63,'ST BLOCCO 42'!L63,10000000000))","v":10000000000},{"$f":"IF($X$63=10000000000,10000000000,IF('SOLAI T2D SPA'!$C$20<='ST BLOCCO 42'!M63,'ST BLOCCO 42'!M63,10000000000))","v":10000000000},{"$f":"IF($X$63=10000000000,10000000000,IF('SOLAI T2D SPA'!$C$20<='ST BLOCCO 42'!N63,'ST BLOCCO 42'!N63,10000000000))","v":10000000000},{"$f":"IF($X$63=10000000000,10000000000,IF('SOLAI T2D SPA'!$C$20<='ST BLOCCO 42'!O63,'ST BLOCCO 42'!O63,10000000000))","v":10000000000},{"$f":"IF($X$63=10000000000,10000000000,IF('SOLAI T2D SPA'!$C$20<='ST BLOCCO 42'!P63,'ST BLOCCO 42'!P63,10000000000))","v":10000000000},null,null,{"$f":"IF(X63=10000000000,10000000000,IF('SOLAI T2D SPA'!$C$7='ST BLOCCO 42'!B63,Q63,10000000000))","v":10000000000}]
[null,null,null,null,null,null,null,null,null,null,null,null,null,null,null,null,null,null,null,null,null,null,{"$f":"MIN(W48:W63)","v":10000000000},{"$f":"MIN(X48:X63)","v":10000000000},20000000000,10000000000,null,{"$f":"MIN(AB48:AB63)","v":10000000000},{"$f":"MIN(AC48:AC63)","v":10000000000},10000000000,10000000000,10000000000,10000000000,10000000000,10000000000,10000000000,10000000000,10000000000,{"$f":"MIN(AB64:AL64)","v":10000000000},{"$f":"IF(AND(U46=1,AM64=10000000000),1,0)","v":0},{"$f":"MIN(AO48:AO63)","v":10000000000}]
[]
[]
[]
[]
[null,null,null,null,null,null,null,null,null,null,null,null,null,null,null,null,null,null,null,null,null,null,{"$f":"MIN(W64,W30)","v":10000000000},{"$f":"MIN(X64,X30)","v":10000000000},{"$f":"MIN(Y64,Y30)","v":20000000000},{"$f":"MIN(Z64,Z30)","v":10000000000},null,null,null,null,null,null,null,null,null,null,null,null,{"$f":"MIN(AM30,AM64)","v":10000000000},null,{"$f":"MIN(AO30,AO64)","v":10000000000}]
[]
[]
[]
[]
[]
[]
[]
[]
[]
[]
[]
[]
[]
["INTERASSE 50 CM - Larghezza travetto 12 cm - Larghezza blocco 42"]
["MOMENTO NEGATIVO",null,null,null,null,"1f8","1f10","1f12","2f10","1f10 + 1f12","2f12","1f12 + 1f14","2f14","1f14 + 1f16","2f16","1f16 + 1f18","2f18",null,null,null,null,null,"MOMENTO NEGATIVO",null,null,null,null,"1f8","1f10","1f12","2f10","1f10 + 1f12","2f12","1f12 + 1f14","2f14","1f14 + 1f16","2f16","1f16 + 1f18","2f18"]
["Altezza pignatta","Spessore soletta","Altezza solaio","Peso solaio","Volume cls getto in opera (l/mq)","Momenti ultimi riferiti ad una striscia di solaio larga 1,00 metro",null,null,null,null,null,null,null,null,null,null,null,null,null,null,null,null,"Altezza pignatta","Spessore soletta","Altezza solaio","Peso solaio",null,{"$f":"IF(AND(AB103<800000000,AB103=$AN$103),AB84,\"\")","v":""},{"$f":"IF(AND(AC103<800000000,AC103=$AN$103),AC84,\"\")","v":""},"","","","","","","","","","",{"$f":"AB85&AC85&AD85&AE85&AF85&AG85&AH85&AI85&AJ85&AK85&AL85&AM85","v":""}]
["[cm]","[cm]","[cm]","[daN/mq]","[l/mq]","[daNm]","[daNm]","[daNm]","[daNm]","[daNm]","[daNm]","[daNm]","[daNm]","[daNm]","[daNm]","[daNm]","[daNm]",null,null,null,null,null,"[cm]","[cm]","[cm]","[daN/mq]",null,"[daNm]","[daNm]","[daNm]","[daNm]","[daNm]","[daNm]","[daNm]","[daNm]","[daNm]","[daNm]","[daNm]","[daNm]"]
[12,4,{"$f":"A87+B87","v":16},213.6,60.76,546.54,849.62,1215.0999999999999,1672.26,2025.48,2373.36,2777.36,3174.02,3622.8,4061.02,4546.34,5018.26,null,null,null,null,null,{"$f":"W14","v":10000000000},{"$f":"X14","v":10000000000},{"$f":"W87+X87","v":20000000000},{"$f":"Z14","v":10000000000},null,{"$f":"IF($X$87=10000000000,10000000000,IF('SOLAI T2D SPA'!$C$25<='ST BLOCCO 42'!F87,'ST BLOCCO 42'!F87,10000000000))","v":10000000000},{"$f":"IF($X$87=10000000000,10000000000,IF('SOLAI T2D SPA'!$C$25<='ST BLOCCO 42'!G87,'ST BLOCCO 42'!G87,10000000000))","v":10000000000},{"$f":"IF($X$87=10000000000,10000000000,IF('SOLAI T2D SPA'!$C$25<='ST BLOCCO 42'!H87,'ST BLOCCO 42'!H87,10000000000))","v":10000000000},{"$f":"IF($X$87=10000000000,10000000000,IF('SOLAI T2D SPA'!$C$25<='ST BLOCCO 42'!I87,'ST BLOCCO 42'!I87,10000000000))","v":10000000000},{"$f":"IF($X$87=10000000000,10000000000,IF('SOLAI T2D SPA'!$C$25<='ST BLOCCO 42'!J87,'ST BLOCCO 42'!J87,10000000000))","v":10000000000},{"$f":"IF($X$87=10000000000,10000000000,IF('SOLAI T2D SPA'!$C$25<='ST BLOCCO 42'!K87,'ST BLOCCO 42'!K87,10000000000))","v":10000000000},{"$f":"IF($X$87=10000000000,10000000000,IF('SOLAI T2D SPA'!$C$25<='ST BLOCCO 42'!L87,'ST BLOCCO 42'!L87,10000000000))","v":10000000000},{"$f":"IF($X$87=10000000000,10000000000,IF('SOLAI T2D SPA'!$C$25<='ST BLOCCO 42'!M87,'ST BLOCCO 42'!M87,10000000000))","v":10000000000},{"$f":"IF($X$87=10000000000,10000000000,IF('SOLAI T2D SPA'!$C$25<='ST BLOCCO 42'!N87,'ST BLOCCO 42'!N87,10000000000))","v":10000000000},{"$f":"IF($X$87=10000000000,10000000000,IF('SOLAI T2D SPA'!$C$25<='ST BLOCCO 42'!O87,'ST BLOCCO 42'!O87,10000000000))","v":10000000000},{"$f":"IF($X$87=10000000000,10000000000,IF('SOLAI T2D SPA'!$C$25<='ST BLOCCO 42'!P87,'ST BLOCCO 42'!P87,10000000000))","v":10000000000},{"$f":"IF($X$87=10000000000,10000000000,IF('SOLAI T2D SPA'!$C$25<='ST BLOCCO 42'!Q87,'ST BLOCCO 42'!Q87,10000000000))","v":10000000000}]
[null,5,{"$f":"A87+B88","v":17},238.6,70.759999999999991,585.78,910.74,1303.4000000000001,1795.24,2175.38,2550.16,2986.2,3414.98,3900.54,4376.34,4903,5417.28,null,null,null,null,null,null,{"$f":"X15","v":10000000000},{"$f":"W87+X88","v":20000000000},{"$f":"Z15","v":10000000000},null,{"$f":"IF($X$88=10000000000,10000000000,IF('SOLAI T2D SPA'!$C$25<='ST BLOCCO 42'!F88,'ST BLOCCO 42'!F88,10000000000))","v":10000000000},{"$f":"IF($X$88=10000000000,10000000000,IF('SOLAI T2D SPA'!$C$25<='ST BLOCCO 42'!G88,'ST BLOCCO 42'!G88,10000000000))","v":10000000000},{"$f":"IF($X$88=10000000000,10000000000,IF('SOLAI T2D SPA'!$C$25<='ST BLOCCO 42'!H88,'ST BLOCCO 42'!H88,10000000000))","v":10000000000},{"$f":"IF($X$88=10000000000,10000000000,IF('SOLAI T2D SPA'!$C$25<='ST BLOCCO 42'!I88,'ST BLOCCO 42'!I88,10000000000))","v":10000000000},{"$f":"IF($X$88=10000000000,10000000000,IF('SOLAI T2D SPA'!$C$25<='ST BLOCCO 42'!J88,'ST BLOCCO 42'!J88,10000000000))","v":10000000000},{"$f":"IF($X$88=10000000000,10000000000,IF('SOLAI T2D SPA'!$C$25<='ST BLOCCO 42'!K88,'ST BLOCCO 42'!K88,10000000000))","v":10000000000},{"$f":"IF($X$88=10000000000,10000000000,IF('SOLAI T2D SPA'!$C$25<='ST BLOCCO 42'!L88,'ST BLOCCO 42'!L88,10000000000))","v":10000000000},{"$f":"IF($X$88=10000000000,10000000000,IF('SOLAI T2D SPA'!$C$25<='ST BLOCCO 42'!M88,'ST BLOCCO 42'!M88,10000000000))","v":10000000000},{"$f":"IF($X$88=10000000000,10000000000,IF('SOLAI T2D SPA'!$C$25<='ST BLOCCO 42'!N88,'ST BLOCCO 42'!N88,10000000000))","v":10000000000},{"$f":"IF($X$88=10000000000,10000000000,IF('SOLAI T2D SPA'!$C$25<='ST BLOCCO 42'!O88,'ST BLOCCO 42'!O88,10000000000))","v":10000000000},{"$f":"IF($X$88=10000000000,10000000000,IF('SOLAI T2D SPA'!$C$25<='ST BLOCCO 42'!P88,'ST BLOCCO 42'!P88,10000000000))","v":10000000000},{"$f":"IF($X$88=10000000000,10000000000,IF('SOLAI T2D SPA'!$C$25<='ST BLOCCO 42'!Q88,'ST BLOCCO 42'!Q88,10000000000))","v":10000000000}]
[14,4,{"$f":"A89+B89","v":18},223.60000000000002,65.16,624.98,972.26,1391.78,1918.34,2325.54,2727.32,3195.14,3656.36,4178.18,4691.0600000000004,5259.4,5815.28,null,null,null,null,null,{"$f":"W16","v":10000000000},10000000000,{"$f":"W89+X89","v":20000000000},10000000000,null,{"$f":"IF($X$89=10000000000,10000000000,IF('SOLAI T2D SPA'!$C$25<='ST BLOCCO 42'!F89,'ST BLOCCO 42'!F89,10000000000))","v":10000000000},{"$f":"IF($X$89=10000000000,10000000000,IF('SOLAI T2D SPA'!$C$25<='ST BLOCCO 42'!G89,'ST BLOCCO 42'!G89,10000000000))","v":10000000000},{"$f":"IF($X$89=10000000000,10000000000,IF('SOLAI T2D SPA'!$C$25<='ST BLOCCO 42'!H89,'ST BLOCCO 42'!H89,10000000000))","v":10000000000},{"$f":"IF($X$89=10000000000,10000000000,IF('SOLAI T2D SPA'!$C$25<='ST BLOCCO 42'!I89,'ST BLOCCO 42'!I89,10000000000))","v":10000000000},{"$f":"IF($X$89=10000000000,10000000000,IF('SOLAI T2D SPA'!$C$25<='ST BLOCCO 42'!J89,'ST BLOCCO 42'!J89,10000000000))","v":10000000000},{"$f":"IF($X$89=10000000000,10000000000,IF('SOLAI T2D SPA'!$C$25<='ST BLOCCO 42'!K89,'ST BLOCCO 42'!K89,10000000000))","v":10000000000},{"$f":"IF($X$89=10000000000,10000000000,IF('SOLAI T2D SPA'!$C$25<='ST BLOCCO 42'!L89,'ST BLOCCO 42'!L89,10000000000))","v":10000000000},{"$f":"IF($X$89=10000000000,10000000000,IF('SOLAI T2D SPA'!$C$25<='ST BLOCCO 42'!M89,'ST BLOCCO 42'!M89,10000000000))","v":10000000000},{"$f":"IF($X$89=10000000000,10000000000,IF('SOLAI T2D SPA'!$C$25<='ST BLOCCO 42'!N89,'ST BLOCCO 42'!N89,10000000000))","v":10000000000},{"$f":"IF($X$89=10000000000,10000000000,IF('SOLAI T2D SPA'!$C$25<='ST BLOCCO 42'!O89,'ST BLOCCO 42'!O89,10000000000))","v":10000000000},{"$f":"IF($X$89=10000000000,10000000000,IF('SOLAI T2D SPA'!$C$25<='ST BLOCCO 42'!P89,'ST BLOCCO 42'!P89,10000000000))","v":10000000000},{"$f":"IF($X$89=10000000000,10000000000,IF('SOLAI T2D SPA'!$C$25<='ST BLOCCO 42'!Q89,'ST BLOCCO 42'!Q89,10000000000))","v":10000000000}]
[null,5,{"$f":"A89+B90","v":19},248.60000000000002,75.16,664.28,1033.6400000000001,1480.42,2040.94,2475.3000000000002,2904.22,3404.58,3896.98,4456.1400000000003,5005.5,5615.86,6213.86,null,null,null,null,null,null,{"$f":"X17","v":10000000000},{"$f":"W89+X90","v":20000000000},10000000000,null,{"$f":"IF($X$90=10000000000,10000000000,IF('SOLAI T2D SPA'!$C$25<='ST BLOCCO 42'!F90,'ST BLOCCO 42'!F90,10000000000))","v":10000000000},{"$f":"IF($X$90=10000000000,10000000000,IF('SOLAI T2D SPA'!$C$25<='ST BLOCCO 42'!G90,'ST BLOCCO 42'!G90,10000000000))","v":10000000000},{"$f":"IF($X$90=10000000000,10000000000,IF('SOLAI T2D SPA'!$C$25<='ST BLOCCO 42'!H90,'ST BLOCCO 42'!H90,10000000000))","v":10000000000},{"$f":"IF($X$90=10000000000,10000000000,IF('SOLAI T2D SPA'!$C$25<='ST BLOCCO 42'!I90,'ST BLOCCO 42'!I90,10000000000))","v":10000000000},{"$f":"IF($X$90=10000000000,10000000000,IF('SOLAI T2D SPA'!$C$25<='ST BLOCCO 42'!J90,'ST BLOCCO 42'!J90,10000000000))","v":10000000000},{"$f":"IF($X$90=10000000000,10000000000,IF('SOLAI T2D SPA'!$C$25<='ST BLOCCO 42'!K90,'ST BLOCCO 42'!K90,10000000000))","v":10000000000},{"$f":"IF($X$90=10000000000,10000000000,IF('SOLAI T2D SPA'!$C$25<='ST BLOCCO 42'!L90,'ST BLOCCO 42'!L90,10000000000))","v":10000000000},{"$f":"IF($X$90=10000000000,10000000000,IF('SOLAI T2D SPA'!$C$25<='ST BLOCCO 42'!M90,'ST BLOCCO 42'!M90,10000000000))","v":10000000000},{"$f":"IF($X$90=10000000000,10000000000,IF('SOLAI T2D SPA'!$C$25<='ST BLOCCO 42'!N90,'ST BLOCCO 42'!N90,10000000000))","v":10000000000},{"$f":"IF($X$90=10000000000,10000000000,IF('SOLAI T2D SPA'!$C$25<='ST BLOCCO 42'!O90,'ST BLOCCO 42'!O90,10000000000))","v":10000000000},{"$f":"IF($X$90=10000000000,10000000000,IF('SOLAI T2D SPA'!$C$25<='ST BLOCCO 42'!P90,'ST BLOCCO 42'!P90,10000000000))","v":10000000000},{"$f":"IF($X$90=10000000000,10000000000,IF('SOLAI T2D SPA'!$C$25<='ST BLOCCO 42'!Q90,'ST BLOCCO 42'!Q90,10000000000))","v":10000000000}]
[16,4,{"$f":"A91+B91","v":20},244.8,66.44,703.4,1094.8800000000001,1568.86,2163.98,2625.08,3081.26,3612.98,4138.2,4734.08,5320.18,5971.76,6612.28,null,null,null,null,null,{"$f":"W18","v":10000000000},10000000000,{"$f":"W91+X91","v":20000000000},10000000000,null,{"$f":"IF($X$91=10000000000,10000000000,IF('SOLAI T2D SPA'!$C$25<='ST BLOCCO 42'!F91,'ST BLOCCO 42'!F91,10000000000))","v":10000000000},{"$f":"IF($X$91=10000000000,10000000000,IF('SOLAI T2D SPA'!$C$25<='ST BLOCCO 42'!G91,'ST BLOCCO 42'!G91,10000000000))","v":10000000000},{"$f":"IF($X$91=10000000000,10000000000,IF('SOLAI T2D SPA'!$C$25<='ST BLOCCO 42'!H91,'ST BLOCCO 42'!H91,10000000000))","v":10000000000},{"$f":"IF($X$91=10000000000,10000000000,IF('SOLAI T2D SPA'!$C$25<='ST BLOCCO 42'!I91,'ST BLOCCO 42'!I91,10000000000))","v":10000000000},{"$f":"IF($X$91=10000000000,10000000000,IF('SOLAI T2D SPA'!$C$25<='ST BLOCCO 42'!J91,'ST BLOCCO 42'!J91,10000000000))","v":10000000000},{"$f":"IF($X$91=10000000000,10000000000,IF('SOLAI T2D SPA'!$C$25<='ST BLOCCO 42'!K91,'ST BLOCCO 42'!K91,10000000000))","v":10000000000},{"$f":"IF($X$91=10000000000,10000000000,IF('SOLAI T2D SPA'!$C$25<='ST BLOCCO 42'!L91,'ST BLOCCO 42'!L91,10000000000))","v":10000000000},{"$f":"IF($X$91=10000000000,10000000000,IF('SOLAI T2D SPA'!$C$25<='ST BLOCCO 42'!M91,'ST BLOCCO 42'!M91,10000000000))","v":10000000000},{"$f":"IF($X$91=10000000000,10000000000,IF('SOLAI T2D SPA'!$C$25<='ST BLOCCO 42'!N91,'ST BLOCCO 42'!N91,10000000000))","v":10000000000},{"$f":"IF($X$91=10000000000,10000000000,IF('SOLAI T2D SPA'!$C$25<='ST BLOCCO 42'!O91,'ST BLOCCO 42'!O91,10000000000))","v":10000000000},{"$f":"IF($X$91=10000000000,10000000000,IF('SOLAI T2D SPA'!$C$25<='ST BLOCCO 42'!P91,'ST BLOCCO 42'!P91,10000000000))","v":10000000000},{"$f":"IF($X$91=10000000000,10000000000,IF('SOLAI T2D SPA'!$C$25<='ST BLOCCO 42'!Q91,'ST BLOCCO 42'!Q91,10000000000))","v":10000000000}]
[null,5,{"$f":"A91+B92","v":21},269.8,76.44,742.7,1156.18,1657.12,2286.86,2775.36,3258.32,3822.26,4378.92,5011.72,5634.74,6329.14,7009.78,null,null,null,null,null,null,10000000000,{"$f":"W91+X92","v":20000000000},10000000000,null,{"$f":"IF($X$92=10000000000,10000000000,IF('SOLAI T2D SPA'!$C$25<='ST BLOCCO 42'!F92,'ST BLOCCO 42'!F92,10000000000))","v":10000000000},{"$f":"IF($X$92=10000000000,10000000000,IF('SOLAI T2D SPA'!$C$25<='ST BLOCCO 42'!G92,'ST BLOCCO 42'!G92,10000000000))","v":10000000000},{"$f":"IF($X$92=10000000000,10000000000,IF('SOLAI T2D SPA'!$C$25<='ST BLOCCO 42'!H92,'ST BLOCCO 42'!H92,10000000000))","v":10000000000},{"$f":"IF($X$92=10000000000,10000000000,IF('SOLAI T2D SPA'!$C$25<='ST BLOCCO 42'!I92,'ST BLOCCO 42'!I92,10000000000))","v":10000000000},{"$f":"IF($X$92=10000000000,10000000000,IF('SOLAI T2D SPA'!$C$25<='ST BLOCCO 42'!J92,'ST BLOCCO 42'!J92,10000000000))","v":10000000000},{"$f":"IF($X$92=10000000000,10000000000,IF('SOLAI T2D SPA'!$C$25<='ST BLOCCO 42'!K92,'ST BLOCCO 42'!K92,10000000000))","v":10000000000},{"$f":"IF($X$92=10000000000,10000000000,IF('SOLAI T2D SPA'!$C$25<='ST BLOCCO 42'!L92,'ST BLOCCO 42'!L92,10000000000))","v":10000000000},{"$f":"IF($X$92=10000000000,10000000000,IF('SOLAI T2D SPA'!$C$25<='ST BLOCCO 42'!M92,'ST BLOCCO 42'!M92,10000000000))","v":10000000000},{"$f":"IF($X$92=10000000000,10000000000,IF('SOLAI T2D SPA'!$C$25<='ST BLOCCO 42'!N92,'ST BLOCCO 42'!N92,10000000000))","v":10000000000},{"$f":"IF($X$92=10000000000,10000000000,IF('SOLAI T2D SPA'!$C$25<='ST BLOCCO 42'!O92,'ST BLOCCO 42'!O92,10000000000))","v":10000000000},{"$f":"IF($X$92=10000000000,10000000000,IF('SOLAI T2D SPA'!$C$25<='ST BLOCCO 42'!P92,'ST BLOCCO 42'!P92,10000000000))","v":10000000000},{"$f":"IF($X$92=10000000000,10000000000,IF('SOLAI T2D SPA'!$C$25<='ST BLOCCO 42'!Q92,'ST BLOCCO 42'!Q92,10000000000))","v":10000000000}]
[18,4,{"$f":"A93+B93","v":22},258.8,71.88,781.82,1217.56,1745.5,2410.12,2925.5,3435.34,4031.62,4619.84,5289.78,5950,6684.96,7408.96,null,null,null,null,null,{"$f":"W20","v":10000000000},10000000000,{"$f":"W93+X93","v":20000000000},10000000000,null,{"$f":"IF($X$93=10000000000,10000000000,IF('SOLAI T2D SPA'!$C$25<='ST BLOCCO 42'!F93,'ST BLOCCO 42'!F93,10000000000))","v":10000000000},{"$f":"IF($X$93=10000000000,10000000000,IF('SOLAI T2D SPA'!$C$25<='ST BLOCCO 42'!G93,'ST BLOCCO 42'!G93,10000000000))","v":10000000000},{"$f":"IF($X$93=10000000000,10000000000,IF('SOLAI T2D SPA'!$C$25<='ST BLOCCO 42'!H93,'ST BLOCCO 42'!H93,10000000000))","v":10000000000},{"$f":"IF($X$93=10000000000,10000000000,IF('SOLAI T2D SPA'!$C$25<='ST BLOCCO 42'!I93,'ST BLOCCO 42'!I93,10000000000))","v":10000000000},{"$f":"IF($X$93=10000000000,10000000000,IF('SOLAI T2D SPA'!$C$25<='ST BLOCCO 42'!J93,'ST BLOCCO 42'!J93,10000000000))","v":10000000000},{"$f":"IF($X$93=10000000000,10000000000,IF('SOLAI T2D SPA'!$C$25<='ST BLOCCO 42'!K93,'ST BLOCCO 42'!K93,10000000000))","v":10000000000},{"$f":"IF($X$93=10000000000,10000000000,IF('SOLAI T2D SPA'!$C$25<='ST BLOCCO 42'!L93,'ST BLOCCO 42'!L93,10000000000))","v":10000000000},{"$f":"IF($X$93=10000000000,10000000000,IF('SOLAI T2D SPA'!$C$25<='ST BLOCCO 42'!M93,'ST BLOCCO 42'!M93,10000000000))","v":10000000000},{"$f":"IF($X$93=10000000000,10000000000,IF('SOLAI T2D SPA'!$C$25<='ST BLOCCO 42'!N93,'ST BLOCCO 42'!N93,10000000000))","v":10000000000},{"$f":"IF($X$93=10000000000,10000000000,IF('SOLAI T2D SPA'!$C$25<='ST BLOCCO 42'!O93,'ST BLOCCO 42'!O93,10000000000))","v":10000000000},{"$f":"IF($X$93=10000000000,10000000000,IF('SOLAI T2D SPA'!$C$25<='ST BLOCCO 42'!P93,'ST BLOCCO 42'!P93,10000000000))","v":10000000000},{"$f":"IF($X$93=10000000000,10000000000,IF('SOLAI T2D SPA'!$C$25<='ST BLOCCO 42'!Q93,'ST BLOCCO 42'!Q93,10000000000))","v":10000000000}]
[null,5,{"$f":"A93+B94","v":23},283.8,81.88,821.14,1279.02,1833.92,2532.7800000000002,3075.26,3612.34,4240.3,4860.54,5567.28,6264.24,7041.94,7806.48,null,null,null,null,null,null,10000000000,{"$f":"W93+X94","v":20000000000},10000000000,null,{"$f":"IF($X$94=10000000000,10000000000,IF('SOLAI T2D SPA'!$C$25<='ST BLOCCO 42'!F94,'ST BLOCCO 42'!F94,10000000000))","v":10000000000},{"$f":"IF($X$94=10000000000,10000000000,IF('SOLAI T2D SPA'!$C$25<='ST BLOCCO 42'!G94,'ST BLOCCO 42'!G94,10000000000))","v":10000000000},{"$f":"IF($X$94=10000000000,10000000000,IF('SOLAI T2D SPA'!$C$25<='ST BLOCCO 42'!H94,'ST BLOCCO 42'!H94,10000000000))","v":10000000000},{"$f":"IF($X$94=10000000000,10000000000,IF('SOLAI T2D SPA'!$C$25<='ST BLOCCO 42'!I94,'ST BLOCCO 42'!I94,10000000000))","v":10000000000},{"$f":"IF($X$94=10000000000,10000000000,IF('SOLAI T2D SPA'!$C$25<='ST BLOCCO 42'!J94,'ST BLOCCO 42'!J94,10000000000))","v":10000000000},{"$f":"IF($X$94=10000000000,10000000000,IF('SOLAI T2D SPA'!$C$25<='ST BLOCCO 42'!K94,'ST BLOCCO 42'!K94,10000000000))","v":10000000000},{"$f":"IF($X$94=10000000000,10000000000,IF('SOLAI T2D SPA'!$C$25<='ST BLOCCO 42'!L94,'ST BLOCCO 42'!L94,10000000000))","v":10000000000},{"$f":"IF($X$94=10000000000,10000000000,IF('SOLAI T2D SPA'!$C$25<='ST BLOCCO 42'!M94,'ST BLOCCO 42'!M94,10000000000))","v":10000000000},{"$f":"IF($X$94=10000000000,10000000000,IF('SOLAI T2D SPA'!$C$25<='ST BLOCCO 42'!N94,'ST BLOCCO 42'!N94,10000000000))","v":10000000000},{"$f":"IF($X$94=10000000000,10000000000,IF('SOLAI T2D SPA'!$C$25<='ST BLOCCO 42'!O94,'ST BLOCCO 42'!O94,10000000000))","v":10000000000},{"$f":"IF($X$94=10000000000,10000000000,IF('SOLAI T2D SPA'!$C$25<='ST BLOCCO 42'!P94,'ST BLOCCO 42'!P94,10000000000))","v":10000000000},{"$f":"IF($X$94=10000000000,10000000000,IF('SOLAI T2D SPA'!$C$25<='ST BLOCCO 42'!Q94,'ST BLOCCO 42'!Q94,10000000000))","v":10000000000}]
[20,4,{"$f":"A95+B95","v":24},273.60000000000002,76.28,860.34,1340.38,1922.34,2655.42,3225.22,3789.3,4449,5101.3999999999996,5845.08,6579.02,7398.36,8205.34,null,null,null,null,null,{"$f":"W22","v":10000000000},10000000000,{"$f":"W95+X95","v":20000000000},10000000000,null,{"$f":"IF($X$95=10000000000,10000000000,IF('SOLAI T2D SPA'!$C$25<='ST BLOCCO 42'!F95,'ST BLOCCO 42'!F95,10000000000))","v":10000000000},{"$f":"IF($X$95=10000000000,10000000000,IF('SOLAI T2D SPA'!$C$25<='ST BLOCCO 42'!G95,'ST BLOCCO 42'!G95,10000000000))","v":10000000000},{"$f":"IF($X$95=10000000000,10000000000,IF('SOLAI T2D SPA'!$C$25<='ST BLOCCO 42'!H95,'ST BLOCCO 42'!H95,10000000000))","v":10000000000},{"$f":"IF($X$95=10000000000,10000000000,IF('SOLAI T2D SPA'!$C$25<='ST BLOCCO 42'!I95,'ST BLOCCO 42'!I95,10000000000))","v":10000000000},{"$f":"IF($X$95=10000000000,10000000000,IF('SOLAI T2D SPA'!$C$25<='ST BLOCCO 42'!J95,'ST BLOCCO 42'!J95,10000000000))","v":10000000000},{"$f":"IF($X$95=10000000000,10000000000,IF('SOLAI T2D SPA'!$C$25<='ST BLOCCO 42'!K95,'ST BLOCCO 42'!K95,10000000000))","v":10000000000},{"$f":"IF($X$95=10000000000,10000000000,IF('SOLAI T2D SPA'!$C$25<='ST BLOCCO 42'!L95,'ST BLOCCO 42'!L95,10000000000))","v":10000000000},{"$f":"IF($X$95=10000000000,10000000000,IF('SOLAI T2D SPA'!$C$25<='ST BLOCCO 42'!M95,'ST BLOCCO 42'!M95,10000000000))","v":10000000000},{"$f":"IF($X$95=10000000000,10000000000,IF('SOLAI T2D SPA'!$C$25<='ST BLOCCO 42'!N95,'ST BLOCCO 42'!N95,10000000000))","v":10000000000},{"$f":"IF($X$95=10000000000,10000000000,IF('SOLAI T2D SPA'!$C$25<='ST BLOCCO 42'!O95,'ST BLOCCO 42'!O95,10000000000))","v":10000000000},{"$f":"IF($X$95=10000000000,10000000000,IF('SOLAI T2D SPA'!$C$25<='ST BLOCCO 42'!P95,'ST BLOCCO 42'!P95,10000000000))","v":10000000000},{"$f":"IF($X$95=10000000000,10000000000,IF('SOLAI T2D SPA'!$C$25<='ST BLOCCO 42'!Q95,'ST BLOCCO 42'!Q95,10000000000))","v":10000000000}]
[null,5,{"$f":"A95+B96","v":25},298.60000000000002,86.28,899.58,1401.6,2010.68,2778.32,3375.16,3966.3,4658.3,5342.58,6122.78,6893.86,7755.04,8603.9,null,null,null,null,null,null,10000000000,{"$f":"W95+X96","v":20000000000},10000000000,null,{"$f":"IF($X$96=10000000000,10000000000,IF('SOLAI T2D SPA'!$C$25<='ST BLOCCO 42'!F96,'ST BLOCCO 42'!F96,10000000000))","v":10000000000},{"$f":"IF($X$96=10000000000,10000000000,IF('SOLAI T2D SPA'!$C$25<='ST BLOCCO 42'!G96,'ST BLOCCO 42'!G96,10000000000))","v":10000000000},{"$f":"IF($X$96=10000000000,10000000000,IF('SOLAI T2D SPA'!$C$25<='ST BLOCCO 42'!H96,'ST BLOCCO 42'!H96,10000000000))","v":10000000000},{"$f":"IF($X$96=10000000000,10000000000,IF('SOLAI T2D SPA'!$C$25<='ST BLOCCO 42'!I96,'ST BLOCCO 42'!I96,10000000000))","v":10000000000},{"$f":"IF($X$96=10000000000,10000000000,IF('SOLAI T2D SPA'!$C$25<='ST BLOCCO 42'!J96,'ST BLOCCO 42'!J96,10000000000))","v":10000000000},{"$f":"IF($X$96=10000000000,10000000000,IF('SOLAI T2D SPA'!$C$25<='ST BLOCCO 42'!K96,'ST BLOCCO 42'!K96,10000000000))","v":10000000000},{"$f":"IF($X$96=10000000000,10000000000,IF('SOLAI T2D SPA'!$C$25<='ST BLOCCO 42'!L96,'ST BLOCCO 42'!L96,10000000000))","v":10000000000},{"$f":"IF($X$96=10000000000,10000000000,IF('SOLAI T2D SPA'!$C$25<='ST BLOCCO 42'!M96,'ST BLOCCO 42'!M96,10000000000))","v":10000000000},{"$f":"IF($X$96=10000000000,10000000000,IF('SOLAI T2D SPA'!$C$25<='ST BLOCCO 42'!N96,'ST BLOCCO 42'!N96,10000000000))","v":10000000000},{"$f":"IF($X$96=10000000000,10000000000,IF('SOLAI T2D SPA'!$C$25<='ST BLOCCO 42'!O96,'ST BLOCCO 42'!O96,10000000000))","v":10000000000},{"$f":"IF($X$96=10000000000,10000000000,IF('SOLAI T2D SPA'!$C$25<='ST BLOCCO 42'!P96,'ST BLOCCO 42'!P96,10000000000))","v":10000000000},{"$f":"IF($X$96=10000000000,10000000000,IF('SOLAI T2D SPA'!$C$25<='ST BLOCCO 42'!Q96,'ST BLOCCO 42'!Q96,10000000000))","v":10000000000}]
[22,4,{"$f":"A97+B97","v":26},290,81.72,938.82,1462.88,2099.14,2901.06,3525.04,4143.3,4867.22,5583.42,6400.86,7208.56,8110.96,9001.7999999999993,null,null,null,null,null,{"$f":"W24","v":10000000000},10000000000,{"$f":"W97+X97","v":20000000000},10000000000,null,{"$f":"IF($X$97=10000000000,10000000000,IF('SOLAI T2D SPA'!$C$25<='ST BLOCCO 42'!F97,'ST BLOCCO 42'!F97,10000000000))","v":10000000000},{"$f":"IF($X$97=10000000000,10000000000,IF('SOLAI T2D SPA'!$C$25<='ST BLOCCO 42'!G97,'ST BLOCCO 42'!G97,10000000000))","v":10000000000},{"$f":"IF($X$97=10000000000,10000000000,IF('SOLAI T2D SPA'!$C$25<='ST BLOCCO 42'!H97,'ST BLOCCO 42'!H97,10000000000))","v":10000000000},{"$f":"IF($X$97=10000000000,10000000000,IF('SOLAI T2D SPA'!$C$25<='ST BLOCCO 42'!I97,'ST BLOCCO 42'!I97,10000000000))","v":10000000000},{"$f":"IF($X$97=10000000000,10000000000,IF('SOLAI T2D SPA'!$C$25<='ST BLOCCO 42'!J97,'ST BLOCCO 42'!J97,10000000000))","v":10000000000},{"$f":"IF($X$97=10000000000,10000000000,IF('SOLAI T2D SPA'!$C$25<='ST BLOCCO 42'!K97,'ST BLOCCO 42'!K97,10000000000))","v":10000000000},{"$f":"IF($X$97=10000000000,10000000000,IF('SOLAI T2D SPA'!$C$25<='ST BLOCCO 42'!L97,'ST BLOCCO 42'!L97,10000000000))","v":10000000000},{"$f":"IF($X$97=10000000000,10000000000,IF('SOLAI T2D SPA'!$C$25<='ST BLOCCO 42'!M97,'ST BLOCCO 42'!M97,10000000000))","v":10000000000},{"$f":"IF($X$97=10000000000,10000000000,IF('SOLAI T2D SPA'!$C$25<='ST BLOCCO 42'!N97,'ST BLOCCO 42'!N97,10000000000))","v":10000000000},{"$f":"IF($X$97=10000000000,10000000000,IF('SOLAI T2D SPA'!$C$25<='ST BLOCCO 42'!O97,'ST BLOCCO 42'!O97,10000000000))","v":10000000000},{"$f":"IF($X$97=10000000000,10000000000,IF('SOLAI T2D SPA'!$C$25<='ST BLOCCO 42'!P97,'ST BLOCCO 42'!P97,10000000000))","v":10000000000},{"$f":"IF($X$97=10000000000,10000000000,IF('SOLAI T2D SPA'!$C$25<='ST BLOCCO 42'!Q97,'ST BLOCCO 42'!Q97,10000000000))","v":10000000000}]
[null,5,{"$f":"A97+B98","v":27},315,91.719999999999985,978.02,1524.2,2187.44,3023.66,3675.18,4320.62,5076.18,5824.36,6678.56,7523,8467.5400000000009,9399.7000000000007,null,null,null,null,null,null,10000000000,{"$f":"W97+X98","v":20000000000},10000000000,null,{"$f":"IF($X$98=10000000000,10000000000,IF('SOLAI T2D SPA'!$C$25<='ST BLOCCO 42'!F98,'ST BLOCCO 42'!F98,10000000000))","v":10000000000},{"$f":"IF($X$98=10000000000,10000000000,IF('SOLAI T2D SPA'!$C$25<='ST BLOCCO 42'!G98,'ST BLOCCO 42'!G98,10000000000))","v":10000000000},{"$f":"IF($X$98=10000000000,10000000000,IF('SOLAI T2D SPA'!$C$25<='ST BLOCCO 42'!H98,'ST BLOCCO 42'!H98,10000000000))","v":10000000000},{"$f":"IF($X$98=10000000000,10000000000,IF('SOLAI T2D SPA'!$C$25<='ST BLOCCO 42'!I98,'ST BLOCCO 42'!I98,10000000000))","v":10000000000},{"$f":"IF($X$98=10000000000,10000000000,IF('SOLAI T2D SPA'!$C$25<='ST BLOCCO 42'!J98,'ST BLOCCO 42'!J98,10000000000))","v":10000000000},{"$f":"IF($X$98=10000000000,10000000000,IF('SOLAI T2D SPA'!$C$25<='ST BLOCCO 42'!K98,'ST BLOCCO 42'!K98,10000000000))","v":10000000000},{"$f":"IF($X$98=10000000000,10000000000,IF('SOLAI T2D SPA'!$C$25<='ST BLOCCO 42'!L98,'ST BLOCCO 42'!L98,10000000000))","v":10000000000},{"$f":"IF($X$98=10000000000,10000000000,IF('SOLAI T2D SPA'!$C$25<='ST BLOCCO 42'!M98,'ST BLOCCO 42'!M98,10000000000))","v":10000000000},{"$f":"IF($X$98=10000000000,10000000000,IF('SOLAI T2D SPA'!$C$25<='ST BLOCCO 42'!N98,'ST BLOCCO 42'!N98,10000000000))","v":10000000000},{"$f":"IF($X$98=10000000000,10000000000,IF('SOLAI T2D SPA'!$C$25<='ST BLOCCO 42'!O98,'ST BLOCCO 42'!O98,10000000000))","v":10000000000},{"$f":"IF($X$98=10000000000,10000000000,IF('SOLAI T2D SPA'!$C$25<='ST BLOCCO 42'!P98,'ST BLOCCO 42'!P98,10000000000))","v":10000000000},{"$f":"IF($X$98=10000000000,10000000000,IF('SOLAI T2D SPA'!$C$25<='ST BLOCCO 42'!Q98,'ST BLOCCO 42'!Q98,10000000000))","v":10000000000}]
[24,4,{"$f":"A99+B99","v":28},305.60000000000002,85.08,1017.3,1585.4,2275.54,3146.42,3825.14,4497.5,5285.08,6065.38,6956.44,7837.72,8824.7000000000007,9798.44,null,null,null,null,null,{"$f":"W26","v":10000000000},10000000000,{"$f":"W99+X99","v":20000000000},10000000000,null,{"$f":"IF($X$99=10000000000,10000000000,IF('SOLAI T2D SPA'!$C$25<='ST BLOCCO 42'!F99,'ST BLOCCO 42'!F99,10000000000))","v":10000000000},{"$f":"IF($X$99=10000000000,10000000000,IF('SOLAI T2D SPA'!$C$25<='ST BLOCCO 42'!G99,'ST BLOCCO 42'!G99,10000000000))","v":10000000000},{"$f":"IF($X$99=10000000000,10000000000,IF('SOLAI T2D SPA'!$C$25<='ST BLOCCO 42'!H99,'ST BLOCCO 42'!H99,10000000000))","v":10000000000},{"$f":"IF($X$99=10000000000,10000000000,IF('SOLAI T2D SPA'!$C$25<='ST BLOCCO 42'!I99,'ST BLOCCO 42'!I99,10000000000))","v":10000000000},{"$f":"IF($X$99=10000000000,10000000000,IF('SOLAI T2D SPA'!$C$25<='ST BLOCCO 42'!J99,'ST BLOCCO 42'!J99,10000000000))","v":10000000000},{"$f":"IF($X$99=10000000000,10000000000,IF('SOLAI T2D SPA'!$C$25<='ST BLOCCO 42'!K99,'ST BLOCCO 42'!K99,10000000000))","v":10000000000},{"$f":"IF($X$99=10000000000,10000000000,IF('SOLAI T2D SPA'!$C$25<='ST BLOCCO 42'!L99,'ST BLOCCO 42'!L99,10000000000))","v":10000000000},{"$f":"IF($X$99=10000000000,10000000000,IF('SOLAI T2D SPA'!$C$25<='ST BLOCCO 42'!M99,'ST BLOCCO 42'!M99,10000000000))","v":10000000000},{"$f":"IF($X$99=10000000000,10000000000,IF('SOLAI T2D SPA'!$C$25<='ST BLOCCO 42'!N99,'ST BLOCCO 42'!N99,10000000000))","v":10000000000},{"$f":"IF($X$99=10000000000,10000000000,IF('SOLAI T2D SPA'!$C$25<='ST BLOCCO 42'!O99,'ST BLOCCO 42'!O99,10000000000))","v":10000000000},{"$f":"IF($X$99=10000000000,10000000000,IF('SOLAI T2D SPA'!$C$25<='ST BLOCCO 42'!P99,'ST BLOCCO 42'!P99,10000000000))","v":10000000000},{"$f":"IF($X$99=10000000000,10000000000,IF('SOLAI T2D SPA'!$C$25<='ST BLOCCO 42'!Q99,'ST BLOCCO 42'!Q99,10000000000))","v":10000000000}]
[null,5,{"$f":"A99+B100","v":29},330.6,95.08,1056.54,1646.82,2364.04,3269.32,3974.6,4674.66,5493.9,6306.36,7234.38,8152.64,9180.4,10196.74,null,null,null,null,null,null,10000000000,{"$f":"W99+X100","v":20000000000},10000000000,null,{"$f":"IF($X$100=10000000000,10000000000,IF('SOLAI T2D SPA'!$C$25<='ST BLOCCO 42'!F100,'ST BLOCCO 42'!F100,10000000000))","v":10000000000},{"$f":"IF($X$100=10000000000,10000000000,IF('SOLAI T2D SPA'!$C$25<='ST BLOCCO 42'!G100,'ST BLOCCO 42'!G100,10000000000))","v":10000000000},{"$f":"IF($X$100=10000000000,10000000000,IF('SOLAI T2D SPA'!$C$25<='ST BLOCCO 42'!H100,'ST BLOCCO 42'!H100,10000000000))","v":10000000000},{"$f":"IF($X$100=10000000000,10000000000,IF('SOLAI T2D SPA'!$C$25<='ST BLOCCO 42'!I100,'ST BLOCCO 42'!I100,10000000000))","v":10000000000},{"$f":"IF($X$100=10000000000,10000000000,IF('SOLAI T2D SPA'!$C$25<='ST BLOCCO 42'!J100,'ST BLOCCO 42'!J100,10000000000))","v":10000000000},{"$f":"IF($X$100=10000000000,10000000000,IF('SOLAI T2D SPA'!$C$25<='ST BLOCCO 42'!K100,'ST BLOCCO 42'!K100,10000000000))","v":10000000000},{"$f":"IF($X$100=10000000000,10000000000,IF('SOLAI T2D SPA'!$C$25<='ST BLOCCO 42'!L100,'ST BLOCCO 42'!L100,10000000000))","v":10000000000},{"$f":"IF($X$100=10000000000,10000000000,IF('SOLAI T2D SPA'!$C$25<='ST BLOCCO 42'!M100,'ST BLOCCO 42'!M100,10000000000))","v":10000000000},{"$f":"IF($X$100=10000000000,10000000000,IF('SOLAI T2D SPA'!$C$25<='ST BLOCCO 42'!N100,'ST BLOCCO 42'!N100,10000000000))","v":10000000000},{"$f":"IF($X$100=10000000000,10000000000,IF('SOLAI T2D SPA'!$C$25<='ST BLOCCO 42'!O100,'ST BLOCCO 42'!O100,10000000000))","v":10000000000},{"$f":"IF($X$100=10000000000,10000000000,IF('SOLAI T2D SPA'!$C$25<='ST BLOCCO 42'!P100,'ST BLOCCO 42'!P100,10000000000))","v":10000000000},{"$f":"IF($X$100=10000000000,10000000000,IF('SOLAI T2D SPA'!$C$25<='ST BLOCCO 42'!Q100,'ST BLOCCO 42'!Q100,10000000000))","v":10000000000}]
[30,4,{"$f":"A101+B101","v":34},350,99.32,1252.76,1953.4,2805.56,3882.82,4723.7,5559.54,6538.84,7511.46,8623.34,9726.2999999999993,10963.38,12188,null,null,null,null,null,{"$f":"W28","v":10000000000},10000000000,{"$f":"W101+X101","v":20000000000},10000000000,null,{"$f":"IF($X$101=10000000000,10000000000,IF('SOLAI T2D SPA'!$C$25<='ST BLOCCO 42'!F101,'ST BLOCCO 42'!F101,10000000000))","v":10000000000},{"$f":"IF($X$101=10000000000,10000000000,IF('SOLAI T2D SPA'!$C$25<='ST BLOCCO 42'!G101,'ST BLOCCO 42'!G101,10000000000))","v":10000000000},{"$f":"IF($X$101=10000000000,10000000000,IF('SOLAI T2D SPA'!$C$25<='ST BLOCCO 42'!H101,'ST BLOCCO 42'!H101,10000000000))","v":10000000000},{"$f":"IF($X$101=10000000000,10000000000,IF('SOLAI T2D SPA'!$C$25<='ST BLOCCO 42'!I101,'ST BLOCCO 42'!I101,10000000000))","v":10000000000},{"$f":"IF($X$101=10000000000,10000000000,IF('SOLAI T2D SPA'!$C$25<='ST BLOCCO 42'!J101,'ST BLOCCO 42'!J101,10000000000))","v":10000000000},{"$f":"IF($X$101=10000000000,10000000000,IF('SOLAI T2D SPA'!$C$25<='ST BLOCCO 42'!K101,'ST BLOCCO 42'!K101,10000000000))","v":10000000000},{"$f":"IF($X$101=10000000000,10000000000,IF('SOLAI T2D SPA'!$C$25<='ST BLOCCO 42'!L101,'ST BLOCCO 42'!L101,10000000000))","v":10000000000},{"$f":"IF($X$101=10000000000,10000000000,IF('SOLAI T2D SPA'!$C$25<='ST BLOCCO 42'!M101,'ST BLOCCO 42'!M101,10000000000))","v":10000000000},{"$f":"IF($X$101=10000000000,10000000000,IF('SOLAI T2D SPA'!$C$25<='ST BLOCCO 42'!N101,'ST BLOCCO 42'!N101,10000000000))","v":10000000000},{"$f":"IF($X$101=10000000000,10000000000,IF('SOLAI T2D SPA'!$C$25<='ST BLOCCO 42'!O101,'ST BLOCCO 42'!O101,10000000000))","v":10000000000},{"$f":"IF($X$101=10000000000,10000000000,IF('SOLAI T2D SPA'!$C$25<='ST BLOCCO 42'!P101,'ST BLOCCO 42'!P101,10000000000))","v":10000000000},{"$f":"IF($X$101=10000000000,10000000000,IF('SOLAI T2D SPA'!$C$25<='ST BLOCCO 42'!Q101,'ST BLOCCO 42'!Q101,10000000000))","v":10000000000}]
[null,5,{"$f":"A101+B102","v":35},375,109.31999999999998,1291.98,2014.6,2893.86,4005.92,4873.46,5735.74,6747.92,7751.64,8901,10040.58,11320.04,12585.88,null,null,null,null,null,null,10000000000,{"$f":"W101+X102","v":20000000000},10000000000,null,{"$f":"IF($X$102=10000000000,10000000000,IF('SOLAI T2D SPA'!$C$25<='ST BLOCCO 42'!F102,'ST BLOCCO 42'!F102,10000000000))","v":10000000000},{"$f":"IF($X$102=10000000000,10000000000,IF('SOLAI T2D SPA'!$C$25<='ST BLOCCO 42'!G102,'ST BLOCCO 42'!G102,10000000000))","v":10000000000},{"$f":"IF($X$102=10000000000,10000000000,IF('SOLAI T2D SPA'!$C$25<='ST BLOCCO 42'!H102,'ST BLOCCO 42'!H102,10000000000))","v":10000000000},{"$f":"IF($X$102=10000000000,10000000000,IF('SOLAI T2D SPA'!$C$25<='ST BLOCCO 42'!I102,'ST BLOCCO 42'!I102,10000000000))","v":10000000000},{"$f":"IF($X$102=10000000000,10000000000,IF('SOLAI T2D SPA'!$C$25<='ST BLOCCO 42'!J102,'ST BLOCCO 42'!J102,10000000000))","v":10000000000},{"$f":"IF($X$102=10000000000,10000000000,IF('SOLAI T2D SPA'!$C$25<='ST BLOCCO 42'!K102,'ST BLOCCO 42'!K102,10000000000))","v":10000000000},{"$f":"IF($X$102=10000000000,10000000000,IF('SOLAI T2D SPA'!$C$25<='ST BLOCCO 42'!L102,'ST BLOCCO 42'!L102,10000000000))","v":10000000000},{"$f":"IF($X$102=10000000000,10000000000,IF('SOLAI T2D SPA'!$C$25<='ST BLOCCO 42'!M102,'ST BLOCCO 42'!M102,10000000000))","v":10000000000},{"$f":"IF($X$102=10000000000,10000000000,IF('SOLAI T2D SPA'!$C$25<='ST BLOCCO 42'!N102,'ST BLOCCO 42'!N102,10000000000))","v":10000000000},{"$f":"IF($X$102=10000000000,10000000000,IF('SOLAI T2D SPA'!$C$25<='ST BLOCCO 42'!O102,'ST BLOCCO 42'!O102,10000000000))","v":10000000000},{"$f":"IF($X$102=10000000000,10000000000,IF('SOLAI T2D SPA'!$C$25<='ST BLOCCO 42'!P102,'ST BLOCCO 42'!P102,10000000000))","v":10000000000},{"$f":"IF($X$102=10000000000,10000000000,IF('SOLAI T2D SPA'!$C$25<='ST BLOCCO 42'!Q102,'ST BLOCCO 42'!Q102,10000000000))","v":10000000000}]
[null,null,null,null,null,null,null,null,null,null,null,null,null,null,null,null,null,null,null,null,null,null,{"$f":"MIN(W87:W102)","v":10000000000},{"$f":"MIN(X87:X102)","v":10000000000},20000000000,10000000000,null,{"$f":"MIN(AB87:AB102)","v":10000000000},{"$f":"MIN(AC87:AC102)","v":10000000000},10000000000,10000000000,10000000000,10000000000,10000000000,10000000000,10000000000,10000000000,10000000000,10000000000,{"$f":"MIN(AB103:AM103)","v":10000000000},{"$f":"IF(AND(U12=1,AN103=10000000000),1,0)","v":0}]
[]
[]
[]
[]
[]
[]
[]
[]
["INTERASSE 52 CM - Larghezza travetto 14 cm - Larghezza blocco 42"]
["MOMENTO NEGATIVO",null,null,null,null,"1f8","1f10","1f12","2f10","1f10 + 1f12","2f12","1f12 + 1f14","2f14","1f14 + 1f16","2f16","1f16 + 1f18","2f18",null,null,null,null,null,"MOMENTO NEGATIVO",null,null,null,null,"1f8","1f10","1f12","2f10","1f10 + 1f12","2f12","1f12 + 1f14","2f14","1f14 + 1f16","2f16","1f16 + 1f18","2f18"]
["Altezza pignatta","Spessore soletta","Altezza solaio","Peso solaio","Volume cls getto in opera (l/mq)","Momenti ultimi riferiti ad una striscia di solaio larga 1,00 metro",null,null,null,null,null,null,null,null,null,null,null,null,null,null,null,null,"Altezza pignatta","Spessore soletta","Altezza solaio","Peso solaio",null,{"$f":"IF(AND(AB132<800000000,AB132=$AN$132),AB113,\"\")","v":""},{"$f":"IF(AND(AC132<800000000,AC132=$AN$132),AC113,\"\")","v":""},"","","","","","","","","","",{"$f":"AB114&AC114&AD114&AE114&AF114&AG114&AH114&AI114&AJ114&AK114&AL114&AM114","v":""}]
["[cm]","[cm]","[cm]","[daN/mq]","[l/mq]","[daNm]","[daNm]","[daNm]","[daNm]","[daNm]","[daNm]","[daNm]","[daNm]","[daNm]","[daNm]","[daNm]","[daNm]",null,null,null,null,null,"[cm]","[cm]","[cm]","[daN/mq]",null,"[daNm]","[daNm]","[daNm]","[daNm]","[daNm]","[daNm]","[daNm]","[daNm]","[daNm]","[daNm]","[daNm]","[daNm]"]
[12,4,{"$f":"A116+B116","v":16},221,60.76,525.61538461538453,817.46153846153845,1169.4038461538462,1609.8846153846152,1950.3076923076922,2286.3076923076924,2676.5576923076919,3059.8846153846157,3493.4038461538457,3918.4999999999995,4389.0192307692305,4847.2115384615381,null,null,null,null,null,{"$f":"W48","v":10000000000},{"$f":"X48","v":10000000000},{"$f":"W116+X116","v":20000000000},{"$f":"Z48","v":10000000000},null,{"$f":"IF($X$116=10000000000,10000000000,IF('SOLAI T2D SPA'!$C$25<='ST BLOCCO 42'!F116,'ST BLOCCO 42'!F116,10000000000))","v":10000000000},{"$f":"IF($X$116=10000000000,10000000000,IF('SOLAI T2D SPA'!$C$25<='ST BLOCCO 42'!G116,'ST BLOCCO 42'!G116,10000000000))","v":10000000000},{"$f":"IF($X$116=10000000000,10000000000,IF('SOLAI T2D SPA'!$C$25<='ST BLOCCO 42'!H116,'ST BLOCCO 42'!H116,10000000000))","v":10000000000},{"$f":"IF($X$116=10000000000,10000000000,IF('SOLAI T2D SPA'!$C$25<='ST BLOCCO 42'!I116,'ST BLOCCO 42'!I116,10000000000))","v":10000000000},{"$f":"IF($X$116=10000000000,10000000000,IF('SOLAI T2D SPA'!$C$25<='ST BLOCCO 42'!J116,'ST BLOCCO 42'!J116,10000000000))","v":10000000000},{"$f":"IF($X$116=10000000000,10000000000,IF('SOLAI T2D SPA'!$C$25<='ST BLOCCO 42'!K116,'ST BLOCCO 42'!K116,10000000000))","v":10000000000},{"$f":"IF($X$116=10000000000,10000000000,IF('SOLAI T2D SPA'!$C$25<='ST BLOCCO 42'!L116,'ST BLOCCO 42'!L116,10000000000))","v":10000000000},{"$f":"IF($X$116=10000000000,10000000000,IF('SOLAI T2D SPA'!$C$25<='ST BLOCCO 42'!M116,'ST BLOCCO 42'!M116,10000000000))","v":10000000000},{"$f":"IF($X$116=10000000000,10000000000,IF('SOLAI T2D SPA'!$C$25<='ST BLOCCO 42'!N116,'ST BLOCCO 42'!N116,10000000000))","v":10000000000},{"$f":"IF($X$116=10000000000,10000000000,IF('SOLAI T2D SPA'!$C$25<='ST BLOCCO 42'!O116,'ST BLOCCO 42'!O116,10000000000))","v":10000000000},{"$f":"IF($X$116=10000000000,10000000000,IF('SOLAI T2D SPA'!$C$25<='ST BLOCCO 42'!P116,'ST BLOCCO 42'!P116,10000000000))","v":10000000000},{"$f":"IF($X$116=10000000000,10000000000,IF('SOLAI T2D SPA'!$C$25<='ST BLOCCO 42'!Q116,'ST BLOCCO 42'!Q116,10000000000))","v":10000000000}]
[null,5,{"$f":"A116+B117","v":17},246,70.759999999999991,563.34615384615381,876.21153846153845,1254.4423076923076,1728.25,2094.6538461538462,2456.5769230769233,2877.1346153846152,3291.4423076923076,3761.1153846153843,4220.9038461538457,4731.1346153846152,5230.0769230769229,null,null,null,null,null,null,{"$f":"X49","v":10000000000},{"$f":"W116+X117","v":20000000000},{"$f":"Z49","v":10000000000},null,{"$f":"IF($X$117=10000000000,10000000000,IF('SOLAI T2D SPA'!$C$25<='ST BLOCCO 42'!F117,'ST BLOCCO 42'!F117,10000000000))","v":10000000000},{"$f":"IF($X$117=10000000000,10000000000,IF('SOLAI T2D SPA'!$C$25<='ST BLOCCO 42'!G117,'ST BLOCCO 42'!G117,10000000000))","v":10000000000},{"$f":"IF($X$117=10000000000,10000000000,IF('SOLAI T2D SPA'!$C$25<='ST BLOCCO 42'!H117,'ST BLOCCO 42'!H117,10000000000))","v":10000000000},{"$f":"IF($X$117=10000000000,10000000000,IF('SOLAI T2D SPA'!$C$25<='ST BLOCCO 42'!I117,'ST BLOCCO 42'!I117,10000000000))","v":10000000000},{"$f":"IF($X$117=10000000000,10000000000,IF('SOLAI T2D SPA'!$C$25<='ST BLOCCO 42'!J117,'ST BLOCCO 42'!J117,10000000000))","v":10000000000},{"$f":"IF($X$117=10000000000,10000000000,IF('SOLAI T2D SPA'!$C$25<='ST BLOCCO 42'!K117,'ST BLOCCO 42'!K117,10000000000))","v":10000000000},{"$f":"IF($X$117=10000000000,10000000000,IF('SOLAI T2D SPA'!$C$25<='ST BLOCCO 42'!L117,'ST BLOCCO 42'!L117,10000000000))","v":10000000000},{"$f":"IF($X$117=10000000000,10000000000,IF('SOLAI T2D SPA'!$C$25<='ST BLOCCO 42'!M117,'ST BLOCCO 42'!M117,10000000000))","v":10000000000},{"$f":"IF($X$117=10000000000,10000000000,IF('SOLAI T2D SPA'!$C$25<='ST BLOCCO 42'!N117,'ST BLOCCO 42'!N117,10000000000))","v":10000000000},{"$f":"IF($X$117=10000000000,10000000000,IF('SOLAI T2D SPA'!$C$25<='ST BLOCCO 42'!O117,'ST BLOCCO 42'!O117,10000000000))","v":10000000000},{"$f":"IF($X$117=10000000000,10000000000,IF('SOLAI T2D SPA'!$C$25<='ST BLOCCO 42'!P117,'ST BLOCCO 42'!P117,10000000000))","v":10000000000},{"$f":"IF($X$117=10000000000,10000000000,IF('SOLAI T2D SPA'!$C$25<='ST BLOCCO 42'!Q117,'ST BLOCCO 42'!Q117,10000000000))","v":10000000000}]
[14,4,{"$f":"A118+B118","v":18},232,65.16,601.11538461538453,936.15384615384619,1339.4230769230769,1846.3461538461538,2238.6923076923076,2626.6923076923076,3078.4038461538462,3523.2884615384614,4027.9423076923081,4523.4038461538457,5073.8076923076915,5612.961538461539,null,null,null,null,null,{"$f":"W50","v":10000000000},10000000000,{"$f":"W118+X118","v":20000000000},10000000000,null,{"$f":"IF($X$118=10000000000,10000000000,IF('SOLAI T2D SPA'!$C$25<='ST BLOCCO 42'!F118,'ST BLOCCO 42'!F118,10000000000))","v":10000000000},{"$f":"IF($X$118=10000000000,10000000000,IF('SOLAI T2D SPA'!$C$25<='ST BLOCCO 42'!G118,'ST BLOCCO 42'!G118,10000000000))","v":10000000000},{"$f":"IF($X$118=10000000000,10000000000,IF('SOLAI T2D SPA'!$C$25<='ST BLOCCO 42'!H118,'ST BLOCCO 42'!H118,10000000000))","v":10000000000},{"$f":"IF($X$118=10000000000,10000000000,IF('SOLAI T2D SPA'!$C$25<='ST BLOCCO 42'!I118,'ST BLOCCO 42'!I118,10000000000))","v":10000000000},{"$f":"IF($X$118=10000000000,10000000000,IF('SOLAI T2D SPA'!$C$25<='ST BLOCCO 42'!J118,'ST BLOCCO 42'!J118,10000000000))","v":10000000000},{"$f":"IF($X$118=10000000000,10000000000,IF('SOLAI T2D SPA'!$C$25<='ST BLOCCO 42'!K118,'ST BLOCCO 42'!K118,10000000000))","v":10000000000},{"$f":"IF($X$118=10000000000,10000000000,IF('SOLAI T2D SPA'!$C$25<='ST BLOCCO 42'!L118,'ST BLOCCO 42'!L118,10000000000))","v":10000000000},{"$f":"IF($X$118=10000000000,10000000000,IF('SOLAI T2D SPA'!$C$25<='ST BLOCCO 42'!M118,'ST BLOCCO 42'!M118,10000000000))","v":10000000000},{"$f":"IF($X$118=10000000000,10000000000,IF('SOLAI T2D SPA'!$C$25<='ST BLOCCO 42'!N118,'ST BLOCCO 42'!N118,10000000000))","v":10000000000},{"$f":"IF($X$118=10000000000,10000000000,IF('SOLAI T2D SPA'!$C$25<='ST BLOCCO 42'!O118,'ST BLOCCO 42'!O118,10000000000))","v":10000000000},{"$f":"IF($X$118=10000000000,10000000000,IF('SOLAI T2D SPA'!$C$25<='ST BLOCCO 42'!P118,'ST BLOCCO 42'!P118,10000000000))","v":10000000000},{"$f":"IF($X$118=10000000000,10000000000,IF('SOLAI T2D SPA'!$C$25<='ST BLOCCO 42'!Q118,'ST BLOCCO 42'!Q118,10000000000))","v":10000000000}]
[null,5,{"$f":"A118+B119","v":19},257,75.16,638.82692307692309,994.38461538461547,1424.2692307692307,1964.4423076923076,2383.4615384615386,2796.4423076923076,3279.4807692307691,3755.1153846153848,4294.9423076923076,4826.4807692307686,5416.4230769230762,5996.1730769230762,null,null,null,null,null,null,{"$f":"X51","v":10000000000},{"$f":"W118+X119","v":20000000000},10000000000,null,{"$f":"IF($X$119=10000000000,10000000000,IF('SOLAI T2D SPA'!$C$25<='ST BLOCCO 42'!F119,'ST BLOCCO 42'!F119,10000000000))","v":10000000000},{"$f":"IF($X$119=10000000000,10000000000,IF('SOLAI T2D SPA'!$C$25<='ST BLOCCO 42'!G119,'ST BLOCCO 42'!G119,10000000000))","v":10000000000},{"$f":"IF($X$119=10000000000,10000000000,IF('SOLAI T2D SPA'!$C$25<='ST BLOCCO 42'!H119,'ST BLOCCO 42'!H119,10000000000))","v":10000000000},{"$f":"IF($X$119=10000000000,10000000000,IF('SOLAI T2D SPA'!$C$25<='ST BLOCCO 42'!I119,'ST BLOCCO 42'!I119,10000000000))","v":10000000000},{"$f":"IF($X$119=10000000000,10000000000,IF('SOLAI T2D SPA'!$C$25<='ST BLOCCO 42'!J119,'ST BLOCCO 42'!J119,10000000000))","v":10000000000},{"$f":"IF($X$119=10000000000,10000000000,IF('SOLAI T2D SPA'!$C$25<='ST BLOCCO 42'!K119,'ST BLOCCO 42'!K119,10000000000))","v":10000000000},{"$f":"IF($X$119=10000000000,10000000000,IF('SOLAI T2D SPA'!$C$25<='ST BLOCCO 42'!L119,'ST BLOCCO 42'!L119,10000000000))","v":10000000000},{"$f":"IF($X$119=10000000000,10000000000,IF('SOLAI T2D SPA'!$C$25<='ST BLOCCO 42'!M119,'ST BLOCCO 42'!M119,10000000000))","v":10000000000},{"$f":"IF($X$119=10000000000,10000000000,IF('SOLAI T2D SPA'!$C$25<='ST BLOCCO 42'!N119,'ST BLOCCO 42'!N119,10000000000))","v":10000000000},{"$f":"IF($X$119=10000000000,10000000000,IF('SOLAI T2D SPA'!$C$25<='ST BLOCCO 42'!O119,'ST BLOCCO 42'!O119,10000000000))","v":10000000000},{"$f":"IF($X$119=10000000000,10000000000,IF('SOLAI T2D SPA'!$C$25<='ST BLOCCO 42'!P119,'ST BLOCCO 42'!P119,10000000000))","v":10000000000},{"$f":"IF($X$119=10000000000,10000000000,IF('SOLAI T2D SPA'!$C$25<='ST BLOCCO 42'!Q119,'ST BLOCCO 42'!Q119,10000000000))","v":10000000000}]
[16,4,{"$f":"A120+B120","v":20},255,66.44,676.63461538461536,1053.2307692307691,1509.3076923076924,2082.8269230769229,2527.6538461538462,2966.9423076923076,3480.1730769230771,3986.6730769230771,4561.8653846153848,5128.7692307692305,5759.5961538461534,6379.1153846153848,null,null,null,null,null,{"$f":"W52","v":10000000000},10000000000,{"$f":"W120+X120","v":20000000000},10000000000,null,{"$f":"IF($X$120=10000000000,10000000000,IF('SOLAI T2D SPA'!$C$25<='ST BLOCCO 42'!F120,'ST BLOCCO 42'!F120,10000000000))","v":10000000000},{"$f":"IF($X$120=10000000000,10000000000,IF('SOLAI T2D SPA'!$C$25<='ST BLOCCO 42'!G120,'ST BLOCCO 42'!G120,10000000000))","v":10000000000},{"$f":"IF($X$120=10000000000,10000000000,IF('SOLAI T2D SPA'!$C$25<='ST BLOCCO 42'!H120,'ST BLOCCO 42'!H120,10000000000))","v":10000000000},{"$f":"IF($X$120=10000000000,10000000000,IF('SOLAI T2D SPA'!$C$25<='ST BLOCCO 42'!I120,'ST BLOCCO 42'!I120,10000000000))","v":10000000000},{"$f":"IF($X$120=10000000000,10000000000,IF('SOLAI T2D SPA'!$C$25<='ST BLOCCO 42'!J120,'ST BLOCCO 42'!J120,10000000000))","v":10000000000},{"$f":"IF($X$120=10000000000,10000000000,IF('SOLAI T2D SPA'!$C$25<='ST BLOCCO 42'!K120,'ST BLOCCO 42'!K120,10000000000))","v":10000000000},{"$f":"IF($X$120=10000000000,10000000000,IF('SOLAI T2D SPA'!$C$25<='ST BLOCCO 42'!L120,'ST BLOCCO 42'!L120,10000000000))","v":10000000000},{"$f":"IF($X$120=10000000000,10000000000,IF('SOLAI T2D SPA'!$C$25<='ST BLOCCO 42'!M120,'ST BLOCCO 42'!M120,10000000000))","v":10000000000},{"$f":"IF($X$120=10000000000,10000000000,IF('SOLAI T2D SPA'!$C$25<='ST BLOCCO 42'!N120,'ST BLOCCO 42'!N120,10000000000))","v":10000000000},{"$f":"IF($X$120=10000000000,10000000000,IF('SOLAI T2D SPA'!$C$25<='ST BLOCCO 42'!O120,'ST BLOCCO 42'!O120,10000000000))","v":10000000000},{"$f":"IF($X$120=10000000000,10000000000,IF('SOLAI T2D SPA'!$C$25<='ST BLOCCO 42'!P120,'ST BLOCCO 42'!P120,10000000000))","v":10000000000},{"$f":"IF($X$120=10000000000,10000000000,IF('SOLAI T2D SPA'!$C$25<='ST BLOCCO 42'!Q120,'ST BLOCCO 42'!Q120,10000000000))","v":10000000000}]
[null,5,{"$f":"A120+B121","v":21},280,76.44,714.32692307692298,1112.1730769230769,1594.5576923076922,2201.0961538461538,2671.7307692307691,3137.4615384615386,3680.9423076923076,4218.5576923076924,4829.3269230769229,5431.9038461538466,6102.9230769230762,6762.5,null,null,null,null,null,null,10000000000,{"$f":"W120+X121","v":20000000000},10000000000,null,{"$f":"IF($X$121=10000000000,10000000000,IF('SOLAI T2D SPA'!$C$25<='ST BLOCCO 42'!F121,'ST BLOCCO 42'!F121,10000000000))","v":10000000000},{"$f":"IF($X$121=10000000000,10000000000,IF('SOLAI T2D SPA'!$C$25<='ST BLOCCO 42'!G121,'ST BLOCCO 42'!G121,10000000000))","v":10000000000},{"$f":"IF($X$121=10000000000,10000000000,IF('SOLAI T2D SPA'!$C$25<='ST BLOCCO 42'!H121,'ST BLOCCO 42'!H121,10000000000))","v":10000000000},{"$f":"IF($X$121=10000000000,10000000000,IF('SOLAI T2D SPA'!$C$25<='ST BLOCCO 42'!I121,'ST BLOCCO 42'!I121,10000000000))","v":10000000000},{"$f":"IF($X$121=10000000000,10000000000,IF('SOLAI T2D SPA'!$C$25<='ST BLOCCO 42'!J121,'ST BLOCCO 42'!J121,10000000000))","v":10000000000},{"$f":"IF($X$121=10000000000,10000000000,IF('SOLAI T2D SPA'!$C$25<='ST BLOCCO 42'!K121,'ST BLOCCO 42'!K121,10000000000))","v":10000000000},{"$f":"IF($X$121=10000000000,10000000000,IF('SOLAI T2D SPA'!$C$25<='ST BLOCCO 42'!L121,'ST BLOCCO 42'!L121,10000000000))","v":10000000000},{"$f":"IF($X$121=10000000000,10000000000,IF('SOLAI T2D SPA'!$C$25<='ST BLOCCO 42'!M121,'ST BLOCCO 42'!M121,10000000000))","v":10000000000},{"$f":"IF($X$121=10000000000,10000000000,IF('SOLAI T2D SPA'!$C$25<='ST BLOCCO 42'!N121,'ST BLOCCO 42'!N121,10000000000))","v":10000000000},{"$f":"IF($X$121=10000000000,10000000000,IF('SOLAI T2D SPA'!$C$25<='ST BLOCCO 42'!O121,'ST BLOCCO 42'!O121,10000000000))","v":10000000000},{"$f":"IF($X$121=10000000000,10000000000,IF('SOLAI T2D SPA'!$C$25<='ST BLOCCO 42'!P121,'ST BLOCCO 42'!P121,10000000000))","v":10000000000},{"$f":"IF($X$121=10000000000,10000000000,IF('SOLAI T2D SPA'!$C$25<='ST BLOCCO 42'!Q121,'ST BLOCCO 42'!Q121,10000000000))","v":10000000000}]
[18,4,{"$f":"A122+B122","v":22},270,71.88,751.94230769230762,1171.1730769230769,1679.5384615384614,2319.3269230769229,2815.5961538461534,3307.1730769230767,3881.7307692307691,4449.7115384615381,5096.1730769230771,5733.4615384615381,6445.961538461539,7144.4230769230762,null,null,null,null,null,{"$f":"W54","v":10000000000},10000000000,{"$f":"W122+X122","v":20000000000},10000000000,null,{"$f":"IF($X$122=10000000000,10000000000,IF('SOLAI T2D SPA'!$C$25<='ST BLOCCO 42'!F122,'ST BLOCCO 42'!F122,10000000000))","v":10000000000},{"$f":"IF($X$122=10000000000,10000000000,IF('SOLAI T2D SPA'!$C$25<='ST BLOCCO 42'!G122,'ST BLOCCO 42'!G122,10000000000))","v":10000000000},{"$f":"IF($X$122=10000000000,10000000000,IF('SOLAI T2D SPA'!$C$25<='ST BLOCCO 42'!H122,'ST BLOCCO 42'!H122,10000000000))","v":10000000000},{"$f":"IF($X$122=10000000000,10000000000,IF('SOLAI T2D SPA'!$C$25<='ST BLOCCO 42'!I122,'ST BLOCCO 42'!I122,10000000000))","v":10000000000},{"$f":"IF($X$122=10000000000,10000000000,IF('SOLAI T2D SPA'!$C$25<='ST BLOCCO 42'!J122,'ST BLOCCO 42'!J122,10000000000))","v":10000000000},{"$f":"IF($X$122=10000000000,10000000000,IF('SOLAI T2D SPA'!$C$25<='ST BLOCCO 42'!K122,'ST BLOCCO 42'!K122,10000000000))","v":10000000000},{"$f":"IF($X$122=10000000000,10000000000,IF('SOLAI T2D SPA'!$C$25<='ST BLOCCO 42'!L122,'ST BLOCCO 42'!L122,10000000000))","v":10000000000},{"$f":"IF($X$122=10000000000,10000000000,IF('SOLAI T2D SPA'!$C$25<='ST BLOCCO 42'!M122,'ST BLOCCO 42'!M122,10000000000))","v":10000000000},{"$f":"IF($X$122=10000000000,10000000000,IF('SOLAI T2D SPA'!$C$25<='ST BLOCCO 42'!N122,'ST BLOCCO 42'!N122,10000000000))","v":10000000000},{"$f":"IF($X$122=10000000000,10000000000,IF('SOLAI T2D SPA'!$C$25<='ST BLOCCO 42'!O122,'ST BLOCCO 42'!O122,10000000000))","v":10000000000},{"$f":"IF($X$122=10000000000,10000000000,IF('SOLAI T2D SPA'!$C$25<='ST BLOCCO 42'!P122,'ST BLOCCO 42'!P122,10000000000))","v":10000000000},{"$f":"IF($X$122=10000000000,10000000000,IF('SOLAI T2D SPA'!$C$25<='ST BLOCCO 42'!Q122,'ST BLOCCO 42'!Q122,10000000000))","v":10000000000}]
[null,5,{"$f":"A122+B123","v":23},295,81.88,789.75,1230.153846153846,1764.3269230769231,2437.2115384615381,2960.0769230769229,3477.5961538461534,4083.0961538461538,4681.5384615384619,5363.4615384615381,6036.7884615384619,6787.9038461538466,7527.6730769230762,null,null,null,null,null,null,10000000000,{"$f":"W122+X123","v":20000000000},10000000000,null,{"$f":"IF($X$123=10000000000,10000000000,IF('SOLAI T2D SPA'!$C$25<='ST BLOCCO 42'!F123,'ST BLOCCO 42'!F123,10000000000))","v":10000000000},{"$f":"IF($X$123=10000000000,10000000000,IF('SOLAI T2D SPA'!$C$25<='ST BLOCCO 42'!G123,'ST BLOCCO 42'!G123,10000000000))","v":10000000000},{"$f":"IF($X$123=10000000000,10000000000,IF('SOLAI T2D SPA'!$C$25<='ST BLOCCO 42'!H123,'ST BLOCCO 42'!H123,10000000000))","v":10000000000},{"$f":"IF($X$123=10000000000,10000000000,IF('SOLAI T2D SPA'!$C$25<='ST BLOCCO 42'!I123,'ST BLOCCO 42'!I123,10000000000))","v":10000000000},{"$f":"IF($X$123=10000000000,10000000000,IF('SOLAI T2D SPA'!$C$25<='ST BLOCCO 42'!J123,'ST BLOCCO 42'!J123,10000000000))","v":10000000000},{"$f":"IF($X$123=10000000000,10000000000,IF('SOLAI T2D SPA'!$C$25<='ST BLOCCO 42'!K123,'ST BLOCCO 42'!K123,10000000000))","v":10000000000},{"$f":"IF($X$123=10000000000,10000000000,IF('SOLAI T2D SPA'!$C$25<='ST BLOCCO 42'!L123,'ST BLOCCO 42'!L123,10000000000))","v":10000000000},{"$f":"IF($X$123=10000000000,10000000000,IF('SOLAI T2D SPA'!$C$25<='ST BLOCCO 42'!M123,'ST BLOCCO 42'!M123,10000000000))","v":10000000000},{"$f":"IF($X$123=10000000000,10000000000,IF('SOLAI T2D SPA'!$C$25<='ST BLOCCO 42'!N123,'ST BLOCCO 42'!N123,10000000000))","v":10000000000},{"$f":"IF($X$123=10000000000,10000000000,IF('SOLAI T2D SPA'!$C$25<='ST BLOCCO 42'!O123,'ST BLOCCO 42'!O123,10000000000))","v":10000000000},{"$f":"IF($X$123=10000000000,10000000000,IF('SOLAI T2D SPA'!$C$25<='ST BLOCCO 42'!P123,'ST BLOCCO 42'!P123,10000000000))","v":10000000000},{"$f":"IF($X$123=10000000000,10000000000,IF('SOLAI T2D SPA'!$C$25<='ST BLOCCO 42'!Q123,'ST BLOCCO 42'!Q123,10000000000))","v":10000000000}]
[20,4,{"$f":"A124+B124","v":24},286,76.28,827.42307692307691,1289.1346153846155,1849.3461538461538,2555.4038461538462,3104.0192307692305,3647.9423076923076,4284.0192307692305,4913,5631.038461538461,6339.4230769230771,7130.6346153846152,7911.2692307692305,null,null,null,null,null,{"$f":"W56","v":10000000000},10000000000,{"$f":"W124+X124","v":20000000000},10000000000,null,{"$f":"IF($X$124=10000000000,10000000000,IF('SOLAI T2D SPA'!$C$25<='ST BLOCCO 42'!F124,'ST BLOCCO 42'!F124,10000000000))","v":10000000000},{"$f":"IF($X$124=10000000000,10000000000,IF('SOLAI T2D SPA'!$C$25<='ST BLOCCO 42'!G124,'ST BLOCCO 42'!G124,10000000000))","v":10000000000},{"$f":"IF($X$124=10000000000,10000000000,IF('SOLAI T2D SPA'!$C$25<='ST BLOCCO 42'!H124,'ST BLOCCO 42'!H124,10000000000))","v":10000000000},{"$f":"IF($X$124=10000000000,10000000000,IF('SOLAI T2D SPA'!$C$25<='ST BLOCCO 42'!I124,'ST BLOCCO 42'!I124,10000000000))","v":10000000000},{"$f":"IF($X$124=10000000000,10000000000,IF('SOLAI T2D SPA'!$C$25<='ST BLOCCO 42'!J124,'ST BLOCCO 42'!J124,10000000000))","v":10000000000},{"$f":"IF($X$124=10000000000,10000000000,IF('SOLAI T2D SPA'!$C$25<='ST BLOCCO 42'!K124,'ST BLOCCO 42'!K124,10000000000))","v":10000000000},{"$f":"IF($X$124=10000000000,10000000000,IF('SOLAI T2D SPA'!$C$25<='ST BLOCCO 42'!L124,'ST BLOCCO 42'!L124,10000000000))","v":10000000000},{"$f":"IF($X$124=10000000000,10000000000,IF('SOLAI T2D SPA'!$C$25<='ST BLOCCO 42'!M124,'ST BLOCCO 42'!M124,10000000000))","v":10000000000},{"$f":"IF($X$124=10000000000,10000000000,IF('SOLAI T2D SPA'!$C$25<='ST BLOCCO 42'!N124,'ST BLOCCO 42'!N124,10000000000))","v":10000000000},{"$f":"IF($X$124=10000000000,10000000000,IF('SOLAI T2D SPA'!$C$25<='ST BLOCCO 42'!O124,'ST BLOCCO 42'!O124,10000000000))","v":10000000000},{"$f":"IF($X$124=10000000000,10000000000,IF('SOLAI T2D SPA'!$C$25<='ST BLOCCO 42'!P124,'ST BLOCCO 42'!P124,10000000000))","v":10000000000},{"$f":"IF($X$124=10000000000,10000000000,IF('SOLAI T2D SPA'!$C$25<='ST BLOCCO 42'!Q124,'ST BLOCCO 42'!Q124,10000000000))","v":10000000000}]
[null,5,{"$f":"A124+B125","v":25},311,86.28,865.15384615384608,1348.153846153846,1934.2499999999998,2673.2884615384614,3248.3269230769233,3817.9230769230767,4485.0576923076924,5144.7115384615381,5897.9423076923076,6642.0576923076915,7473.5961538461534,8293.7307692307695,null,null,null,null,null,null,10000000000,{"$f":"W124+X125","v":20000000000},10000000000,null,{"$f":"IF($X$125=10000000000,10000000000,IF('SOLAI T2D SPA'!$C$25<='ST BLOCCO 42'!F125,'ST BLOCCO 42'!F125,10000000000))","v":10000000000},{"$f":"IF($X$125=10000000000,10000000000,IF('SOLAI T2D SPA'!$C$25<='ST BLOCCO 42'!G125,'ST BLOCCO 42'!G125,10000000000))","v":10000000000},{"$f":"IF($X$125=10000000000,10000000000,IF('SOLAI T2D SPA'!$C$25<='ST BLOCCO 42'!H125,'ST BLOCCO 42'!H125,10000000000))","v":10000000000},{"$f":"IF($X$125=10000000000,10000000000,IF('SOLAI T2D SPA'!$C$25<='ST BLOCCO 42'!I125,'ST BLOCCO 42'!I125,10000000000))","v":10000000000},{"$f":"IF($X$125=10000000000,10000000000,IF('SOLAI T2D SPA'!$C$25<='ST BLOCCO 42'!J125,'ST BLOCCO 42'!J125,10000000000))","v":10000000000},{"$f":"IF($X$125=10000000000,10000000000,IF('SOLAI T2D SPA'!$C$25<='ST BLOCCO 42'!K125,'ST BLOCCO 42'!K125,10000000000))","v":10000000000},{"$f":"IF($X$125=10000000000,10000000000,IF('SOLAI T2D SPA'!$C$25<='ST BLOCCO 42'!L125,'ST BLOCCO 42'!L125,10000000000))","v":10000000000},{"$f":"IF($X$125=10000000000,10000000000,IF('SOLAI T2D SPA'!$C$25<='ST BLOCCO 42'!M125,'ST BLOCCO 42'!M125,10000000000))","v":10000000000},{"$f":"IF($X$125=10000000000,10000000000,IF('SOLAI T2D SPA'!$C$25<='ST BLOCCO 42'!N125,'ST BLOCCO 42'!N125,10000000000))","v":10000000000},{"$f":"IF($X$125=10000000000,10000000000,IF('SOLAI T2D SPA'!$C$25<='ST BLOCCO 42'!O125,'ST BLOCCO 42'!O125,10000000000))","v":10000000000},{"$f":"IF($X$125=10000000000,10000000000,IF('SOLAI T2D SPA'!$C$25<='ST BLOCCO 42'!P125,'ST BLOCCO 42'!P125,10000000000))","v":10000000000},{"$f":"IF($X$125=10000000000,10000000000,IF('SOLAI T2D SPA'!$C$25<='ST BLOCCO 42'!Q125,'ST BLOCCO 42'!Q125,10000000000))","v":10000000000}]
[22,4,{"$f":"A126+B126","v":26},304,81.72,902.88461538461536,1407.1730769230769,2019.25,2791.3076923076924,3392.5576923076924,3988.3076923076924,4685.6923076923076,5376.5961538461534,6165.1346153846152,6944.538461538461,7816.538461538461,8677.1923076923067,null,null,null,null,null,{"$f":"W58","v":10000000000},10000000000,{"$f":"W126+X126","v":20000000000},10000000000,null,{"$f":"IF($X$126=10000000000,10000000000,IF('SOLAI T2D SPA'!$C$25<='ST BLOCCO 42'!F126,'ST BLOCCO 42'!F126,10000000000))","v":10000000000},{"$f":"IF($X$126=10000000000,10000000000,IF('SOLAI T2D SPA'!$C$25<='ST BLOCCO 42'!G126,'ST BLOCCO 42'!G126,10000000000))","v":10000000000},{"$f":"IF($X$126=10000000000,10000000000,IF('SOLAI T2D SPA'!$C$25<='ST BLOCCO 42'!H126,'ST BLOCCO 42'!H126,10000000000))","v":10000000000},{"$f":"IF($X$126=10000000000,10000000000,IF('SOLAI T2D SPA'!$C$25<='ST BLOCCO 42'!I126,'ST BLOCCO 42'!I126,10000000000))","v":10000000000},{"$f":"IF($X$126=10000000000,10000000000,IF('SOLAI T2D SPA'!$C$25<='ST BLOCCO 42'!J126,'ST BLOCCO 42'!J126,10000000000))","v":10000000000},{"$f":"IF($X$126=10000000000,10000000000,IF('SOLAI T2D SPA'!$C$25<='ST BLOCCO 42'!K126,'ST BLOCCO 42'!K126,10000000000))","v":10000000000},{"$f":"IF($X$126=10000000000,10000000000,IF('SOLAI T2D SPA'!$C$25<='ST BLOCCO 42'!L126,'ST BLOCCO 42'!L126,10000000000))","v":10000000000},{"$f":"IF($X$126=10000000000,10000000000,IF('SOLAI T2D SPA'!$C$25<='ST BLOCCO 42'!M126,'ST BLOCCO 42'!M126,10000000000))","v":10000000000},{"$f":"IF($X$126=10000000000,10000000000,IF('SOLAI T2D SPA'!$C$25<='ST BLOCCO 42'!N126,'ST BLOCCO 42'!N126,10000000000))","v":10000000000},{"$f":"IF($X$126=10000000000,10000000000,IF('SOLAI T2D SPA'!$C$25<='ST BLOCCO 42'!O126,'ST BLOCCO 42'!O126,10000000000))","v":10000000000},{"$f":"IF($X$126=10000000000,10000000000,IF('SOLAI T2D SPA'!$C$25<='ST BLOCCO 42'!P126,'ST BLOCCO 42'!P126,10000000000))","v":10000000000},{"$f":"IF($X$126=10000000000,10000000000,IF('SOLAI T2D SPA'!$C$25<='ST BLOCCO 42'!Q126,'ST BLOCCO 42'!Q126,10000000000))","v":10000000000}]
[null,5,{"$f":"A126+B127","v":27},329,91.719999999999985,940.55769230769226,1465.9423076923076,2104.1346153846157,2909.5384615384614,3536.9615384615386,4158.6538461538457,4886.8653846153848,5608.038461538461,6431.9230769230762,7246.6730769230762,8159.2692307692305,9059.75,null,null,null,null,null,null,10000000000,{"$f":"W126+X127","v":20000000000},10000000000,null,{"$f":"IF($X$127=10000000000,10000000000,IF('SOLAI T2D SPA'!$C$25<='ST BLOCCO 42'!F127,'ST BLOCCO 42'!F127,10000000000))","v":10000000000},{"$f":"IF($X$127=10000000000,10000000000,IF('SOLAI T2D SPA'!$C$25<='ST BLOCCO 42'!G127,'ST BLOCCO 42'!G127,10000000000))","v":10000000000},{"$f":"IF($X$127=10000000000,10000000000,IF('SOLAI T2D SPA'!$C$25<='ST BLOCCO 42'!H127,'ST BLOCCO 42'!H127,10000000000))","v":10000000000},{"$f":"IF($X$127=10000000000,10000000000,IF('SOLAI T2D SPA'!$C$25<='ST BLOCCO 42'!I127,'ST BLOCCO 42'!I127,10000000000))","v":10000000000},{"$f":"IF($X$127=10000000000,10000000000,IF('SOLAI T2D SPA'!$C$25<='ST BLOCCO 42'!J127,'ST BLOCCO 42'!J127,10000000000))","v":10000000000},{"$f":"IF($X$127=10000000000,10000000000,IF('SOLAI T2D SPA'!$C$25<='ST BLOCCO 42'!K127,'ST BLOCCO 42'!K127,10000000000))","v":10000000000},{"$f":"IF($X$127=10000000000,10000000000,IF('SOLAI T2D SPA'!$C$25<='ST BLOCCO 42'!L127,'ST BLOCCO 42'!L127,10000000000))","v":10000000000},{"$f":"IF($X$127=10000000000,10000000000,IF('SOLAI T2D SPA'!$C$25<='ST BLOCCO 42'!M127,'ST BLOCCO 42'!M127,10000000000))","v":10000000000},{"$f":"IF($X$127=10000000000,10000000000,IF('SOLAI T2D SPA'!$C$25<='ST BLOCCO 42'!N127,'ST BLOCCO 42'!N127,10000000000))","v":10000000000},{"$f":"IF($X$127=10000000000,10000000000,IF('SOLAI T2D SPA'!$C$25<='ST BLOCCO 42'!O127,'ST BLOCCO 42'!O127,10000000000))","v":10000000000},{"$f":"IF($X$127=10000000000,10000000000,IF('SOLAI T2D SPA'!$C$25<='ST BLOCCO 42'!P127,'ST BLOCCO 42'!P127,10000000000))","v":10000000000},{"$f":"IF($X$127=10000000000,10000000000,IF('SOLAI T2D SPA'!$C$25<='ST BLOCCO 42'!Q127,'ST BLOCCO 42'!Q127,10000000000))","v":10000000000}]
[24,4,{"$f":"A128+B128","v":28},321,85.08,978.32692307692309,1524.9615384615383,2189.1923076923076,3027.5576923076919,3680.8461538461538,4328.8653846153848,5087.9423076923076,5840.0769230769229,6699.4807692307686,7549.7499999999991,8502.5,9442.9615384615372,null,null,null,null,null,{"$f":"W60","v":10000000000},10000000000,{"$f":"W128+X128","v":20000000000},10000000000,null,{"$f":"IF($X$128=10000000000,10000000000,IF('SOLAI T2D SPA'!$C$25<='ST BLOCCO 42'!F128,'ST BLOCCO 42'!F128,10000000000))","v":10000000000},{"$f":"IF($X$128=10000000000,10000000000,IF('SOLAI T2D SPA'!$C$25<='ST BLOCCO 42'!G128,'ST BLOCCO 42'!G128,10000000000))","v":10000000000},{"$f":"IF($X$128=10000000000,10000000000,IF('SOLAI T2D SPA'!$C$25<='ST BLOCCO 42'!H128,'ST BLOCCO 42'!H128,10000000000))","v":10000000000},{"$f":"IF($X$128=10000000000,10000000000,IF('SOLAI T2D SPA'!$C$25<='ST BLOCCO 42'!I128,'ST BLOCCO 42'!I128,10000000000))","v":10000000000},{"$f":"IF($X$128=10000000000,10000000000,IF('SOLAI T2D SPA'!$C$25<='ST BLOCCO 42'!J128,'ST BLOCCO 42'!J128,10000000000))","v":10000000000},{"$f":"IF($X$128=10000000000,10000000000,IF('SOLAI T2D SPA'!$C$25<='ST BLOCCO 42'!K128,'ST BLOCCO 42'!K128,10000000000))","v":10000000000},{"$f":"IF($X$128=10000000000,10000000000,IF('SOLAI T2D SPA'!$C$25<='ST BLOCCO 42'!L128,'ST BLOCCO 42'!L128,10000000000))","v":10000000000},{"$f":"IF($X$128=10000000000,10000000000,IF('SOLAI T2D SPA'!$C$25<='ST BLOCCO 42'!M128,'ST BLOCCO 42'!M128,10000000000))","v":10000000000},{"$f":"IF($X$128=10000000000,10000000000,IF('SOLAI T2D SPA'!$C$25<='ST BLOCCO 42'!N128,'ST BLOCCO 42'!N128,10000000000))","v":10000000000},{"$f":"IF($X$128=10000000000,10000000000,IF('SOLAI T2D SPA'!$C$25<='ST BLOCCO 42'!O128,'ST BLOCCO 42'!O128,10000000000))","v":10000000000},{"$f":"IF($X$128=10000000000,10000000000,IF('SOLAI T2D SPA'!$C$25<='ST BLOCCO 42'!P128,'ST BLOCCO 42'!P128,10000000000))","v":10000000000},{"$f":"IF($X$128=10000000000,10000000000,IF('SOLAI T2D SPA'!$C$25<='ST BLOCCO 42'!Q128,'ST BLOCCO 42'!Q128,10000000000))","v":10000000000}]
[null,5,{"$f":"A128+B129","v":29},346,95.08,1016.0384615384615,1583.8269230769231,2273.9807692307691,3145.3461538461538,3824.5,4498.9230769230771,5288.9230769230762,6071.4615384615381,6966.4423076923076,7852.288461538461,8845.1730769230762,9825.7307692307695,null,null,null,null,null,null,10000000000,{"$f":"W128+X129","v":20000000000},10000000000,null,{"$f":"IF($X$129=10000000000,10000000000,IF('SOLAI T2D SPA'!$C$25<='ST BLOCCO 42'!F129,'ST BLOCCO 42'!F129,10000000000))","v":10000000000},{"$f":"IF($X$129=10000000000,10000000000,IF('SOLAI T2D SPA'!$C$25<='ST BLOCCO 42'!G129,'ST BLOCCO 42'!G129,10000000000))","v":10000000000},{"$f":"IF($X$129=10000000000,10000000000,IF('SOLAI T2D SPA'!$C$25<='ST BLOCCO 42'!H129,'ST BLOCCO 42'!H129,10000000000))","v":10000000000},{"$f":"IF($X$129=10000000000,10000000000,IF('SOLAI T2D SPA'!$C$25<='ST BLOCCO 42'!I129,'ST BLOCCO 42'!I129,10000000000))","v":10000000000},{"$f":"IF($X$129=10000000000,10000000000,IF('SOLAI T2D SPA'!$C$25<='ST BLOCCO 42'!J129,'ST BLOCCO 42'!J129,10000000000))","v":10000000000},{"$f":"IF($X$129=10000000000,10000000000,IF('SOLAI T2D SPA'!$C$25<='ST BLOCCO 42'!K129,'ST BLOCCO 42'!K129,10000000000))","v":10000000000},{"$f":"IF($X$129=10000000000,10000000000,IF('SOLAI T2D SPA'!$C$25<='ST BLOCCO 42'!L129,'ST BLOCCO 42'!L129,10000000000))","v":10000000000},{"$f":"IF($X$129=10000000000,10000000000,IF('SOLAI T2D SPA'!$C$25<='ST BLOCCO 42'!M129,'ST BLOCCO 42'!M129,10000000000))","v":10000000000},{"$f":"IF($X$129=10000000000,10000000000,IF('SOLAI T2D SPA'!$C$25<='ST BLOCCO 42'!N129,'ST BLOCCO 42'!N129,10000000000))","v":10000000000},{"$f":"IF($X$129=10000000000,10000000000,IF('SOLAI T2D SPA'!$C$25<='ST BLOCCO 42'!O129,'ST BLOCCO 42'!O129,10000000000))","v":10000000000},{"$f":"IF($X$129=10000000000,10000000000,IF('SOLAI T2D SPA'!$C$25<='ST BLOCCO 42'!P129,'ST BLOCCO 42'!P129,10000000000))","v":10000000000},{"$f":"IF($X$129=10000000000,10000000000,IF('SOLAI T2D SPA'!$C$25<='ST BLOCCO 42'!Q129,'ST BLOCCO 42'!Q129,10000000000))","v":10000000000}]
[30,4,{"$f":"A130+B130","v":34},369,99.32,1205,1878.5576923076924,2698.4230769230771,3735.4230769230771,4544.7115384615381,5349.3269230769229,6293.5192307692305,7230.1153846153838,8302.1346153846152,9364.9807692307695,10558.403846153846,11740.557692307693,null,null,null,null,null,{"$f":"W62","v":10000000000},10000000000,{"$f":"W130+X130","v":20000000000},10000000000,null,{"$f":"IF($X$130=10000000000,10000000000,IF('SOLAI T2D SPA'!$C$25<='ST BLOCCO 42'!F130,'ST BLOCCO 42'!F130,10000000000))","v":10000000000},{"$f":"IF($X$130=10000000000,10000000000,IF('SOLAI T2D SPA'!$C$25<='ST BLOCCO 42'!G130,'ST BLOCCO 42'!G130,10000000000))","v":10000000000},{"$f":"IF($X$130=10000000000,10000000000,IF('SOLAI T2D SPA'!$C$25<='ST BLOCCO 42'!H130,'ST BLOCCO 42'!H130,10000000000))","v":10000000000},{"$f":"IF($X$130=10000000000,10000000000,IF('SOLAI T2D SPA'!$C$25<='ST BLOCCO 42'!I130,'ST BLOCCO 42'!I130,10000000000))","v":10000000000},{"$f":"IF($X$130=10000000000,10000000000,IF('SOLAI T2D SPA'!$C$25<='ST BLOCCO 42'!J130,'ST BLOCCO 42'!J130,10000000000))","v":10000000000},{"$f":"IF($X$130=10000000000,10000000000,IF('SOLAI T2D SPA'!$C$25<='ST BLOCCO 42'!K130,'ST BLOCCO 42'!K130,10000000000))","v":10000000000},{"$f":"IF($X$130=10000000000,10000000000,IF('SOLAI T2D SPA'!$C$25<='ST BLOCCO 42'!L130,'ST BLOCCO 42'!L130,10000000000))","v":10000000000},{"$f":"IF($X$130=10000000000,10000000000,IF('SOLAI T2D SPA'!$C$25<='ST BLOCCO 42'!M130,'ST BLOCCO 42'!M130,10000000000))","v":10000000000},{"$f":"IF($X$130=10000000000,10000000000,IF('SOLAI T2D SPA'!$C$25<='ST BLOCCO 42'!N130,'ST BLOCCO 42'!N130,10000000000))","v":10000000000},{"$f":"IF($X$130=10000000000,10000000000,IF('SOLAI T2D SPA'!$C$25<='ST BLOCCO 42'!O130,'ST BLOCCO 42'!O130,10000000000))","v":10000000000},{"$f":"IF($X$130=10000000000,10000000000,IF('SOLAI T2D SPA'!$C$25<='ST BLOCCO 42'!P130,'ST BLOCCO 42'!P130,10000000000))","v":10000000000},{"$f":"IF($X$130=10000000000,10000000000,IF('SOLAI T2D SPA'!$C$25<='ST BLOCCO 42'!Q130,'ST BLOCCO 42'!Q130,10000000000))","v":10000000000}]
[null,5,{"$f":"A130+B131","v":35},394,109.31999999999998,1242.4230769230767,1937.6153846153845,2783.5769230769229,3853.3461538461538,4688.9038461538457,5519.0769230769229,6494.6923076923067,7461.3269230769229,8569.4038461538457,9667.538461538461,10901.884615384615,12123.807692307693,null,null,null,null,null,null,10000000000,{"$f":"W130+X131","v":20000000000},10000000000,null,{"$f":"IF($X$131=10000000000,10000000000,IF('SOLAI T2D SPA'!$C$25<='ST BLOCCO 42'!F131,'ST BLOCCO 42'!F131,10000000000))","v":10000000000},{"$f":"IF($X$131=10000000000,10000000000,IF('SOLAI T2D SPA'!$C$25<='ST BLOCCO 42'!G131,'ST BLOCCO 42'!G131,10000000000))","v":10000000000},{"$f":"IF($X$131=10000000000,10000000000,IF('SOLAI T2D SPA'!$C$25<='ST BLOCCO 42'!H131,'ST BLOCCO 42'!H131,10000000000))","v":10000000000},{"$f":"IF($X$131=10000000000,10000000000,IF('SOLAI T2D SPA'!$C$25<='ST BLOCCO 42'!I131,'ST BLOCCO 42'!I131,10000000000))","v":10000000000},{"$f":"IF($X$131=10000000000,10000000000,IF('SOLAI T2D SPA'!$C$25<='ST BLOCCO 42'!J131,'ST BLOCCO 42'!J131,10000000000))","v":10000000000},{"$f":"IF($X$131=10000000000,10000000000,IF('SOLAI T2D SPA'!$C$25<='ST BLOCCO 42'!K131,'ST BLOCCO 42'!K131,10000000000))","v":10000000000},{"$f":"IF($X$131=10000000000,10000000000,IF('SOLAI T2D SPA'!$C$25<='ST BLOCCO 42'!L131,'ST BLOCCO 42'!L131,10000000000))","v":10000000000},{"$f":"IF($X$131=10000000000,10000000000,IF('SOLAI T2D SPA'!$C$25<='ST BLOCCO 42'!M131,'ST BLOCCO 42'!M131,10000000000))","v":10000000000},{"$f":"IF($X$131=10000000000,10000000000,IF('SOLAI T2D SPA'!$C$25<='ST BLOCCO 42'!N131,'ST BLOCCO 42'!N131,10000000000))","v":10000000000},{"$f":"IF($X$131=10000000000,10000000000,IF('SOLAI T2D SPA'!$C$25<='ST BLOCCO 42'!O131,'ST BLOCCO 42'!O131,10000000000))","v":10000000000},{"$f":"IF($X$131=10000000000,10000000000,IF('SOLAI T2D SPA'!$C$25<='ST BLOCCO 42'!P131,'ST BLOCCO 42'!P131,10000000000))","v":10000000000},{"$f":"IF($X$131=10000000000,10000000000,IF('SOLAI T2D SPA'!$C$25<='ST BLOCCO 42'!Q131,'ST BLOCCO 42'!Q131,10000000000))","v":10000000000}]
[null,null,null,null,null,null,null,null,null,null,null,null,null,null,null,null,null,null,null,null,null,null,{"$f":"MIN(W116:W131)","v":10000000000},{"$f":"MIN(X116:X131)","v":10000000000},20000000000,10000000000,null,{"$f":"MIN(AB116:AB131)","v":10000000000},{"$f":"MIN(AC116:AC131)","v":10000000000},10000000000,10000000000,10000000000,10000000000,10000000000,10000000000,10000000000,10000000000,10000000000,10000000000,{"$f":"MIN(AB132:AM132)","v":10000000000},{"$f":"IF(AND(U46=1,AN132=10000000000),1,0)","v":0}]
[]
[null,null,null,null,null,null,null,null,null,null,null,null,null,null,null,null,null,null,null,null,null,null,{"$f":"MIN(W103,W132)","v":10000000000},{"$f":"MIN(X103,X132)","v":10000000000},20000000000,10000000000,null,null,null,null,null,null,null,null,null,null,null,null,null,{"$f":"MIN(AN103,AN132)","v":10000000000}]

{"sheet":"ST BLOCCO 52","index":5,"n_rows":91,"n_cols":65,"rows_kept":91,"cut":false,"hidden":true,"merged":[[83,46,84,46],[85,46,86,46],[74,51,74,62],[75,46,76,46],[77,46,78,46],[79,46,80,46],[81,46,82,46],[67,22,68,22],[69,22,70,22],[29,46,30,46],[31,46,32,46],[33,46,34,46],[35,46,36,46],[37,46,38,46],[39,46,40,46],[23,22,24,22],[59,22,60,22],[61,22,62,22],[63,22,64,22],[65,22,66,22],[13,22,14,22],[15,22,16,22],[17,22,18,22],[19,22,20,22],[21,22,22,22],[77,0,78,0],[79,0,80,0],[81,0,82,0],[83,0,84,0],[85,0,86,0],[67,0,68,0],[69,0,70,0],[73,0,73,4],[74,5,74,16],[75,0,76,0],[57,18,58,18],[59,0,60,0],[61,0,62,0],[63,0,64,0],[65,0,66,0],[11,18,12,18],[26,0,26,4],[27,5,27,16],[29,0,30,0],[31,0,32,0],[21,0,22,0],[11,5,11,15],[13,0,14,0],[15,0,16,0],[17,0,18,0],[19,0,20,0],[1,16,11,16],[23,0,24,0],[0,0,0,15],[1,0,10,4],[1,5,1,11],[1,12,1,15],[3,5,3,11],[3,12,10,15],[33,0,34,0],[35,0,36,0],[37,0,38,0],[39,0,40,0],[42,0,42,16],[43,0,56,4],[43,5,43,11],[43,12,43,15],[43,16,57,16],[45,5,45,11],[45,12,56,15],[57,5,57,15]]}
["INTERASSE 60 CM - Larghezza travetto 12 cm - Larghezza blocco 52",null,null,null,null,null,null,null,null,null,null,null,null,null,null,null,null,null,null,null,"CONTROLLO"]
["MOMENTO POSITIVO",null,null,null,null,"Armatura standard",null,null,null,null,null,null,"Armatura non standard",null,null,null,"Taglio ultimo"]
[null,null,null,null,null,"2f5","2f5 + 1f8","2f5 + 1f10","2f5 + 1f12","2f5 + 2f10","2f5 + 1f10 + 1f12","2f5 + 2f12","2f5 + 1f12 + 1f14","2f5 + 2f14","2f5 + 1f14 + 1f16","2f5 + 2f16"]
[null,null,null,null,null,"Lunghezza travetti confezionati disponibili (cm)",null,null,null,null,null,null,"Travetti da confezionare su richiesta",null,null,null,null,null,null,null,null,null,null,null,null,null,null,"2f5","2f5 + 1f8","2f5 + 1f10","2f5 + 1f12","2f5 + 2f10","2f5 + 1f10 + 1f12","2f5 + 2f12","2f5 + 1f12 + 1f14","2f5 + 2f14","2f5 + 1f14 + 1f16","2f5 + 2f16"]
[null,null,null,null,null,100,240,380,440,500,600,680]
[null,null,null,null,null,120,260,400,460,520,620,700]
[null,null,null,null,null,140,280,420,480,540,640]
[null,null,null,null,null,160,300,null,null,560,660,null,null,null,null,null,null,null,null,null,null,null,null,null,null,null,null,{"$f":"IF(AND(AB26=$AM$26,AB26<800000000),AB4,\"\")","v":""},{"$f":"IF(AND(AC26=$AM$26,AC26<800000000),AC4,\"\")","v":""},"","","","","","","","","",{"$f":"AB8&AC8&AD8&AE8&AF8&AG8&AH8&AI8&AJ8&AK8&AL8","v":""}]
[null,null,null,null,null,180,320,null,null,580]
[null,null,null,null,null,200,340]
[null,null,null,null,null,220,360]
["Altezza pignatta","Spessore soletta","Altezza solaio","Peso solaio","Volume cls getto in opera (l/mq)","Momenti ultimi riferiti ad una striscia di solaio larga 1,00 metro",null,null,null,null,null,null,null,null,null,null,null,null,"CALCOLO",null,{"$f":"IF(AND('SOLAI T2D SPA'!C2=\"Travetto_singolo\",'SOLAI T2D SPA'!C4=\"Travetto_12\",'SOLAI T2D SPA'!C5=\"Pignatta_48\"),1,0)","v":0}]
["[cm]","[cm]","[cm]","[daN/mq]","[l/mq]","[daNm]","[daNm]","[daNm]","[daNm]","[daNm]","[daNm]","[daNm]","[daNm]","[daNm]","[daNm]","[daNm]","[daN]"]
[12,4,{"$f":"A14+B14","v":16},206,null,356.40000000000003,804.73333333333335,1052.7666666666667,1351.4,1724.7,2012.6,2295.9166666666665,2625.3666666666668,2947.7833333333338,3311.9833333333336,3667.8999999999996,1268.3333333333335,null,{"$f":"\"MOM60\"&A14&B14","v":"MOM60124"},null,null,null,{"$f":"IF(AND($U$12=1,'SOLAI T2D SPA'!$C$6=A14),A14,10000000000)","v":10000000000},{"$f":"IF(W14=10000000000,10000000000,IF('SOLAI T2D SPA'!$C$7='ST BLOCCO 52'!B14,'ST BLOCCO 52'!B14,10000000000))","v":10000000000},{"$f":"W14+X14","v":20000000000},{"$f":"IF(Y14>100000,10000000000,D14)","v":10000000000},null,{"$f":"IF($X$14=10000000000,10000000000,IF('SOLAI T2D SPA'!$C$20<=F14,F14,10000000000))","v":10000000000},{"$f":"IF($X$14=10000000000,10000000000,IF('SOLAI T2D SPA'!$C$20<=G14,G14,10000000000))","v":10000000000},{"$f":"IF($X$14=10000000000,10000000000,IF('SOLAI T2D SPA'!$C$20<=H14,H14,10000000000))","v":10000000000},{"$f":"IF($X$14=10000000000,10000000000,IF('SOLAI T2D SPA'!$C$20<=I14,I14,10000000000))","v":10000000000},{"$f":"IF($X$14=10000000000,10000000000,IF('SOLAI T2D SPA'!$C$20<=J14,J14,10000000000))","v":10000000000},{"$f":"IF($X$14=10000000000,10000000000,IF('SOLAI T2D SPA'!$C$20<=K14,K14,10000000000))","v":10000000000},{"$f":"IF($X$14=10000000000,10000000000,IF('SOLAI T2D SPA'!$C$20<=L14,L14,10000000000))","v":10000000000},{"$f":"IF($X$14=10000000000,10000000000,IF('SOLAI T2D SPA'!$C$20<=M14,M14,10000000000))","v":10000000000},{"$f":"IF($X$14=10000000000,10000000000,IF('SOLAI T2D SPA'!$C$20<=N14,N14,10000000000))","v":10000000000},{"$f":"IF($X$14=10000000000,10000000000,IF('SOLAI T2D SPA'!$C$20<=O14,O14,10000000000))","v":10000000000},{"$f":"IF($X$14=10000000000,10000000000,IF('SOLAI T2D SPA'!$C$20<=P14,P14,10000000000))","v":10000000000},null,null,null,1268.3333333333335]
[null,5,{"$f":"A14+B15","v":17},231,null,382.36666666666667,865.96666666666681,1134.6500000000001,1459.6833333333334,1867.5333333333333,2183.85,2496.4666666666672,2861.3166666666666,3220.6333333333337,3629.0333333333338,4030.916666666667,1358.3333333333335,null,{"$f":"\"MOM60\"&A14&B15","v":"MOM60125"},null,null,null,null,{"$f":"IF(W14=10000000000,10000000000,IF('SOLAI T2D SPA'!$C$7='ST BLOCCO 52'!B15,'ST BLOCCO 52'!B15,10000000000))","v":10000000000},{"$f":"W14+X15","v":20000000000},{"$f":"IF(Y15>100000,10000000000,D15)","v":10000000000},null,{"$f":"IF($X$15=10000000000,10000000000,IF('SOLAI T2D SPA'!$C$20<=F15,F15,10000000000))","v":10000000000},{"$f":"IF($X$15=10000000000,10000000000,IF('SOLAI T2D SPA'!$C$20<=G15,G15,10000000000))","v":10000000000},{"$f":"IF($X$15=10000000000,10000000000,IF('SOLAI T2D SPA'!$C$20<=H15,H15,10000000000))","v":10000000000},{"$f":"IF($X$15=10000000000,10000000000,IF('SOLAI T2D SPA'!$C$20<=I15,I15,10000000000))","v":10000000000},{"$f":"IF($X$15=10000000000,10000000000,IF('SOLAI T2D SPA'!$C$20<=J15,J15,10000000000))","v":10000000000},{"$f":"IF($X$15=10000000000,10000000000,IF('SOLAI T2D SPA'!$C$20<=K15,K15,10000000000))","v":10000000000},{"$f":"IF($X$15=10000000000,10000000000,IF('SOLAI T2D SPA'!$C$20<=L15,L15,10000000000))","v":10000000000},{"$f":"IF($X$15=10000000000,10000000000,IF('SOLAI T2D SPA'!$C$20<=M15,M15,10000000000))","v":10000000000},{"$f":"IF($X$15=10000000000,10000000000,IF('SOLAI T2D SPA'!$C$20<=N15,N15,10000000000))","v":10000000000},{"$f":"IF($X$15=10000000000,10000000000,IF('SOLAI T2D SPA'!$C$20<=O15,O15,10000000000))","v":10000000000},{"$f":"IF($X$15=10000000000,10000000000,IF('SOLAI T2D SPA'!$C$20<=P15,P15,10000000000))","v":10000000000},null,null,null,1358.3333333333335]
[14,4,{"$f":"A16+B16","v":18},219,null,407.38333333333338,921.33333333333326,1206.2166666666667,1549.9,1980.6166666666666,2313.7666666666669,2642.4333333333334,3025.0166666666669,3400.4333333333334,3825.9833333333336,4243.25,1448.3333333333335,null,{"$f":"\"MOM60\"&A16&B16","v":"MOM60144"},null,null,null,{"$f":"IF(AND($U$12=1,'SOLAI T2D SPA'!$C$6=A16),A16,10000000000)","v":10000000000},{"$f":"IF(W16=10000000000,10000000000,IF('SOLAI T2D SPA'!$C$7='ST BLOCCO 52'!B16,'ST BLOCCO 52'!B16,10000000000))","v":10000000000},{"$f":"W16+X16","v":20000000000},10000000000,null,{"$f":"IF($X$16=10000000000,10000000000,IF('SOLAI T2D SPA'!$C$20<=F16,F16,10000000000))","v":10000000000},{"$f":"IF($X$16=10000000000,10000000000,IF('SOLAI T2D SPA'!$C$20<=G16,G16,10000000000))","v":10000000000},{"$f":"IF($X$16=10000000000,10000000000,IF('SOLAI T2D SPA'!$C$20<=H16,H16,10000000000))","v":10000000000},{"$f":"IF($X$16=10000000000,10000000000,IF('SOLAI T2D SPA'!$C$20<=I16,I16,10000000000))","v":10000000000},{"$f":"IF($X$16=10000000000,10000000000,IF('SOLAI T2D SPA'!$C$20<=J16,J16,10000000000))","v":10000000000},{"$f":"IF($X$16=10000000000,10000000000,IF('SOLAI T2D SPA'!$C$20<=K16,K16,10000000000))","v":10000000000},{"$f":"IF($X$16=10000000000,10000000000,IF('SOLAI T2D SPA'!$C$20<=L16,L16,10000000000))","v":10000000000},{"$f":"IF($X$16=10000000000,10000000000,IF('SOLAI T2D SPA'!$C$20<=M16,M16,10000000000))","v":10000000000},{"$f":"IF($X$16=10000000000,10000000000,IF('SOLAI T2D SPA'!$C$20<=N16,N16,10000000000))","v":10000000000},{"$f":"IF($X$16=10000000000,10000000000,IF('SOLAI T2D SPA'!$C$20<=O16,O16,10000000000))","v":10000000000},{"$f":"IF($X$16=10000000000,10000000000,IF('SOLAI T2D SPA'!$C$20<=P16,P16,10000000000))","v":10000000000},null,null,null,1448.3333333333335]
[null,5,{"$f":"A16+B17","v":19},244,null,433.51666666666671,982.45,1288.1500000000001,1658.1333333333334,2123.6333333333337,2484.9500000000003,2842.5166666666669,3260.7666666666669,3673.5333333333333,4143.8833333333332,4606.1833333333334,1540,null,{"$f":"\"MOM60\"&A16&B17","v":"MOM60145"},null,null,null,null,{"$f":"IF(W16=10000000000,10000000000,IF('SOLAI T2D SPA'!$C$7='ST BLOCCO 52'!B17,'ST BLOCCO 52'!B17,10000000000))","v":10000000000},{"$f":"W16+X17","v":20000000000},10000000000,null,{"$f":"IF($X$17=10000000000,10000000000,IF('SOLAI T2D SPA'!$C$20<=F17,F17,10000000000))","v":10000000000},{"$f":"IF($X$17=10000000000,10000000000,IF('SOLAI T2D SPA'!$C$20<=G17,G17,10000000000))","v":10000000000},{"$f":"IF($X$17=10000000000,10000000000,IF('SOLAI T2D SPA'!$C$20<=H17,H17,10000000000))","v":10000000000},{"$f":"IF($X$17=10000000000,10000000000,IF('SOLAI T2D SPA'!$C$20<=I17,I17,10000000000))","v":10000000000},{"$f":"IF($X$17=10000000000,10000000000,IF('SOLAI T2D SPA'!$C$20<=J17,J17,10000000000))","v":10000000000},{"$f":"IF($X$17=10000000000,10000000000,IF('SOLAI T2D SPA'!$C$20<=K17,K17,10000000000))","v":10000000000},{"$f":"IF($X$17=10000000000,10000000000,IF('SOLAI T2D SPA'!$C$20<=L17,L17,10000000000))","v":10000000000},{"$f":"IF($X$17=10000000000,10000000000,IF('SOLAI T2D SPA'!$C$20<=M17,M17,10000000000))","v":10000000000},{"$f":"IF($X$17=10000000000,10000000000,IF('SOLAI T2D SPA'!$C$20<=N17,N17,10000000000))","v":10000000000},{"$f":"IF($X$17=10000000000,10000000000,IF('SOLAI T2D SPA'!$C$20<=O17,O17,10000000000))","v":10000000000},{"$f":"IF($X$17=10000000000,10000000000,IF('SOLAI T2D SPA'!$C$20<=P17,P17,10000000000))","v":10000000000},null,null,null,1540]
[16,4,{"$f":"A18+B18","v":20},233,null,458.50000000000006,1037.9666666666667,1359.8,1748.7833333333333,2236.7000000000003,2615.1333333333332,2988.65,3424.416666666667,3853.7666666666673,4340.0833333333339,4819.0333333333338,1630,null,{"$f":"\"MOM60\"&A18&B18","v":"MOM60164"},null,null,null,{"$f":"IF(AND($U$12=1,'SOLAI T2D SPA'!$C$6=A18),A18,10000000000)","v":10000000000},{"$f":"IF(W18=10000000000,10000000000,IF('SOLAI T2D SPA'!$C$7='ST BLOCCO 52'!B18,'ST BLOCCO 52'!B18,10000000000))","v":10000000000},{"$f":"W18+X18","v":20000000000},10000000000,null,{"$f":"IF($X$18=10000000000,10000000000,IF('SOLAI T2D SPA'!$C$20<=F18,F18,10000000000))","v":10000000000},{"$f":"IF($X$18=10000000000,10000000000,IF('SOLAI T2D SPA'!$C$20<=G18,G18,10000000000))","v":10000000000},{"$f":"IF($X$18=10000000000,10000000000,IF('SOLAI T2D SPA'!$C$20<=H18,H18,10000000000))","v":10000000000},{"$f":"IF($X$18=10000000000,10000000000,IF('SOLAI T2D SPA'!$C$20<=I18,I18,10000000000))","v":10000000000},{"$f":"IF($X$18=10000000000,10000000000,IF('SOLAI T2D SPA'!$C$20<=J18,J18,10000000000))","v":10000000000},{"$f":"IF($X$18=10000000000,10000000000,IF('SOLAI T2D SPA'!$C$20<=K18,K18,10000000000))","v":10000000000},{"$f":"IF($X$18=10000000000,10000000000,IF('SOLAI T2D SPA'!$C$20<=L18,L18,10000000000))","v":10000000000},{"$f":"IF($X$18=10000000000,10000000000,IF('SOLAI T2D SPA'!$C$20<=M18,M18,10000000000))","v":10000000000},{"$f":"IF($X$18=10000000000,10000000000,IF('SOLAI T2D SPA'!$C$20<=N18,N18,10000000000))","v":10000000000},{"$f":"IF($X$18=10000000000,10000000000,IF('SOLAI T2D SPA'!$C$20<=O18,O18,10000000000))","v":10000000000},{"$f":"IF($X$18=10000000000,10000000000,IF('SOLAI T2D SPA'!$C$20<=P18,P18,10000000000))","v":10000000000},null,null,null,1630]
[null,5,{"$f":"A18+B19","v":21},258,null,484.56666666666672,1099.0666666666668,1441.5833333333335,1856.8833333333337,2379.5500000000002,2786.15,3189.1166666666668,3660.6833333333334,4126.9333333333334,4657.5,5182.7666666666664,1720,null,{"$f":"\"MOM60\"&A18&B19","v":"MOM60165"},null,null,null,null,{"$f":"IF(W18=10000000000,10000000000,IF('SOLAI T2D SPA'!$C$7='ST BLOCCO 52'!B19,'ST BLOCCO 52'!B19,10000000000))","v":10000000000},{"$f":"W18+X19","v":20000000000},10000000000,null,{"$f":"IF($X$19=10000000000,10000000000,IF('SOLAI T2D SPA'!$C$20<=F19,F19,10000000000))","v":10000000000},{"$f":"IF($X$19=10000000000,10000000000,IF('SOLAI T2D SPA'!$C$20<=G19,G19,10000000000))","v":10000000000},{"$f":"IF($X$19=10000000000,10000000000,IF('SOLAI T2D SPA'!$C$20<=H19,H19,10000000000))","v":10000000000},{"$f":"IF($X$19=10000000000,10000000000,IF('SOLAI T2D SPA'!$C$20<=I19,I19,10000000000))","v":10000000000},{"$f":"IF($X$19=10000000000,10000000000,IF('SOLAI T2D SPA'!$C$20<=J19,J19,10000000000))","v":10000000000},{"$f":"IF($X$19=10000000000,10000000000,IF('SOLAI T2D SPA'!$C$20<=K19,K19,10000000000))","v":10000000000},{"$f":"IF($X$19=10000000000,10000000000,IF('SOLAI T2D SPA'!$C$20<=L19,L19,10000000000))","v":10000000000},{"$f":"IF($X$19=10000000000,10000000000,IF('SOLAI T2D SPA'!$C$20<=M19,M19,10000000000))","v":10000000000},{"$f":"IF($X$19=10000000000,10000000000,IF('SOLAI T2D SPA'!$C$20<=N19,N19,10000000000))","v":10000000000},{"$f":"IF($X$19=10000000000,10000000000,IF('SOLAI T2D SPA'!$C$20<=O19,O19,10000000000))","v":10000000000},{"$f":"IF($X$19=10000000000,10000000000,IF('SOLAI T2D SPA'!$C$20<=P19,P19,10000000000))","v":10000000000},null,null,null,1720]
[18,4,{"$f":"A20+B20","v":22},246,null,509.58333333333337,1154.5000000000002,1513.4666666666667,1947.6999999999998,2492.6666666666665,2916.2833333333333,3335.0166666666669,3823.8000000000006,4306.1166666666668,4855.0166666666673,5394.6,1811.6666666666667,null,{"$f":"\"MOM60\"&A20&B20","v":"MOM60184"},null,null,null,{"$f":"IF(AND($U$12=1,'SOLAI T2D SPA'!$C$6=A20),A20,10000000000)","v":10000000000},{"$f":"IF(W20=10000000000,10000000000,IF('SOLAI T2D SPA'!$C$7='ST BLOCCO 52'!B20,'ST BLOCCO 52'!B20,10000000000))","v":10000000000},{"$f":"W20+X20","v":20000000000},10000000000,null,{"$f":"IF($X$20=10000000000,10000000000,IF('SOLAI T2D SPA'!$C$20<=F20,F20,10000000000))","v":10000000000},{"$f":"IF($X$20=10000000000,10000000000,IF('SOLAI T2D SPA'!$C$20<=G20,G20,10000000000))","v":10000000000},{"$f":"IF($X$20=10000000000,10000000000,IF('SOLAI T2D SPA'!$C$20<=H20,H20,10000000000))","v":10000000000},{"$f":"IF($X$20=10000000000,10000000000,IF('SOLAI T2D SPA'!$C$20<=I20,I20,10000000000))","v":10000000000},{"$f":"IF($X$20=10000000000,10000000000,IF('SOLAI T2D SPA'!$C$20<=J20,J20,10000000000))","v":10000000000},{"$f":"IF($X$20=10000000000,10000000000,IF('SOLAI T2D SPA'!$C$20<=K20,K20,10000000000))","v":10000000000},{"$f":"IF($X$20=10000000000,10000000000,IF('SOLAI T2D SPA'!$C$20<=L20,L20,10000000000))","v":10000000000},{"$f":"IF($X$20=10000000000,10000000000,IF('SOLAI T2D SPA'!$C$20<=M20,M20,10000000000))","v":10000000000},{"$f":"IF($X$20=10000000000,10000000000,IF('SOLAI T2D SPA'!$C$20<=N20,N20,10000000000))","v":10000000000},{"$f":"IF($X$20=10000000000,10000000000,IF('SOLAI T2D SPA'!$C$20<=O20,O20,10000000000))","v":10000000000},{"$f":"IF($X$20=10000000000,10000000000,IF('SOLAI T2D SPA'!$C$20<=P20,P20,10000000000))","v":10000000000},null,null,null,1811.6666666666667]
[null,5,{"$f":"A20+B21","v":23},271,null,535.61666666666667,1215.5166666666667,1594.9166666666667,2055.15,2635.8333333333335,3087.55,3535.2666666666664,4059.8166666666666,4579.2833333333338,5171.9833333333336,5757.9666666666672,1868.3333333333335,null,{"$f":"\"MOM60\"&A20&B21","v":"MOM60185"},null,null,null,null,{"$f":"IF(W20=10000000000,10000000000,IF('SOLAI T2D SPA'!$C$7='ST BLOCCO 52'!B21,'ST BLOCCO 52'!B21,10000000000))","v":10000000000},{"$f":"W20+X21","v":20000000000},10000000000,null,{"$f":"IF($X$21=10000000000,10000000000,IF('SOLAI T2D SPA'!$C$20<=F21,F21,10000000000))","v":10000000000},{"$f":"IF($X$21=10000000000,10000000000,IF('SOLAI T2D SPA'!$C$20<=G21,G21,10000000000))","v":10000000000},{"$f":"IF($X$21=10000000000,10000000000,IF('SOLAI T2D SPA'!$C$20<=H21,H21,10000000000))","v":10000000000},{"$f":"IF($X$21=10000000000,10000000000,IF('SOLAI T2D SPA'!$C$20<=I21,I21,10000000000))","v":10000000000},{"$f":"IF($X$21=10000000000,10000000000,IF('SOLAI T2D SPA'!$C$20<=J21,J21,10000000000))","v":10000000000},{"$f":"IF($X$21=10000000000,10000000000,IF('SOLAI T2D SPA'!$C$20<=K21,K21,10000000000))","v":10000000000},{"$f":"IF($X$21=10000000000,10000000000,IF('SOLAI T2D SPA'!$C$20<=L21,L21,10000000000))","v":10000000000},{"$f":"IF($X$21=10000000000,10000000000,IF('SOLAI T2D SPA'!$C$20<=M21,M21,10000000000))","v":10000000000},{"$f":"IF($X$21=10000000000,10000000000,IF('SOLAI T2D SPA'!$C$20<=N21,N21,10000000000))","v":10000000000},{"$f":"IF($X$21=10000000000,10000000000,IF('SOLAI T2D SPA'!$C$20<=O21,O21,10000000000))","v":10000000000},{"$f":"IF($X$21=10000000000,10000000000,IF('SOLAI T2D SPA'!$C$20<=P21,P21,10000000000))","v":10000000000},null,null,null,1868.3333333333335]
[20,4,{"$f":"A22+B22","v":24},263,null,560.7166666666667,1271.1166666666666,1666.6000000000001,2146.1833333333334,2748.9333333333334,3217.4500000000003,3681.0333333333333,4223.3166666666666,4759.1833333333343,5368.9000000000005,5970.2833333333338,1923.3333333333335,null,{"$f":"\"MOM60\"&A22&B22","v":"MOM60204"},null,null,null,{"$f":"IF(AND($U$12=1,'SOLAI T2D SPA'!$C$6=A22),A22,10000000000)","v":10000000000},{"$f":"IF(W22=10000000000,10000000000,IF('SOLAI T2D SPA'!$C$7='ST BLOCCO 52'!B22,'ST BLOCCO 52'!B22,10000000000))","v":10000000000},{"$f":"W22+X22","v":20000000000},10000000000,null,{"$f":"IF($X$22=10000000000,10000000000,IF('SOLAI T2D SPA'!$C$20<=F22,F22,10000000000))","v":10000000000},{"$f":"IF($X$22=10000000000,10000000000,IF('SOLAI T2D SPA'!$C$20<=G22,G22,10000000000))","v":10000000000},{"$f":"IF($X$22=10000000000,10000000000,IF('SOLAI T2D SPA'!$C$20<=H22,H22,10000000000))","v":10000000000},{"$f":"IF($X$22=10000000000,10000000000,IF('SOLAI T2D SPA'!$C$20<=I22,I22,10000000000))","v":10000000000},{"$f":"IF($X$22=10000000000,10000000000,IF('SOLAI T2D SPA'!$C$20<=J22,J22,10000000000))","v":10000000000},{"$f":"IF($X$22=10000000000,10000000000,IF('SOLAI T2D SPA'!$C$20<=K22,K22,10000000000))","v":10000000000},{"$f":"IF($X$22=10000000000,10000000000,IF('SOLAI T2D SPA'!$C$20<=L22,L22,10000000000))","v":10000000000},{"$f":"IF($X$22=10000000000,10000000000,IF('SOLAI T2D SPA'!$C$20<=M22,M22,10000000000))","v":10000000000},{"$f":"IF($X$22=10000000000,10000000000,IF('SOLAI T2D SPA'!$C$20<=N22,N22,10000000000))","v":10000000000},{"$f":"IF($X$22=10000000000,10000000000,IF('SOLAI T2D SPA'!$C$20<=O22,O22,10000000000))","v":10000000000},{"$f":"IF($X$22=10000000000,10000000000,IF('SOLAI T2D SPA'!$C$20<=P22,P22,10000000000))","v":10000000000},null,null,null,1923.3333333333335]
[null,5,{"$f":"A22+B23","v":25},288,null,586.70000000000005,1332.0833333333335,1748.2666666666669,2253.666666666667,2891.7000000000003,3388.6333333333337,3881.6499999999996,4459.4833333333336,5032.3166666666666,5686.1500000000005,6333.8833333333332,1978.3333333333335,null,{"$f":"\"MOM60\"&A22&B23","v":"MOM60205"},null,null,null,null,{"$f":"IF(W22=10000000000,10000000000,IF('SOLAI T2D SPA'!$C$7='ST BLOCCO 52'!B23,'ST BLOCCO 52'!B23,10000000000))","v":10000000000},{"$f":"W22+X23","v":20000000000},10000000000,null,{"$f":"IF($X$23=10000000000,10000000000,IF('SOLAI T2D SPA'!$C$20<=F23,F23,10000000000))","v":10000000000},{"$f":"IF($X$23=10000000000,10000000000,IF('SOLAI T2D SPA'!$C$20<=G23,G23,10000000000))","v":10000000000},{"$f":"IF($X$23=10000000000,10000000000,IF('SOLAI T2D SPA'!$C$20<=H23,H23,10000000000))","v":10000000000},{"$f":"IF($X$23=10000000000,10000000000,IF('SOLAI T2D SPA'!$C$20<=I23,I23,10000000000))","v":10000000000},{"$f":"IF($X$23=10000000000,10000000000,IF('SOLAI T2D SPA'!$C$20<=J23,J23,10000000000))","v":10000000000},{"$f":"IF($X$23=10000000000,10000000000,IF('SOLAI T2D SPA'!$C$20<=K23,K23,10000000000))","v":10000000000},{"$f":"IF($X$23=10000000000,10000000000,IF('SOLAI T2D SPA'!$C$20<=L23,L23,10000000000))","v":10000000000},{"$f":"IF($X$23=10000000000,10000000000,IF('SOLAI T2D SPA'!$C$20<=M23,M23,10000000000))","v":10000000000},{"$f":"IF($X$23=10000000000,10000000000,IF('SOLAI T2D SPA'!$C$20<=N23,N23,10000000000))","v":10000000000},{"$f":"IF($X$23=10000000000,10000000000,IF('SOLAI T2D SPA'!$C$20<=O23,O23,10000000000))","v":10000000000},{"$f":"IF($X$23=10000000000,10000000000,IF('SOLAI T2D SPA'!$C$20<=P23,P23,10000000000))","v":10000000000},null,null,null,1978.3333333333335,null,null,null,null,null,null,null,null,null,"1f8","1f10","1f12","2f10","1f10 + 1f12","2f12","1f12 + 1f14","2f14","1f14 + 1f16","2f16","1f16 + 1f18","2f18"]
[25,4,{"$f":"A24+B24","v":29},298,null,688.38333333333333,1562.3833333333332,2050.3333333333335,2642.4333333333334,3389.1166666666668,3970.5000000000005,4547.05,5221.9833333333336,5891,6654.6,7409.916666666667,2195,null,{"$f":"\"MOM60\"&A24&B24","v":"MOM60254"},null,null,null,{"$f":"IF(AND($U$12=1,'SOLAI T2D SPA'!$C$6=A24),A24,10000000000)","v":10000000000},{"$f":"IF(W24=10000000000,10000000000,IF('SOLAI T2D SPA'!$C$7='ST BLOCCO 52'!B24,'ST BLOCCO 52'!B24,10000000000))","v":10000000000},{"$f":"W24+X24","v":20000000000},10000000000,null,{"$f":"IF($X$24=10000000000,10000000000,IF('SOLAI T2D SPA'!$C$20<=F24,F24,10000000000))","v":10000000000},{"$f":"IF($X$24=10000000000,10000000000,IF('SOLAI T2D SPA'!$C$20<=G24,G24,10000000000))","v":10000000000},{"$f":"IF($X$24=10000000000,10000000000,IF('SOLAI T2D SPA'!$C$20<=H24,H24,10000000000))","v":10000000000},{"$f":"IF($X$24=10000000000,10000000000,IF('SOLAI T2D SPA'!$C$20<=I24,I24,10000000000))","v":10000000000},{"$f":"IF($X$24=10000000000,10000000000,IF('SOLAI T2D SPA'!$C$20<=J24,J24,10000000000))","v":10000000000},{"$f":"IF($X$24=10000000000,10000000000,IF('SOLAI T2D SPA'!$C$20<=K24,K24,10000000000))","v":10000000000},{"$f":"IF($X$24=10000000000,10000000000,IF('SOLAI T2D SPA'!$C$20<=L24,L24,10000000000))","v":10000000000},{"$f":"IF($X$24=10000000000,10000000000,IF('SOLAI T2D SPA'!$C$20<=M24,M24,10000000000))","v":10000000000},{"$f":"IF($X$24=10000000000,10000000000,IF('SOLAI T2D SPA'!$C$20<=N24,N24,10000000000))","v":10000000000},{"$f":"IF($X$24=10000000000,10000000000,IF('SOLAI T2D SPA'!$C$20<=O24,O24,10000000000))","v":10000000000},{"$f":"IF($X$24=10000000000,10000000000,IF('SOLAI T2D SPA'!$C$20<=P24,P24,10000000000))","v":10000000000},null,null,null,2195]
[null,5,{"$f":"A24+B25","v":30},323,null,714.51666666666665,1623.2166666666667,2131.5833333333335,2749.8333333333335,3531.1,4141.166666666667,4747.2166666666672,5458.4500000000007,6164.3166666666675,6971.9666666666672,7773.0999999999995,2246.666666666667,null,{"$f":"\"MOM60\"&A24&B25","v":"MOM60255"},null,null,null,null,{"$f":"IF(W24=10000000000,10000000000,IF('SOLAI T2D SPA'!$C$7='ST BLOCCO 52'!B25,'ST BLOCCO 52'!B25,10000000000))","v":10000000000},{"$f":"W24+X25","v":20000000000},10000000000,null,{"$f":"IF($X$25=10000000000,10000000000,IF('SOLAI T2D SPA'!$C$20<=F25,F25,10000000000))","v":10000000000},{"$f":"IF($X$25=10000000000,10000000000,IF('SOLAI T2D SPA'!$C$20<=G25,G25,10000000000))","v":10000000000},{"$f":"IF($X$25=10000000000,10000000000,IF('SOLAI T2D SPA'!$C$20<=H25,H25,10000000000))","v":10000000000},{"$f":"IF($X$25=10000000000,10000000000,IF('SOLAI T2D SPA'!$C$20<=I25,I25,10000000000))","v":10000000000},{"$f":"IF($X$25=10000000000,10000000000,IF('SOLAI T2D SPA'!$C$20<=J25,J25,10000000000))","v":10000000000},{"$f":"IF($X$25=10000000000,10000000000,IF('SOLAI T2D SPA'!$C$20<=K25,K25,10000000000))","v":10000000000},{"$f":"IF($X$25=10000000000,10000000000,IF('SOLAI T2D SPA'!$C$20<=L25,L25,10000000000))","v":10000000000},{"$f":"IF($X$25=10000000000,10000000000,IF('SOLAI T2D SPA'!$C$20<=M25,M25,10000000000))","v":10000000000},{"$f":"IF($X$25=10000000000,10000000000,IF('SOLAI T2D SPA'!$C$20<=N25,N25,10000000000))","v":10000000000},{"$f":"IF($X$25=10000000000,10000000000,IF('SOLAI T2D SPA'!$C$20<=O25,O25,10000000000))","v":10000000000},{"$f":"IF($X$25=10000000000,10000000000,IF('SOLAI T2D SPA'!$C$20<=P25,P25,10000000000))","v":10000000000},null,null,null,2246.666666666667,null,null,null,null,null,null,null,null,null,{"$f":"IF(AND(AZ42<800000000,AZ42=$BL$42),AZ23,\"\")","v":""},{"$f":"IF(AND(BA42<800000000,BA42=$BL$42),BA23,\"\")","v":""},"","","","","","","","","","",{"$f":"AZ25&BA25&BB25&BC25&BD25&BE25&BF25&BG25&BH25&BI25&BJ25&BK25","v":""}]
[null,null,null,null,null,null,null,null,null,null,null,null,null,null,null,null,null,null,null,null,null,null,{"$f":"MIN(W14:W25)","v":10000000000},10000000000,20000000000,10000000000,null,{"$f":"MIN(AB14:AB25)","v":10000000000},{"$f":"MIN(AC14:AC25)","v":10000000000},10000000000,10000000000,10000000000,10000000000,10000000000,10000000000,10000000000,10000000000,10000000000,{"$f":"MIN(AB26:AL26)","v":10000000000},{"$f":"IF(AND(U12=1,AM26=10000000000),1,0)","v":0}]
["MOMENTO NEGATIVO",null,null,null,null,"1f8","1f10","1f12","2f10","1f10 + 1f12","2f12","1f12 + 1f14","2f14","1f14 + 1f16","2f16","1f16 + 1f18","2f18"]
["Altezza pignatta","Spessore soletta","Altezza solaio","Peso solaio","Volume cls getto in opera (l/mq)","Momenti ultimi riferiti ad una striscia di solaio larga 1,00 metro"]
["[cm]","[cm]","[cm]","[daN/mq]","[l/mq]","[daNm]","[daNm]","[daNm]","[daNm]","[daNm]","[daNm]","[daNm]","[daNm]","[daNm]","[daNm]","[daNm]","[daNm]",null,null,null,null,null,null,null,null,null,null,null,null,null,null,null,null,null,null,null,null,null,null,null,null,null,null,null,null,null,"[cm]","[cm]","[cm]","[daN/mq]",null,"[daNm]","[daNm]","[daNm]","[daNm]","[daNm]","[daNm]","[daNm]","[daNm]","[daNm]","[daNm]","[daNm]","[daNm]"]
[12,4,{"$f":"A30+B30","v":16},206,null,456.06666666666666,709.55000000000007,1016.5166666666667,1401.2833333333333,1699.3000000000002,1993.6166666666668,2336.7000000000003,2674.4500000000003,3057.8,3434.65,3852.7833333333338,4262.9833333333336,null,null,null,null,null,null,null,null,null,null,null,null,null,null,null,null,null,null,null,null,null,null,null,null,null,null,null,null,null,{"$f":"W14","v":10000000000},{"$f":"X14","v":10000000000},{"$f":"AU30+AV30","v":20000000000},{"$f":"Z14","v":10000000000},null,{"$f":"IF($AV$30=10000000000,10000000000,IF('SOLAI T2D SPA'!$C$25<='ST BLOCCO 52'!F30,'ST BLOCCO 52'!F30,10000000000))","v":10000000000},{"$f":"IF($AV$30=10000000000,10000000000,IF('SOLAI T2D SPA'!$C$25<='ST BLOCCO 52'!G30,'ST BLOCCO 52'!G30,10000000000))","v":10000000000},{"$f":"IF($AV$30=10000000000,10000000000,IF('SOLAI T2D SPA'!$C$25<='ST BLOCCO 52'!H30,'ST BLOCCO 52'!H30,10000000000))","v":10000000000},{"$f":"IF($AV$30=10000000000,10000000000,IF('SOLAI T2D SPA'!$C$25<='ST BLOCCO 52'!I30,'ST BLOCCO 52'!I30,10000000000))","v":10000000000},{"$f":"IF($AV$30=10000000000,10000000000,IF('SOLAI T2D SPA'!$C$25<='ST BLOCCO 52'!J30,'ST BLOCCO 52'!J30,10000000000))","v":10000000000},{"$f":"IF($AV$30=10000000000,10000000000,IF('SOLAI T2D SPA'!$C$25<='ST BLOCCO 52'!K30,'ST BLOCCO 52'!K30,10000000000))","v":10000000000},{"$f":"IF($AV$30=10000000000,10000000000,IF('SOLAI T2D SPA'!$C$25<='ST BLOCCO 52'!L30,'ST BLOCCO 52'!L30,10000000000))","v":10000000000},{"$f":"IF($AV$30=10000000000,10000000000,IF('SOLAI T2D SPA'!$C$25<='ST BLOCCO 52'!M30,'ST BLOCCO 52'!M30,10000000000))","v":10000000000},{"$f":"IF($AV$30=10000000000,10000000000,IF('SOLAI T2D SPA'!$C$25<='ST BLOCCO 52'!N30,'ST BLOCCO 52'!N30,10000000000))","v":10000000000},{"$f":"IF($AV$30=10000000000,10000000000,IF('SOLAI T2D SPA'!$C$25<='ST BLOCCO 52'!O30,'ST BLOCCO 52'!O30,10000000000))","v":10000000000},{"$f":"IF($AV$30=10000000000,10000000000,IF('SOLAI T2D SPA'!$C$25<='ST BLOCCO 52'!P30,'ST BLOCCO 52'!P30,10000000000))","v":10000000000},{"$f":"IF($AV$30=10000000000,10000000000,IF('SOLAI T2D SPA'!$C$25<='ST BLOCCO 52'!Q30,'ST BLOCCO 52'!Q30,10000000000))","v":10000000000}]
[null,5,{"$f":"A30+B31","v":17},231,null,488.75,760.7,1089.8666666666666,1503.6833333333334,1824.2666666666667,2141.15,2510.7333333333336,2875.4666666666667,3289.2000000000003,3697.0833333333335,4150.0833333333339,4594.166666666667,null,null,null,null,null,null,null,null,null,null,null,null,null,null,null,null,null,null,null,null,null,null,null,null,null,null,null,null,null,null,{"$f":"X15","v":10000000000},{"$f":"AU30+AV31","v":20000000000},{"$f":"Z15","v":10000000000},null,{"$f":"IF($AV$31=10000000000,10000000000,IF('SOLAI T2D SPA'!$C$25<='ST BLOCCO 52'!F31,'ST BLOCCO 52'!F31,10000000000))","v":10000000000},{"$f":"IF($AV$31=10000000000,10000000000,IF('SOLAI T2D SPA'!$C$25<='ST BLOCCO 52'!G31,'ST BLOCCO 52'!G31,10000000000))","v":10000000000},{"$f":"IF($AV$31=10000000000,10000000000,IF('SOLAI T2D SPA'!$C$25<='ST BLOCCO 52'!H31,'ST BLOCCO 52'!H31,10000000000))","v":10000000000},{"$f":"IF($AV$31=10000000000,10000000000,IF('SOLAI T2D SPA'!$C$25<='ST BLOCCO 52'!I31,'ST BLOCCO 52'!I31,10000000000))","v":10000000000},{"$f":"IF($AV$31=10000000000,10000000000,IF('SOLAI T2D SPA'!$C$25<='ST BLOCCO 52'!J31,'ST BLOCCO 52'!J31,10000000000))","v":10000000000},{"$f":"IF($AV$31=10000000000,10000000000,IF('SOLAI T2D SPA'!$C$25<='ST BLOCCO 52'!K31,'ST BLOCCO 52'!K31,10000000000))","v":10000000000},{"$f":"IF($AV$31=10000000000,10000000000,IF('SOLAI T2D SPA'!$C$25<='ST BLOCCO 52'!L31,'ST BLOCCO 52'!L31,10000000000))","v":10000000000},{"$f":"IF($AV$31=10000000000,10000000000,IF('SOLAI T2D SPA'!$C$25<='ST BLOCCO 52'!M31,'ST BLOCCO 52'!M31,10000000000))","v":10000000000},{"$f":"IF($AV$31=10000000000,10000000000,IF('SOLAI T2D SPA'!$C$25<='ST BLOCCO 52'!N31,'ST BLOCCO 52'!N31,10000000000))","v":10000000000},{"$f":"IF($AV$31=10000000000,10000000000,IF('SOLAI T2D SPA'!$C$25<='ST BLOCCO 52'!O31,'ST BLOCCO 52'!O31,10000000000))","v":10000000000},{"$f":"IF($AV$31=10000000000,10000000000,IF('SOLAI T2D SPA'!$C$25<='ST BLOCCO 52'!P31,'ST BLOCCO 52'!P31,10000000000))","v":10000000000},{"$f":"IF($AV$31=10000000000,10000000000,IF('SOLAI T2D SPA'!$C$25<='ST BLOCCO 52'!Q31,'ST BLOCCO 52'!Q31,10000000000))","v":10000000000}]
[14,4,{"$f":"A32+B32","v":18},219,null,521.4666666666667,811.9,1163.7833333333333,1606.1,1948.8999999999999,2288.4166666666665,2684.6333333333332,3076,3520.8833333333337,3959.3166666666671,4447.5,4926.8666666666668,null,null,null,null,null,null,null,null,null,null,null,{"$f":"IF(AND(AC26<800000000,AC26=AM26),AC4,\"\")","v":""},null,null,null,null,null,null,null,null,null,null,null,null,null,null,null,null,null,{"$f":"W16","v":10000000000},10000000000,{"$f":"AU32+AV32","v":20000000000},10000000000,null,{"$f":"IF($AV$32=10000000000,10000000000,IF('SOLAI T2D SPA'!$C$25<='ST BLOCCO 52'!F32,'ST BLOCCO 52'!F32,10000000000))","v":10000000000},{"$f":"IF($AV$32=10000000000,10000000000,IF('SOLAI T2D SPA'!$C$25<='ST BLOCCO 52'!G32,'ST BLOCCO 52'!G32,10000000000))","v":10000000000},{"$f":"IF($AV$32=10000000000,10000000000,IF('SOLAI T2D SPA'!$C$25<='ST BLOCCO 52'!H32,'ST BLOCCO 52'!H32,10000000000))","v":10000000000},{"$f":"IF($AV$32=10000000000,10000000000,IF('SOLAI T2D SPA'!$C$25<='ST BLOCCO 52'!I32,'ST BLOCCO 52'!I32,10000000000))","v":10000000000},{"$f":"IF($AV$32=10000000000,10000000000,IF('SOLAI T2D SPA'!$C$25<='ST BLOCCO 52'!J32,'ST BLOCCO 52'!J32,10000000000))","v":10000000000},{"$f":"IF($AV$32=10000000000,10000000000,IF('SOLAI T2D SPA'!$C$25<='ST BLOCCO 52'!K32,'ST BLOCCO 52'!K32,10000000000))","v":10000000000},{"$f":"IF($AV$32=10000000000,10000000000,IF('SOLAI T2D SPA'!$C$25<='ST BLOCCO 52'!L32,'ST BLOCCO 52'!L32,10000000000))","v":10000000000},{"$f":"IF($AV$32=10000000000,10000000000,IF('SOLAI T2D SPA'!$C$25<='ST BLOCCO 52'!M32,'ST BLOCCO 52'!M32,10000000000))","v":10000000000},{"$f":"IF($AV$32=10000000000,10000000000,IF('SOLAI T2D SPA'!$C$25<='ST BLOCCO 52'!N32,'ST BLOCCO 52'!N32,10000000000))","v":10000000000},{"$f":"IF($AV$32=10000000000,10000000000,IF('SOLAI T2D SPA'!$C$25<='ST BLOCCO 52'!O32,'ST BLOCCO 52'!O32,10000000000))","v":10000000000},{"$f":"IF($AV$32=10000000000,10000000000,IF('SOLAI T2D SPA'!$C$25<='ST BLOCCO 52'!P32,'ST BLOCCO 52'!P32,10000000000))","v":10000000000},{"$f":"IF($AV$32=10000000000,10000000000,IF('SOLAI T2D SPA'!$C$25<='ST BLOCCO 52'!Q32,'ST BLOCCO 52'!Q32,10000000000))","v":10000000000}]
[null,5,{"$f":"A32+B33","v":19},244,null,554.1,863,1237.2166666666667,1708.4666666666667,2073.9833333333336,2435.7833333333333,2858.7666666666669,3276.9,3752.5500000000006,4220.8166666666666,4744.5,5258.3333333333339,null,null,null,null,null,null,null,null,null,null,null,null,null,null,null,null,null,null,null,null,null,null,null,null,null,null,null,null,null,null,{"$f":"X17","v":10000000000},{"$f":"AU32+AV33","v":20000000000},10000000000,null,{"$f":"IF($AV$33=10000000000,10000000000,IF('SOLAI T2D SPA'!$C$25<='ST BLOCCO 52'!F33,'ST BLOCCO 52'!F33,10000000000))","v":10000000000},{"$f":"IF($AV$33=10000000000,10000000000,IF('SOLAI T2D SPA'!$C$25<='ST BLOCCO 52'!G33,'ST BLOCCO 52'!G33,10000000000))","v":10000000000},{"$f":"IF($AV$33=10000000000,10000000000,IF('SOLAI T2D SPA'!$C$25<='ST BLOCCO 52'!H33,'ST BLOCCO 52'!H33,10000000000))","v":10000000000},{"$f":"IF($AV$33=10000000000,10000000000,IF('SOLAI T2D SPA'!$C$25<='ST BLOCCO 52'!I33,'ST BLOCCO 52'!I33,10000000000))","v":10000000000},{"$f":"IF($AV$33=10000000000,10000000000,IF('SOLAI T2D SPA'!$C$25<='ST BLOCCO 52'!J33,'ST BLOCCO 52'!J33,10000000000))","v":10000000000},{"$f":"IF($AV$33=10000000000,10000000000,IF('SOLAI T2D SPA'!$C$25<='ST BLOCCO 52'!K33,'ST BLOCCO 52'!K33,10000000000))","v":10000000000},{"$f":"IF($AV$33=10000000000,10000000000,IF('SOLAI T2D SPA'!$C$25<='ST BLOCCO 52'!L33,'ST BLOCCO 52'!L33,10000000000))","v":10000000000},{"$f":"IF($AV$33=10000000000,10000000000,IF('SOLAI T2D SPA'!$C$25<='ST BLOCCO 52'!M33,'ST BLOCCO 52'!M33,10000000000))","v":10000000000},{"$f":"IF($AV$33=10000000000,10000000000,IF('SOLAI T2D SPA'!$C$25<='ST BLOCCO 52'!N33,'ST BLOCCO 52'!N33,10000000000))","v":10000000000},{"$f":"IF($AV$33=10000000000,10000000000,IF('SOLAI T2D SPA'!$C$25<='ST BLOCCO 52'!O33,'ST BLOCCO 52'!O33,10000000000))","v":10000000000},{"$f":"IF($AV$33=10000000000,10000000000,IF('SOLAI T2D SPA'!$C$25<='ST BLOCCO 52'!P33,'ST BLOCCO 52'!P33,10000000000))","v":10000000000},{"$f":"IF($AV$33=10000000000,10000000000,IF('SOLAI T2D SPA'!$C$25<='ST BLOCCO 52'!Q33,'ST BLOCCO 52'!Q33,10000000000))","v":10000000000}]
[16,4,{"$f":"A34+B34","v":20},233,null,586.76666666666665,914.15000000000009,1310.8000000000002,1810.5666666666666,2199.0000000000005,2583.75,3033.0333333333333,3477.45,3983.9666666666672,4483.1000000000004,5041.6000000000004,5590.2166666666672,null,null,null,null,null,null,null,null,null,null,null,null,null,null,null,null,null,null,null,null,null,null,null,null,null,null,null,null,null,{"$f":"W18","v":10000000000},10000000000,{"$f":"AU34+AV34","v":20000000000},10000000000,null,{"$f":"IF($AV$34=10000000000,10000000000,IF('SOLAI T2D SPA'!$C$25<='ST BLOCCO 52'!F34,'ST BLOCCO 52'!F34,10000000000))","v":10000000000},{"$f":"IF($AV$34=10000000000,10000000000,IF('SOLAI T2D SPA'!$C$25<='ST BLOCCO 52'!G34,'ST BLOCCO 52'!G34,10000000000))","v":10000000000},{"$f":"IF($AV$34=10000000000,10000000000,IF('SOLAI T2D SPA'!$C$25<='ST BLOCCO 52'!H34,'ST BLOCCO 52'!H34,10000000000))","v":10000000000},{"$f":"IF($AV$34=10000000000,10000000000,IF('SOLAI T2D SPA'!$C$25<='ST BLOCCO 52'!I34,'ST BLOCCO 52'!I34,10000000000))","v":10000000000},{"$f":"IF($AV$34=10000000000,10000000000,IF('SOLAI T2D SPA'!$C$25<='ST BLOCCO 52'!J34,'ST BLOCCO 52'!J34,10000000000))","v":10000000000},{"$f":"IF($AV$34=10000000000,10000000000,IF('SOLAI T2D SPA'!$C$25<='ST BLOCCO 52'!K34,'ST BLOCCO 52'!K34,10000000000))","v":10000000000},{"$f":"IF($AV$34=10000000000,10000000000,IF('SOLAI T2D SPA'!$C$25<='ST BLOCCO 52'!L34,'ST BLOCCO 52'!L34,10000000000))","v":10000000000},{"$f":"IF($AV$34=10000000000,10000000000,IF('SOLAI T2D SPA'!$C$25<='ST BLOCCO 52'!M34,'ST BLOCCO 52'!M34,10000000000))","v":10000000000},{"$f":"IF($AV$34=10000000000,10000000000,IF('SOLAI T2D SPA'!$C$25<='ST BLOCCO 52'!N34,'ST BLOCCO 52'!N34,10000000000))","v":10000000000},{"$f":"IF($AV$34=10000000000,10000000000,IF('SOLAI T2D SPA'!$C$25<='ST BLOCCO 52'!O34,'ST BLOCCO 52'!O34,10000000000))","v":10000000000},{"$f":"IF($AV$34=10000000000,10000000000,IF('SOLAI T2D SPA'!$C$25<='ST BLOCCO 52'!P34,'ST BLOCCO 52'!P34,10000000000))","v":10000000000},{"$f":"IF($AV$34=10000000000,10000000000,IF('SOLAI T2D SPA'!$C$25<='ST BLOCCO 52'!Q34,'ST BLOCCO 52'!Q34,10000000000))","v":10000000000}]
[null,5,{"$f":"A34+B35","v":21},258,null,619.4666666666667,965.33333333333348,1384.5166666666669,1912.9,2323.8833333333332,2731.05,3207.3333333333335,3678.0666666666671,4215.6833333333334,4745.9833333333336,5338.4666666666672,5922.1,null,null,null,null,null,null,null,null,null,null,null,null,null,null,null,null,null,null,null,null,null,null,null,null,null,null,null,null,null,null,10000000000,{"$f":"AU34+AV35","v":20000000000},10000000000,null,{"$f":"IF($AV$35=10000000000,10000000000,IF('SOLAI T2D SPA'!$C$25<='ST BLOCCO 52'!F35,'ST BLOCCO 52'!F35,10000000000))","v":10000000000},{"$f":"IF($AV$35=10000000000,10000000000,IF('SOLAI T2D SPA'!$C$25<='ST BLOCCO 52'!G35,'ST BLOCCO 52'!G35,10000000000))","v":10000000000},{"$f":"IF($AV$35=10000000000,10000000000,IF('SOLAI T2D SPA'!$C$25<='ST BLOCCO 52'!H35,'ST BLOCCO 52'!H35,10000000000))","v":10000000000},{"$f":"IF($AV$35=10000000000,10000000000,IF('SOLAI T2D SPA'!$C$25<='ST BLOCCO 52'!I35,'ST BLOCCO 52'!I35,10000000000))","v":10000000000},{"$f":"IF($AV$35=10000000000,10000000000,IF('SOLAI T2D SPA'!$C$25<='ST BLOCCO 52'!J35,'ST BLOCCO 52'!J35,10000000000))","v":10000000000},{"$f":"IF($AV$35=10000000000,10000000000,IF('SOLAI T2D SPA'!$C$25<='ST BLOCCO 52'!K35,'ST BLOCCO 52'!K35,10000000000))","v":10000000000},{"$f":"IF($AV$35=10000000000,10000000000,IF('SOLAI T2D SPA'!$C$25<='ST BLOCCO 52'!L35,'ST BLOCCO 52'!L35,10000000000))","v":10000000000},{"$f":"IF($AV$35=10000000000,10000000000,IF('SOLAI T2D SPA'!$C$25<='ST BLOCCO 52'!M35,'ST BLOCCO 52'!M35,10000000000))","v":10000000000},{"$f":"IF($AV$35=10000000000,10000000000,IF('SOLAI T2D SPA'!$C$25<='ST BLOCCO 52'!N35,'ST BLOCCO 52'!N35,10000000000))","v":10000000000},{"$f":"IF($AV$35=10000000000,10000000000,IF('SOLAI T2D SPA'!$C$25<='ST BLOCCO 52'!O35,'ST BLOCCO 52'!O35,10000000000))","v":10000000000},{"$f":"IF($AV$35=10000000000,10000000000,IF('SOLAI T2D SPA'!$C$25<='ST BLOCCO 52'!P35,'ST BLOCCO 52'!P35,10000000000))","v":10000000000},{"$f":"IF($AV$35=10000000000,10000000000,IF('SOLAI T2D SPA'!$C$25<='ST BLOCCO 52'!Q35,'ST BLOCCO 52'!Q35,10000000000))","v":10000000000}]
[18,4,{"$f":"A36+B36","v":22},246,null,652.16666666666674,1016.4833333333333,1458.3166666666668,2015.4166666666667,2449.1000000000004,2878.8166666666666,3381.5833333333335,3879.4833333333336,4446.7,5008.2166666666662,5635.9500000000007,6253.5666666666666,null,null,null,null,null,null,null,null,null,null,null,null,null,null,null,null,null,null,null,null,null,null,null,null,null,null,null,null,null,{"$f":"W20","v":10000000000},10000000000,{"$f":"AU36+AV36","v":20000000000},10000000000,null,{"$f":"IF($AV$36=10000000000,10000000000,IF('SOLAI T2D SPA'!$C$25<='ST BLOCCO 52'!F36,'ST BLOCCO 52'!F36,10000000000))","v":10000000000},{"$f":"IF($AV$36=10000000000,10000000000,IF('SOLAI T2D SPA'!$C$25<='ST BLOCCO 52'!G36,'ST BLOCCO 52'!G36,10000000000))","v":10000000000},{"$f":"IF($AV$36=10000000000,10000000000,IF('SOLAI T2D SPA'!$C$25<='ST BLOCCO 52'!H36,'ST BLOCCO 52'!H36,10000000000))","v":10000000000},{"$f":"IF($AV$36=10000000000,10000000000,IF('SOLAI T2D SPA'!$C$25<='ST BLOCCO 52'!I36,'ST BLOCCO 52'!I36,10000000000))","v":10000000000},{"$f":"IF($AV$36=10000000000,10000000000,IF('SOLAI T2D SPA'!$C$25<='ST BLOCCO 52'!J36,'ST BLOCCO 52'!J36,10000000000))","v":10000000000},{"$f":"IF($AV$36=10000000000,10000000000,IF('SOLAI T2D SPA'!$C$25<='ST BLOCCO 52'!K36,'ST BLOCCO 52'!K36,10000000000))","v":10000000000},{"$f":"IF($AV$36=10000000000,10000000000,IF('SOLAI T2D SPA'!$C$25<='ST BLOCCO 52'!L36,'ST BLOCCO 52'!L36,10000000000))","v":10000000000},{"$f":"IF($AV$36=10000000000,10000000000,IF('SOLAI T2D SPA'!$C$25<='ST BLOCCO 52'!M36,'ST BLOCCO 52'!M36,10000000000))","v":10000000000},{"$f":"IF($AV$36=10000000000,10000000000,IF('SOLAI T2D SPA'!$C$25<='ST BLOCCO 52'!N36,'ST BLOCCO 52'!N36,10000000000))","v":10000000000},{"$f":"IF($AV$36=10000000000,10000000000,IF('SOLAI T2D SPA'!$C$25<='ST BLOCCO 52'!O36,'ST BLOCCO 52'!O36,10000000000))","v":10000000000},{"$f":"IF($AV$36=10000000000,10000000000,IF('SOLAI T2D SPA'!$C$25<='ST BLOCCO 52'!P36,'ST BLOCCO 52'!P36,10000000000))","v":10000000000},{"$f":"IF($AV$36=10000000000,10000000000,IF('SOLAI T2D SPA'!$C$25<='ST BLOCCO 52'!Q36,'ST BLOCCO 52'!Q36,10000000000))","v":10000000000}]
[null,5,{"$f":"A36+B37","v":23},271,null,684.91666666666663,1067.4333333333334,1531.8166666666668,2117.7833333333338,2573.9333333333334,3026.166666666667,3555.4666666666672,4079.9,4678.3500000000004,5270.3166666666666,5932.25,6586,null,null,null,null,null,null,null,null,null,null,null,null,null,null,null,null,null,null,null,null,null,null,null,null,null,null,null,null,null,null,10000000000,{"$f":"AU36+AV37","v":20000000000},10000000000,null,{"$f":"IF($AV$37=10000000000,10000000000,IF('SOLAI T2D SPA'!$C$25<='ST BLOCCO 52'!F37,'ST BLOCCO 52'!F37,10000000000))","v":10000000000},{"$f":"IF($AV$37=10000000000,10000000000,IF('SOLAI T2D SPA'!$C$25<='ST BLOCCO 52'!G37,'ST BLOCCO 52'!G37,10000000000))","v":10000000000},{"$f":"IF($AV$37=10000000000,10000000000,IF('SOLAI T2D SPA'!$C$25<='ST BLOCCO 52'!H37,'ST BLOCCO 52'!H37,10000000000))","v":10000000000},{"$f":"IF($AV$37=10000000000,10000000000,IF('SOLAI T2D SPA'!$C$25<='ST BLOCCO 52'!I37,'ST BLOCCO 52'!I37,10000000000))","v":10000000000},{"$f":"IF($AV$37=10000000000,10000000000,IF('SOLAI T2D SPA'!$C$25<='ST BLOCCO 52'!J37,'ST BLOCCO 52'!J37,10000000000))","v":10000000000},{"$f":"IF($AV$37=10000000000,10000000000,IF('SOLAI T2D SPA'!$C$25<='ST BLOCCO 52'!K37,'ST BLOCCO 52'!K37,10000000000))","v":10000000000},{"$f":"IF($AV$37=10000000000,10000000000,IF('SOLAI T2D SPA'!$C$25<='ST BLOCCO 52'!L37,'ST BLOCCO 52'!L37,10000000000))","v":10000000000},{"$f":"IF($AV$37=10000000000,10000000000,IF('SOLAI T2D SPA'!$C$25<='ST BLOCCO 52'!M37,'ST BLOCCO 52'!M37,10000000000))","v":10000000000},{"$f":"IF($AV$37=10000000000,10000000000,IF('SOLAI T2D SPA'!$C$25<='ST BLOCCO 52'!N37,'ST BLOCCO 52'!N37,10000000000))","v":10000000000},{"$f":"IF($AV$37=10000000000,10000000000,IF('SOLAI T2D SPA'!$C$25<='ST BLOCCO 52'!O37,'ST BLOCCO 52'!O37,10000000000))","v":10000000000},{"$f":"IF($AV$37=10000000000,10000000000,IF('SOLAI T2D SPA'!$C$25<='ST BLOCCO 52'!P37,'ST BLOCCO 52'!P37,10000000000))","v":10000000000},{"$f":"IF($AV$37=10000000000,10000000000,IF('SOLAI T2D SPA'!$C$25<='ST BLOCCO 52'!Q37,'ST BLOCCO 52'!Q37,10000000000))","v":10000000000}]
[20,4,{"$f":"A38+B38","v":24},263,null,717.66666666666674,1118.5,1605.4666666666667,2220.1666666666665,2698.9833333333336,3173.7333333333336,3729.6333333333337,4280.666666666667,4910.1500000000005,5532.6833333333334,6229.6500000000005,6917.7666666666664,null,null,null,null,null,null,null,null,null,null,null,null,null,null,null,null,null,null,null,null,null,null,null,null,null,null,null,null,null,{"$f":"W22","v":10000000000},10000000000,{"$f":"AU38+AV38","v":20000000000},10000000000,null,{"$f":"IF($AV$38=10000000000,10000000000,IF('SOLAI T2D SPA'!$C$25<='ST BLOCCO 52'!F38,'ST BLOCCO 52'!F38,10000000000))","v":10000000000},{"$f":"IF($AV$38=10000000000,10000000000,IF('SOLAI T2D SPA'!$C$25<='ST BLOCCO 52'!G38,'ST BLOCCO 52'!G38,10000000000))","v":10000000000},{"$f":"IF($AV$38=10000000000,10000000000,IF('SOLAI T2D SPA'!$C$25<='ST BLOCCO 52'!H38,'ST BLOCCO 52'!H38,10000000000))","v":10000000000},{"$f":"IF($AV$38=10000000000,10000000000,IF('SOLAI T2D SPA'!$C$25<='ST BLOCCO 52'!I38,'ST BLOCCO 52'!I38,10000000000))","v":10000000000},{"$f":"IF($AV$38=10000000000,10000000000,IF('SOLAI T2D SPA'!$C$25<='ST BLOCCO 52'!J38,'ST BLOCCO 52'!J38,10000000000))","v":10000000000},{"$f":"IF($AV$38=10000000000,10000000000,IF('SOLAI T2D SPA'!$C$25<='ST BLOCCO 52'!K38,'ST BLOCCO 52'!K38,10000000000))","v":10000000000},{"$f":"IF($AV$38=10000000000,10000000000,IF('SOLAI T2D SPA'!$C$25<='ST BLOCCO 52'!L38,'ST BLOCCO 52'!L38,10000000000))","v":10000000000},{"$f":"IF($AV$38=10000000000,10000000000,IF('SOLAI T2D SPA'!$C$25<='ST BLOCCO 52'!M38,'ST BLOCCO 52'!M38,10000000000))","v":10000000000},{"$f":"IF($AV$38=10000000000,10000000000,IF('SOLAI T2D SPA'!$C$25<='ST BLOCCO 52'!N38,'ST BLOCCO 52'!N38,10000000000))","v":10000000000},{"$f":"IF($AV$38=10000000000,10000000000,IF('SOLAI T2D SPA'!$C$25<='ST BLOCCO 52'!O38,'ST BLOCCO 52'!O38,10000000000))","v":10000000000},{"$f":"IF($AV$38=10000000000,10000000000,IF('SOLAI T2D SPA'!$C$25<='ST BLOCCO 52'!P38,'ST BLOCCO 52'!P38,10000000000))","v":10000000000},{"$f":"IF($AV$38=10000000000,10000000000,IF('SOLAI T2D SPA'!$C$25<='ST BLOCCO 52'!Q38,'ST BLOCCO 52'!Q38,10000000000))","v":10000000000}]
[null,5,{"$f":"A38+B39","v":25},288,null,750.35,1169.4833333333336,1679.1666666666667,2322.4500000000003,2823.5666666666671,3321.2666666666669,3903.8333333333339,4481.55,5141.7333333333336,5794.9000000000005,6526.35,7249.666666666667,null,null,null,null,null,null,null,null,null,null,null,null,null,null,null,null,null,null,null,null,null,null,null,null,null,null,null,null,null,null,10000000000,{"$f":"AU38+AV39","v":20000000000},10000000000,null,{"$f":"IF($AV$39=10000000000,10000000000,IF('SOLAI T2D SPA'!$C$25<='ST BLOCCO 52'!F39,'ST BLOCCO 52'!F39,10000000000))","v":10000000000},{"$f":"IF($AV$39=10000000000,10000000000,IF('SOLAI T2D SPA'!$C$25<='ST BLOCCO 52'!G39,'ST BLOCCO 52'!G39,10000000000))","v":10000000000},{"$f":"IF($AV$39=10000000000,10000000000,IF('SOLAI T2D SPA'!$C$25<='ST BLOCCO 52'!H39,'ST BLOCCO 52'!H39,10000000000))","v":10000000000},{"$f":"IF($AV$39=10000000000,10000000000,IF('SOLAI T2D SPA'!$C$25<='ST BLOCCO 52'!I39,'ST BLOCCO 52'!I39,10000000000))","v":10000000000},{"$f":"IF($AV$39=10000000000,10000000000,IF('SOLAI T2D SPA'!$C$25<='ST BLOCCO 52'!J39,'ST BLOCCO 52'!J39,10000000000))","v":10000000000},{"$f":"IF($AV$39=10000000000,10000000000,IF('SOLAI T2D SPA'!$C$25<='ST BLOCCO 52'!K39,'ST BLOCCO 52'!K39,10000000000))","v":10000000000},{"$f":"IF($AV$39=10000000000,10000000000,IF('SOLAI T2D SPA'!$C$25<='ST BLOCCO 52'!L39,'ST BLOCCO 52'!L39,10000000000))","v":10000000000},{"$f":"IF($AV$39=10000000000,10000000000,IF('SOLAI T2D SPA'!$C$25<='ST BLOCCO 52'!M39,'ST BLOCCO 52'!M39,10000000000))","v":10000000000},{"$f":"IF($AV$39=10000000000,10000000000,IF('SOLAI T2D SPA'!$C$25<='ST BLOCCO 52'!N39,'ST BLOCCO 52'!N39,10000000000))","v":10000000000},{"$f":"IF($AV$39=10000000000,10000000000,IF('SOLAI T2D SPA'!$C$25<='ST BLOCCO 52'!O39,'ST BLOCCO 52'!O39,10000000000))","v":10000000000},{"$f":"IF($AV$39=10000000000,10000000000,IF('SOLAI T2D SPA'!$C$25<='ST BLOCCO 52'!P39,'ST BLOCCO 52'!P39,10000000000))","v":10000000000},{"$f":"IF($AV$39=10000000000,10000000000,IF('SOLAI T2D SPA'!$C$25<='ST BLOCCO 52'!Q39,'ST BLOCCO 52'!Q39,10000000000))","v":10000000000}]
[25,4,{"$f":"A40+B40","v":29},298,null,881.05000000000007,1373.9,1973.5333333333333,2731.45,3323.1333333333337,3910.8,4600.6333333333341,5284.7833333333338,6067.3333333333339,6843.9833333333345,7714.6500000000005,8577.2833333333328,null,null,null,null,null,null,null,null,null,null,null,null,null,null,null,null,null,null,null,null,null,null,null,null,null,null,null,null,null,{"$f":"W24","v":10000000000},10000000000,{"$f":"AU40+AV40","v":20000000000},10000000000,null,{"$f":"IF($AV$40=10000000000,10000000000,IF('SOLAI T2D SPA'!$C$25<='ST BLOCCO 52'!F40,'ST BLOCCO 52'!F40,10000000000))","v":10000000000},{"$f":"IF($AV$40=10000000000,10000000000,IF('SOLAI T2D SPA'!$C$25<='ST BLOCCO 52'!G40,'ST BLOCCO 52'!G40,10000000000))","v":10000000000},{"$f":"IF($AV$40=10000000000,10000000000,IF('SOLAI T2D SPA'!$C$25<='ST BLOCCO 52'!H40,'ST BLOCCO 52'!H40,10000000000))","v":10000000000},{"$f":"IF($AV$40=10000000000,10000000000,IF('SOLAI T2D SPA'!$C$25<='ST BLOCCO 52'!I40,'ST BLOCCO 52'!I40,10000000000))","v":10000000000},{"$f":"IF($AV$40=10000000000,10000000000,IF('SOLAI T2D SPA'!$C$25<='ST BLOCCO 52'!J40,'ST BLOCCO 52'!J40,10000000000))","v":10000000000},{"$f":"IF($AV$40=10000000000,10000000000,IF('SOLAI T2D SPA'!$C$25<='ST BLOCCO 52'!K40,'ST BLOCCO 52'!K40,10000000000))","v":10000000000},{"$f":"IF($AV$40=10000000000,10000000000,IF('SOLAI T2D SPA'!$C$25<='ST BLOCCO 52'!L40,'ST BLOCCO 52'!L40,10000000000))","v":10000000000},{"$f":"IF($AV$40=10000000000,10000000000,IF('SOLAI T2D SPA'!$C$25<='ST BLOCCO 52'!M40,'ST BLOCCO 52'!M40,10000000000))","v":10000000000},{"$f":"IF($AV$40=10000000000,10000000000,IF('SOLAI T2D SPA'!$C$25<='ST BLOCCO 52'!N40,'ST BLOCCO 52'!N40,10000000000))","v":10000000000},{"$f":"IF($AV$40=10000000000,10000000000,IF('SOLAI T2D SPA'!$C$25<='ST BLOCCO 52'!O40,'ST BLOCCO 52'!O40,10000000000))","v":10000000000},{"$f":"IF($AV$40=10000000000,10000000000,IF('SOLAI T2D SPA'!$C$25<='ST BLOCCO 52'!P40,'ST BLOCCO 52'!P40,10000000000))","v":10000000000},{"$f":"IF($AV$40=10000000000,10000000000,IF('SOLAI T2D SPA'!$C$25<='ST BLOCCO 52'!Q40,'ST BLOCCO 52'!Q40,10000000000))","v":10000000000}]
[null,5,{"$f":"A40+B41","v":30},323,null,913.81666666666661,1424.9333333333334,2046.9666666666669,2833.8166666666666,3447.7666666666664,4058.0000000000005,4774.8166666666666,5485.4666666666672,6299.0666666666666,7106.166666666667,8011.9333333333334,8909.7500000000018,null,null,null,null,null,null,null,null,null,null,null,null,null,null,null,null,null,null,null,null,null,null,null,null,null,null,null,null,null,null,10000000000,{"$f":"AU40+AV41","v":20000000000},10000000000,null,{"$f":"IF($AV$41=10000000000,10000000000,IF('SOLAI T2D SPA'!$C$25<='ST BLOCCO 52'!F41,'ST BLOCCO 52'!F41,10000000000))","v":10000000000},{"$f":"IF($AV$41=10000000000,10000000000,IF('SOLAI T2D SPA'!$C$25<='ST BLOCCO 52'!G41,'ST BLOCCO 52'!G41,10000000000))","v":10000000000},{"$f":"IF($AV$41=10000000000,10000000000,IF('SOLAI T2D SPA'!$C$25<='ST BLOCCO 52'!H41,'ST BLOCCO 52'!H41,10000000000))","v":10000000000},{"$f":"IF($AV$41=10000000000,10000000000,IF('SOLAI T2D SPA'!$C$25<='ST BLOCCO 52'!I41,'ST BLOCCO 52'!I41,10000000000))","v":10000000000},{"$f":"IF($AV$41=10000000000,10000000000,IF('SOLAI T2D SPA'!$C$25<='ST BLOCCO 52'!J41,'ST BLOCCO 52'!J41,10000000000))","v":10000000000},{"$f":"IF($AV$41=10000000000,10000000000,IF('SOLAI T2D SPA'!$C$25<='ST BLOCCO 52'!K41,'ST BLOCCO 52'!K41,10000000000))","v":10000000000},{"$f":"IF($AV$41=10000000000,10000000000,IF('SOLAI T2D SPA'!$C$25<='ST BLOCCO 52'!L41,'ST BLOCCO 52'!L41,10000000000))","v":10000000000},{"$f":"IF($AV$41=10000000000,10000000000,IF('SOLAI T2D SPA'!$C$25<='ST BLOCCO 52'!M41,'ST BLOCCO 52'!M41,10000000000))","v":10000000000},{"$f":"IF($AV$41=10000000000,10000000000,IF('SOLAI T2D SPA'!$C$25<='ST BLOCCO 52'!N41,'ST BLOCCO 52'!N41,10000000000))","v":10000000000},{"$f":"IF($AV$41=10000000000,10000000000,IF('SOLAI T2D SPA'!$C$25<='ST BLOCCO 52'!O41,'ST BLOCCO 52'!O41,10000000000))","v":10000000000},{"$f":"IF($AV$41=10000000000,10000000000,IF('SOLAI T2D SPA'!$C$25<='ST BLOCCO 52'!P41,'ST BLOCCO 52'!P41,10000000000))","v":10000000000},{"$f":"IF($AV$41=10000000000,10000000000,IF('SOLAI T2D SPA'!$C$25<='ST BLOCCO 52'!Q41,'ST BLOCCO 52'!Q41,10000000000))","v":10000000000}]
[null,null,null,null,null,null,null,null,null,null,null,null,null,null,null,null,null,null,null,null,null,null,null,null,null,null,null,null,null,null,null,null,null,null,null,null,null,null,null,null,null,null,null,null,null,null,{"$f":"MIN(AU30:AU41)","v":10000000000},{"$f":"MIN(AV30:AV41)","v":10000000000},{"$f":"MIN(AW30:AW41)","v":20000000000},{"$f":"MIN(AX30:AX41)","v":10000000000},null,{"$f":"MIN(AZ30:AZ41)","v":10000000000},{"$f":"MIN(BA30:BA41)","v":10000000000},{"$f":"MIN(BB30:BB41)","v":10000000000},{"$f":"MIN(BC30:BC41)","v":10000000000},{"$f":"MIN(BD30:BD41)","v":10000000000},{"$f":"MIN(BE30:BE41)","v":10000000000},{"$f":"MIN(BF30:BF41)","v":10000000000},{"$f":"MIN(BG30:BG41)","v":10000000000},{"$f":"MIN(BH30:BH41)","v":10000000000},{"$f":"MIN(BI30:BI41)","v":10000000000},{"$f":"MIN(BJ30:BJ41)","v":10000000000},{"$f":"MIN(BK30:BK41)","v":10000000000},{"$f":"MIN(AZ42:BK42)","v":10000000000},{"$f":"IF(AND(U12=1,BL42=10000000000),1,0)","v":0}]
["INTERASSE 62 CM - Larghezza travetto 14 cm - Larghezza blocco 52"]
["MOMENTO POSITIVO",null,null,null,null,"Armatura standard",null,null,null,null,null,null,"Armatura non standard",null,null,null,"Taglio ultimo"]
[null,null,null,null,null,"2f5","2f5 + 1f8","2f5 + 1f10","2f5 + 1f12","2f5 + 2f10","2f5 + 1f10 + 1f12","2f5 + 2f12","2f5 + 1f12 + 1f14","2f5 + 2f14","2f5 + 1f14 + 1f16","2f5 + 2f16"]
[null,null,null,null,null,"Lunghezza travetti confezionati disponibili (cm)",null,null,null,null,null,null,"Travetti da confezionare su richiesta",null,null,null,null,null,null,null,{"$f":"IF(AND('SOLAI T2D SPA'!C2=\"Travetto_singolo\",'SOLAI T2D SPA'!C4=\"Travetto_14\",'SOLAI T2D SPA'!C5=\"Pignatta_48\"),1,0)","v":0}]
[null,null,null,null,null,100,140,360,420,480,580,640]
[null,null,null,null,null,120,160,380,440,500,600,660]
[null,null,null,null,null,null,180,400,460,520,620,680,null,null,null,null,null,null,null,null,null,null,null,null,null,null,null,"2f5","2f5 + 1f8","2f5 + 1f10","2f5 + 1f12","2f5 + 2f10","2f5 + 1f10 + 1f12","2f5 + 2f12","2f5 + 1f12 + 1f14","2f5 + 2f14","2f5 + 1f14 + 1f16","2f5 + 2f16"]
[null,null,null,null,null,null,200,null,null,540,null,700]
[null,null,null,null,null,null,220,null,null,560]
[null,null,null,null,null,null,240]
[null,null,null,null,null,null,260,null,null,null,null,null,null,null,null,null,null,null,null,null,null,null,null,null,null,null,null,{"$f":"IF(AND(AB72=$AM$72,AB72<800000000),AB49,\"\")","v":""},{"$f":"IF(AND(AC72=$AM$72,AC72<800000000),AC49,\"\")","v":""},"","","","","","","","","",{"$f":"AB53&AC53&AD53&AE53&AF53&AG53&AH53&AI53&AJ53&AK53&AL53","v":""}]
[null,null,null,null,null,null,280]
[null,null,null,null,null,null,300]
[null,null,null,null,null,null,320]
[null,null,null,null,null,null,340]
["Altezza pignatta","Spessore soletta","Altezza solaio","Peso solaio","Volume cls getto in opera (l/mq)","Momenti ultimi riferiti ad una striscia di solaio larga 1,00 metro",null,null,null,null,null,null,null,null,null,null,null,null,"CALCOLO"]
["[cm]","[cm]","[cm]","[daN/mq]","[l/mq]","[daNm]","[daNm]","[daNm]","[daNm]","[daNm]","[daNm]","[daNm]","[daNm]","[daNm]","[daNm]","[daNm]","[daN]",null,null,null,null,null,"[cm]","[cm]","[cm]","[daN/mq]",null,"[daNm]","[daNm]","[daNm]","[daNm]","[daNm]","[daNm]","[daNm]","[daNm]","[daNm]","[daNm]","[daNm]",null,null,null,"[daN]"]
[12,4,{"$f":"A60+B60","v":16},212,null,345.01612903225805,779.27419354838707,1019.5483870967743,1309.0645161290322,1671.4193548387098,1950.8387096774193,2226.1935483870966,2546.0967741935483,2860.0645161290322,3214.3548387096776,3561.4516129032259,1450,null,{"$f":"\"MOM62\"&A60&B60","v":"MOM62124"},null,null,null,{"$f":"IF(AND($U$46=1,'SOLAI T2D SPA'!$C$6=A60),A60,10000000000)","v":10000000000},{"$f":"IF(W60=10000000000,10000000000,IF('SOLAI T2D SPA'!$C$7='ST BLOCCO 52'!B60,'ST BLOCCO 52'!B60,10000000000))","v":10000000000},{"$f":"W60+X60","v":20000000000},{"$f":"IF(Y60>100000,10000000000,D60)","v":10000000000},null,{"$f":"IF($X$60=10000000000,10000000000,IF('SOLAI T2D SPA'!$C$20<=F60,F60,10000000000))","v":10000000000},{"$f":"IF($X$60=10000000000,10000000000,IF('SOLAI T2D SPA'!$C$20<=G60,G60,10000000000))","v":10000000000},{"$f":"IF($X$60=10000000000,10000000000,IF('SOLAI T2D SPA'!$C$20<=H60,H60,10000000000))","v":10000000000},{"$f":"IF($X$60=10000000000,10000000000,IF('SOLAI T2D SPA'!$C$20<=I60,I60,10000000000))","v":10000000000},{"$f":"IF($X$60=10000000000,10000000000,IF('SOLAI T2D SPA'!$C$20<=J60,J60,10000000000))","v":10000000000},{"$f":"IF($X$60=10000000000,10000000000,IF('SOLAI T2D SPA'!$C$20<=K60,K60,10000000000))","v":10000000000},{"$f":"IF($X$60=10000000000,10000000000,IF('SOLAI T2D SPA'!$C$20<=L60,L60,10000000000))","v":10000000000},{"$f":"IF($X$60=10000000000,10000000000,IF('SOLAI T2D SPA'!$C$20<=M60,M60,10000000000))","v":10000000000},{"$f":"IF($X$60=10000000000,10000000000,IF('SOLAI T2D SPA'!$C$20<=N60,N60,10000000000))","v":10000000000},{"$f":"IF($X$60=10000000000,10000000000,IF('SOLAI T2D SPA'!$C$20<=O60,O60,10000000000))","v":10000000000},{"$f":"IF($X$60=10000000000,10000000000,IF('SOLAI T2D SPA'!$C$20<=P60,P60,10000000000))","v":10000000000},null,null,null,1450]
[null,5,{"$f":"A60+B61","v":17},237,68,370.08064516129031,838.4677419354839,1098.6612903225805,1413.6774193548388,1809.258064516129,2116.2580645161288,2419.2258064516132,2773.5645161290322,3122.6451612903224,3519.3870967741937,3910.3225806451615,1553.2258064516129,null,{"$f":"\"MOM62\"&A60&B61","v":"MOM62125"},null,null,null,null,{"$f":"IF(W60=10000000000,10000000000,IF('SOLAI T2D SPA'!$C$7='ST BLOCCO 52'!B61,'ST BLOCCO 52'!B61,10000000000))","v":10000000000},{"$f":"W60+X61","v":20000000000},{"$f":"IF(Y61>100000,10000000000,D61)","v":10000000000},null,{"$f":"IF($X$61=10000000000,10000000000,IF('SOLAI T2D SPA'!$C$20<=F61,F61,10000000000))","v":10000000000},{"$f":"IF($X$61=10000000000,10000000000,IF('SOLAI T2D SPA'!$C$20<=G61,G61,10000000000))","v":10000000000},{"$f":"IF($X$61=10000000000,10000000000,IF('SOLAI T2D SPA'!$C$20<=H61,H61,10000000000))","v":10000000000},{"$f":"IF($X$61=10000000000,10000000000,IF('SOLAI T2D SPA'!$C$20<=I61,I61,10000000000))","v":10000000000},{"$f":"IF($X$61=10000000000,10000000000,IF('SOLAI T2D SPA'!$C$20<=J61,J61,10000000000))","v":10000000000},{"$f":"IF($X$61=10000000000,10000000000,IF('SOLAI T2D SPA'!$C$20<=K61,K61,10000000000))","v":10000000000},{"$f":"IF($X$61=10000000000,10000000000,IF('SOLAI T2D SPA'!$C$20<=L61,L61,10000000000))","v":10000000000},{"$f":"IF($X$61=10000000000,10000000000,IF('SOLAI T2D SPA'!$C$20<=M61,M61,10000000000))","v":10000000000},{"$f":"IF($X$61=10000000000,10000000000,IF('SOLAI T2D SPA'!$C$20<=N61,N61,10000000000))","v":10000000000},{"$f":"IF($X$61=10000000000,10000000000,IF('SOLAI T2D SPA'!$C$20<=O61,O61,10000000000))","v":10000000000},{"$f":"IF($X$61=10000000000,10000000000,IF('SOLAI T2D SPA'!$C$20<=P61,P61,10000000000))","v":10000000000},null,null,null,1553.2258064516129]
[14,4,{"$f":"A62+B62","v":18},226,null,394.33870967741939,892.14516129032256,1168.2903225806451,1501.3548387096776,1919.3548387096773,2242.2741935483873,2561.5645161290322,2933,3298.483870967742,3712.2741935483873,4118.1290322580644,1656.4516129032259,null,{"$f":"\"MOM62\"&A62&B62","v":"MOM62144"},null,null,null,{"$f":"IF(AND($U$46=1,'SOLAI T2D SPA'!$C$6=A62),A62,10000000000)","v":10000000000},{"$f":"IF(W62=10000000000,10000000000,IF('SOLAI T2D SPA'!$C$7='ST BLOCCO 52'!B62,'ST BLOCCO 52'!B62,10000000000))","v":10000000000},{"$f":"W62+X62","v":20000000000},10000000000,null,{"$f":"IF($X$62=10000000000,10000000000,IF('SOLAI T2D SPA'!$C$20<=F62,F62,10000000000))","v":10000000000},{"$f":"IF($X$62=10000000000,10000000000,IF('SOLAI T2D SPA'!$C$20<=G62,G62,10000000000))","v":10000000000},{"$f":"IF($X$62=10000000000,10000000000,IF('SOLAI T2D SPA'!$C$20<=H62,H62,10000000000))","v":10000000000},{"$f":"IF($X$62=10000000000,10000000000,IF('SOLAI T2D SPA'!$C$20<=I62,I62,10000000000))","v":10000000000},{"$f":"IF($X$62=10000000000,10000000000,IF('SOLAI T2D SPA'!$C$20<=J62,J62,10000000000))","v":10000000000},{"$f":"IF($X$62=10000000000,10000000000,IF('SOLAI T2D SPA'!$C$20<=K62,K62,10000000000))","v":10000000000},{"$f":"IF($X$62=10000000000,10000000000,IF('SOLAI T2D SPA'!$C$20<=L62,L62,10000000000))","v":10000000000},{"$f":"IF($X$62=10000000000,10000000000,IF('SOLAI T2D SPA'!$C$20<=M62,M62,10000000000))","v":10000000000},{"$f":"IF($X$62=10000000000,10000000000,IF('SOLAI T2D SPA'!$C$20<=N62,N62,10000000000))","v":10000000000},{"$f":"IF($X$62=10000000000,10000000000,IF('SOLAI T2D SPA'!$C$20<=O62,O62,10000000000))","v":10000000000},{"$f":"IF($X$62=10000000000,10000000000,IF('SOLAI T2D SPA'!$C$20<=P62,P62,10000000000))","v":10000000000},null,null,null,1656.4516129032259]
[null,5,{"$f":"A62+B63","v":19},251,74,419.56451612903226,951.29032258064512,1247.1935483870968,1605.9516129032259,2056.9032258064517,2407.4516129032259,2754.5483870967741,3160.0645161290322,3560.9677419354844,4017,4467.3064516129034,1761.2903225806451,null,{"$f":"\"MOM62\"&A62&B63","v":"MOM62145"},null,null,null,null,{"$f":"IF(W62=10000000000,10000000000,IF('SOLAI T2D SPA'!$C$7='ST BLOCCO 52'!B63,'ST BLOCCO 52'!B63,10000000000))","v":10000000000},{"$f":"W62+X63","v":20000000000},10000000000,null,{"$f":"IF($X$63=10000000000,10000000000,IF('SOLAI T2D SPA'!$C$20<=F63,F63,10000000000))","v":10000000000},{"$f":"IF($X$63=10000000000,10000000000,IF('SOLAI T2D SPA'!$C$20<=G63,G63,10000000000))","v":10000000000},{"$f":"IF($X$63=10000000000,10000000000,IF('SOLAI T2D SPA'!$C$20<=H63,H63,10000000000))","v":10000000000},{"$f":"IF($X$63=10000000000,10000000000,IF('SOLAI T2D SPA'!$C$20<=I63,I63,10000000000))","v":10000000000},{"$f":"IF($X$63=10000000000,10000000000,IF('SOLAI T2D SPA'!$C$20<=J63,J63,10000000000))","v":10000000000},{"$f":"IF($X$63=10000000000,10000000000,IF('SOLAI T2D SPA'!$C$20<=K63,K63,10000000000))","v":10000000000},{"$f":"IF($X$63=10000000000,10000000000,IF('SOLAI T2D SPA'!$C$20<=L63,L63,10000000000))","v":10000000000},{"$f":"IF($X$63=10000000000,10000000000,IF('SOLAI T2D SPA'!$C$20<=M63,M63,10000000000))","v":10000000000},{"$f":"IF($X$63=10000000000,10000000000,IF('SOLAI T2D SPA'!$C$20<=N63,N63,10000000000))","v":10000000000},{"$f":"IF($X$63=10000000000,10000000000,IF('SOLAI T2D SPA'!$C$20<=O63,O63,10000000000))","v":10000000000},{"$f":"IF($X$63=10000000000,10000000000,IF('SOLAI T2D SPA'!$C$20<=P63,P63,10000000000))","v":10000000000},null,null,null,1761.2903225806451]
[16,4,{"$f":"A64+B64","v":20},242,null,443.79032258064512,1005.016129032258,1316.758064516129,1693.9032258064517,2167.0645161290322,2533.8225806451615,2896.5483870967741,3319.516129032258,3736.5322580645161,4210.0967741935492,4675.7580645161288,1864.516129032258,null,{"$f":"\"MOM62\"&A64&B64","v":"MOM62164"},null,null,null,{"$f":"IF(AND($U$46=1,'SOLAI T2D SPA'!$C$6=A64),A64,10000000000)","v":10000000000},{"$f":"IF(W64=10000000000,10000000000,IF('SOLAI T2D SPA'!$C$7='ST BLOCCO 52'!B64,'ST BLOCCO 52'!B64,10000000000))","v":10000000000},{"$f":"W64+X64","v":20000000000},10000000000,null,{"$f":"IF($X$64=10000000000,10000000000,IF('SOLAI T2D SPA'!$C$20<=F64,F64,10000000000))","v":10000000000},{"$f":"IF($X$64=10000000000,10000000000,IF('SOLAI T2D SPA'!$C$20<=G64,G64,10000000000))","v":10000000000},{"$f":"IF($X$64=10000000000,10000000000,IF('SOLAI T2D SPA'!$C$20<=H64,H64,10000000000))","v":10000000000},{"$f":"IF($X$64=10000000000,10000000000,IF('SOLAI T2D SPA'!$C$20<=I64,I64,10000000000))","v":10000000000},{"$f":"IF($X$64=10000000000,10000000000,IF('SOLAI T2D SPA'!$C$20<=J64,J64,10000000000))","v":10000000000},{"$f":"IF($X$64=10000000000,10000000000,IF('SOLAI T2D SPA'!$C$20<=K64,K64,10000000000))","v":10000000000},{"$f":"IF($X$64=10000000000,10000000000,IF('SOLAI T2D SPA'!$C$20<=L64,L64,10000000000))","v":10000000000},{"$f":"IF($X$64=10000000000,10000000000,IF('SOLAI T2D SPA'!$C$20<=M64,M64,10000000000))","v":10000000000},{"$f":"IF($X$64=10000000000,10000000000,IF('SOLAI T2D SPA'!$C$20<=N64,N64,10000000000))","v":10000000000},{"$f":"IF($X$64=10000000000,10000000000,IF('SOLAI T2D SPA'!$C$20<=O64,O64,10000000000))","v":10000000000},{"$f":"IF($X$64=10000000000,10000000000,IF('SOLAI T2D SPA'!$C$20<=P64,P64,10000000000))","v":10000000000},null,null,null,1864.516129032258]
[null,5,{"$f":"A64+B65","v":21},267,77,469.06451612903226,1063.8709677419356,1395.6774193548388,1798,2304.7419354838712,2699.3064516129029,3089.7580645161293,3546.9677419354839,3999.5483870967737,4514.7741935483873,5024.3064516129034,1967.741935483871,null,{"$f":"\"MOM62\"&A64&B65","v":"MOM62165"},null,null,null,null,{"$f":"IF(W64=10000000000,10000000000,IF('SOLAI T2D SPA'!$C$7='ST BLOCCO 52'!B65,'ST BLOCCO 52'!B65,10000000000))","v":10000000000},{"$f":"W64+X65","v":20000000000},10000000000,null,{"$f":"IF($X$65=10000000000,10000000000,IF('SOLAI T2D SPA'!$C$20<=F65,F65,10000000000))","v":10000000000},{"$f":"IF($X$65=10000000000,10000000000,IF('SOLAI T2D SPA'!$C$20<=G65,G65,10000000000))","v":10000000000},{"$f":"IF($X$65=10000000000,10000000000,IF('SOLAI T2D SPA'!$C$20<=H65,H65,10000000000))","v":10000000000},{"$f":"IF($X$65=10000000000,10000000000,IF('SOLAI T2D SPA'!$C$20<=I65,I65,10000000000))","v":10000000000},{"$f":"IF($X$65=10000000000,10000000000,IF('SOLAI T2D SPA'!$C$20<=J65,J65,10000000000))","v":10000000000},{"$f":"IF($X$65=10000000000,10000000000,IF('SOLAI T2D SPA'!$C$20<=K65,K65,10000000000))","v":10000000000},{"$f":"IF($X$65=10000000000,10000000000,IF('SOLAI T2D SPA'!$C$20<=L65,L65,10000000000))","v":10000000000},{"$f":"IF($X$65=10000000000,10000000000,IF('SOLAI T2D SPA'!$C$20<=M65,M65,10000000000))","v":10000000000},{"$f":"IF($X$65=10000000000,10000000000,IF('SOLAI T2D SPA'!$C$20<=N65,N65,10000000000))","v":10000000000},{"$f":"IF($X$65=10000000000,10000000000,IF('SOLAI T2D SPA'!$C$20<=O65,O65,10000000000))","v":10000000000},{"$f":"IF($X$65=10000000000,10000000000,IF('SOLAI T2D SPA'!$C$20<=P65,P65,10000000000))","v":10000000000},null,null,null,1967.741935483871]
[18,4,{"$f":"A66+B66","v":22},256,null,493.22580645161293,1117.758064516129,1465.0806451612905,1886.1451612903227,2415,2825.6451612903229,3231.5483870967741,3705.8870967741937,4174.2096774193551,4707.5161290322576,5232.9516129032254,2070.9677419354839,null,{"$f":"\"MOM62\"&A66&B66","v":"MOM62184"},null,null,null,{"$f":"IF(AND($U$46=1,'SOLAI T2D SPA'!$C$6=A66),A66,10000000000)","v":10000000000},{"$f":"IF(W66=10000000000,10000000000,IF('SOLAI T2D SPA'!$C$7='ST BLOCCO 52'!B66,'ST BLOCCO 52'!B66,10000000000))","v":10000000000},{"$f":"W66+X66","v":20000000000},10000000000,null,{"$f":"IF($X$66=10000000000,10000000000,IF('SOLAI T2D SPA'!$C$20<=F66,F66,10000000000))","v":10000000000},{"$f":"IF($X$66=10000000000,10000000000,IF('SOLAI T2D SPA'!$C$20<=G66,G66,10000000000))","v":10000000000},{"$f":"IF($X$66=10000000000,10000000000,IF('SOLAI T2D SPA'!$C$20<=H66,H66,10000000000))","v":10000000000},{"$f":"IF($X$66=10000000000,10000000000,IF('SOLAI T2D SPA'!$C$20<=I66,I66,10000000000))","v":10000000000},{"$f":"IF($X$66=10000000000,10000000000,IF('SOLAI T2D SPA'!$C$20<=J66,J66,10000000000))","v":10000000000},{"$f":"IF($X$66=10000000000,10000000000,IF('SOLAI T2D SPA'!$C$20<=K66,K66,10000000000))","v":10000000000},{"$f":"IF($X$66=10000000000,10000000000,IF('SOLAI T2D SPA'!$C$20<=L66,L66,10000000000))","v":10000000000},{"$f":"IF($X$66=10000000000,10000000000,IF('SOLAI T2D SPA'!$C$20<=M66,M66,10000000000))","v":10000000000},{"$f":"IF($X$66=10000000000,10000000000,IF('SOLAI T2D SPA'!$C$20<=N66,N66,10000000000))","v":10000000000},{"$f":"IF($X$66=10000000000,10000000000,IF('SOLAI T2D SPA'!$C$20<=O66,O66,10000000000))","v":10000000000},{"$f":"IF($X$66=10000000000,10000000000,IF('SOLAI T2D SPA'!$C$20<=P66,P66,10000000000))","v":10000000000},null,null,null,2070.9677419354839]
[null,5,{"$f":"A66+B67","v":23},281,80,518.45161290322585,1176.6451612903224,1544.016129032258,1990.0806451612902,2552.8387096774195,2990.6290322580644,3424.6935483870966,3933.6290322580644,4437.5,5013.0161290322585,5581.822580645161,2135.483870967742,null,{"$f":"\"MOM62\"&A66&B67","v":"MOM62185"},null,null,null,null,{"$f":"IF(W66=10000000000,10000000000,IF('SOLAI T2D SPA'!$C$7='ST BLOCCO 52'!B67,'ST BLOCCO 52'!B67,10000000000))","v":10000000000},{"$f":"W66+X67","v":20000000000},10000000000,null,{"$f":"IF($X$67=10000000000,10000000000,IF('SOLAI T2D SPA'!$C$20<=F67,F67,10000000000))","v":10000000000},{"$f":"IF($X$67=10000000000,10000000000,IF('SOLAI T2D SPA'!$C$20<=G67,G67,10000000000))","v":10000000000},{"$f":"IF($X$67=10000000000,10000000000,IF('SOLAI T2D SPA'!$C$20<=H67,H67,10000000000))","v":10000000000},{"$f":"IF($X$67=10000000000,10000000000,IF('SOLAI T2D SPA'!$C$20<=I67,I67,10000000000))","v":10000000000},{"$f":"IF($X$67=10000000000,10000000000,IF('SOLAI T2D SPA'!$C$20<=J67,J67,10000000000))","v":10000000000},{"$f":"IF($X$67=10000000000,10000000000,IF('SOLAI T2D SPA'!$C$20<=K67,K67,10000000000))","v":10000000000},{"$f":"IF($X$67=10000000000,10000000000,IF('SOLAI T2D SPA'!$C$20<=L67,L67,10000000000))","v":10000000000},{"$f":"IF($X$67=10000000000,10000000000,IF('SOLAI T2D SPA'!$C$20<=M67,M67,10000000000))","v":10000000000},{"$f":"IF($X$67=10000000000,10000000000,IF('SOLAI T2D SPA'!$C$20<=N67,N67,10000000000))","v":10000000000},{"$f":"IF($X$67=10000000000,10000000000,IF('SOLAI T2D SPA'!$C$20<=O67,O67,10000000000))","v":10000000000},{"$f":"IF($X$67=10000000000,10000000000,IF('SOLAI T2D SPA'!$C$20<=P67,P67,10000000000))","v":10000000000},null,null,null,2135.483870967742]
[20,4,{"$f":"A68+B68","v":24},274,null,542.69354838709683,1230.5967741935485,1613.6774193548388,2078.0806451612902,2662.7258064516132,3116.7741935483873,3566.8064516129034,4092.6129032258068,4612.8870967741932,5205.1612903225805,5789.5161290322585,2200,null,{"$f":"\"MOM62\"&A68&B68","v":"MOM62204"},null,null,null,{"$f":"IF(AND($U$46=1,'SOLAI T2D SPA'!$C$6=A68),A68,10000000000)","v":10000000000},{"$f":"IF(W68=10000000000,10000000000,IF('SOLAI T2D SPA'!$C$7='ST BLOCCO 52'!B68,'ST BLOCCO 52'!B68,10000000000))","v":10000000000},{"$f":"W68+X68","v":20000000000},10000000000,null,{"$f":"IF($X$68=10000000000,10000000000,IF('SOLAI T2D SPA'!$C$20<=F68,F68,10000000000))","v":10000000000},{"$f":"IF($X$68=10000000000,10000000000,IF('SOLAI T2D SPA'!$C$20<=G68,G68,10000000000))","v":10000000000},{"$f":"IF($X$68=10000000000,10000000000,IF('SOLAI T2D SPA'!$C$20<=H68,H68,10000000000))","v":10000000000},{"$f":"IF($X$68=10000000000,10000000000,IF('SOLAI T2D SPA'!$C$20<=I68,I68,10000000000))","v":10000000000},{"$f":"IF($X$68=10000000000,10000000000,IF('SOLAI T2D SPA'!$C$20<=J68,J68,10000000000))","v":10000000000},{"$f":"IF($X$68=10000000000,10000000000,IF('SOLAI T2D SPA'!$C$20<=K68,K68,10000000000))","v":10000000000},{"$f":"IF($X$68=10000000000,10000000000,IF('SOLAI T2D SPA'!$C$20<=L68,L68,10000000000))","v":10000000000},{"$f":"IF($X$68=10000000000,10000000000,IF('SOLAI T2D SPA'!$C$20<=M68,M68,10000000000))","v":10000000000},{"$f":"IF($X$68=10000000000,10000000000,IF('SOLAI T2D SPA'!$C$20<=N68,N68,10000000000))","v":10000000000},{"$f":"IF($X$68=10000000000,10000000000,IF('SOLAI T2D SPA'!$C$20<=O68,O68,10000000000))","v":10000000000},{"$f":"IF($X$68=10000000000,10000000000,IF('SOLAI T2D SPA'!$C$20<=P68,P68,10000000000))","v":10000000000},null,null,null,2200]
[null,5,{"$f":"A68+B69","v":25},299,84,567.88709677419354,1289.4354838709678,1692.5645161290324,2181.9354838709678,2800.3709677419356,3281.8709677419356,3759.838709677419,4319.9677419354839,4875.4838709677424,5510.1290322580653,6138.7903225806458,2262.9032258064517,null,{"$f":"\"MOM62\"&A68&B69","v":"MOM62205"},null,null,null,null,{"$f":"IF(W68=10000000000,10000000000,IF('SOLAI T2D SPA'!$C$7='ST BLOCCO 52'!B69,'ST BLOCCO 52'!B69,10000000000))","v":10000000000},{"$f":"W68+X69","v":20000000000},10000000000,null,{"$f":"IF($X$69=10000000000,10000000000,IF('SOLAI T2D SPA'!$C$20<=F69,F69,10000000000))","v":10000000000},{"$f":"IF($X$69=10000000000,10000000000,IF('SOLAI T2D SPA'!$C$20<=G69,G69,10000000000))","v":10000000000},{"$f":"IF($X$69=10000000000,10000000000,IF('SOLAI T2D SPA'!$C$20<=H69,H69,10000000000))","v":10000000000},{"$f":"IF($X$69=10000000000,10000000000,IF('SOLAI T2D SPA'!$C$20<=I69,I69,10000000000))","v":10000000000},{"$f":"IF($X$69=10000000000,10000000000,IF('SOLAI T2D SPA'!$C$20<=J69,J69,10000000000))","v":10000000000},{"$f":"IF($X$69=10000000000,10000000000,IF('SOLAI T2D SPA'!$C$20<=K69,K69,10000000000))","v":10000000000},{"$f":"IF($X$69=10000000000,10000000000,IF('SOLAI T2D SPA'!$C$20<=L69,L69,10000000000))","v":10000000000},{"$f":"IF($X$69=10000000000,10000000000,IF('SOLAI T2D SPA'!$C$20<=M69,M69,10000000000))","v":10000000000},{"$f":"IF($X$69=10000000000,10000000000,IF('SOLAI T2D SPA'!$C$20<=N69,N69,10000000000))","v":10000000000},{"$f":"IF($X$69=10000000000,10000000000,IF('SOLAI T2D SPA'!$C$20<=O69,O69,10000000000))","v":10000000000},{"$f":"IF($X$69=10000000000,10000000000,IF('SOLAI T2D SPA'!$C$20<=P69,P69,10000000000))","v":10000000000},null,null,null,2262.9032258064517,null,null,null,null,null,null,null,null,null,"1f8","1f10","1f12","2f10","1f10 + 1f12","2f12","1f12 + 1f14","2f14","1f14 + 1f16","2f16","1f16 + 1f18","2f18"]
[25,4,{"$f":"A70+B70","v":29},311,null,666.33870967741939,1512.5483870967741,1984.7903225806451,2558.2903225806454,3282.3548387096776,3845.4838709677415,4404.5,5059.2903225806458,5708.0645161290322,6449.5,7182.354838709678,2509.6774193548385,null,{"$f":"\"MOM62\"&A70&B70","v":"MOM62254"},null,null,null,{"$f":"IF(AND($U$46=1,'SOLAI T2D SPA'!$C$6=A70),A70,10000000000)","v":10000000000},{"$f":"IF(W70=10000000000,10000000000,IF('SOLAI T2D SPA'!$C$7='ST BLOCCO 52'!B70,'ST BLOCCO 52'!B70,10000000000))","v":10000000000},{"$f":"W70+X70","v":20000000000},10000000000,null,{"$f":"IF($X$70=10000000000,10000000000,IF('SOLAI T2D SPA'!$C$20<=F70,F70,10000000000))","v":10000000000},{"$f":"IF($X$70=10000000000,10000000000,IF('SOLAI T2D SPA'!$C$20<=G70,G70,10000000000))","v":10000000000},{"$f":"IF($X$70=10000000000,10000000000,IF('SOLAI T2D SPA'!$C$20<=H70,H70,10000000000))","v":10000000000},{"$f":"IF($X$70=10000000000,10000000000,IF('SOLAI T2D SPA'!$C$20<=I70,I70,10000000000))","v":10000000000},{"$f":"IF($X$70=10000000000,10000000000,IF('SOLAI T2D SPA'!$C$20<=J70,J70,10000000000))","v":10000000000},{"$f":"IF($X$70=10000000000,10000000000,IF('SOLAI T2D SPA'!$C$20<=K70,K70,10000000000))","v":10000000000},{"$f":"IF($X$70=10000000000,10000000000,IF('SOLAI T2D SPA'!$C$20<=L70,L70,10000000000))","v":10000000000},{"$f":"IF($X$70=10000000000,10000000000,IF('SOLAI T2D SPA'!$C$20<=M70,M70,10000000000))","v":10000000000},{"$f":"IF($X$70=10000000000,10000000000,IF('SOLAI T2D SPA'!$C$20<=N70,N70,10000000000))","v":10000000000},{"$f":"IF($X$70=10000000000,10000000000,IF('SOLAI T2D SPA'!$C$20<=O70,O70,10000000000))","v":10000000000},{"$f":"IF($X$70=10000000000,10000000000,IF('SOLAI T2D SPA'!$C$20<=P70,P70,10000000000))","v":10000000000},null,null,null,2509.6774193548385]
[null,5,{"$f":"A70+B71","v":30},336,96,691.51612903225805,1571.2096774193549,2063.2419354838712,2662.1935483870966,3419.0322580645166,4009.8548387096776,4597.7096774193551,5286.6290322580644,5970.9354838709678,6754.7741935483873,7531.9516129032263,2569.3548387096776,null,{"$f":"\"MOM62\"&A70&B71","v":"MOM62255"},null,null,null,null,{"$f":"IF(W70=10000000000,10000000000,IF('SOLAI T2D SPA'!$C$7='ST BLOCCO 52'!B71,'ST BLOCCO 52'!B71,10000000000))","v":10000000000},{"$f":"W70+X71","v":20000000000},10000000000,null,{"$f":"IF($X$71=10000000000,10000000000,IF('SOLAI T2D SPA'!$C$20<=F71,F71,10000000000))","v":10000000000},{"$f":"IF($X$71=10000000000,10000000000,IF('SOLAI T2D SPA'!$C$20<=G71,G71,10000000000))","v":10000000000},{"$f":"IF($X$71=10000000000,10000000000,IF('SOLAI T2D SPA'!$C$20<=H71,H71,10000000000))","v":10000000000},{"$f":"IF($X$71=10000000000,10000000000,IF('SOLAI T2D SPA'!$C$20<=I71,I71,10000000000))","v":10000000000},{"$f":"IF($X$71=10000000000,10000000000,IF('SOLAI T2D SPA'!$C$20<=J71,J71,10000000000))","v":10000000000},{"$f":"IF($X$71=10000000000,10000000000,IF('SOLAI T2D SPA'!$C$20<=K71,K71,10000000000))","v":10000000000},{"$f":"IF($X$71=10000000000,10000000000,IF('SOLAI T2D SPA'!$C$20<=L71,L71,10000000000))","v":10000000000},{"$f":"IF($X$71=10000000000,10000000000,IF('SOLAI T2D SPA'!$C$20<=M71,M71,10000000000))","v":10000000000},{"$f":"IF($X$71=10000000000,10000000000,IF('SOLAI T2D SPA'!$C$20<=N71,N71,10000000000))","v":10000000000},{"$f":"IF($X$71=10000000000,10000000000,IF('SOLAI T2D SPA'!$C$20<=O71,O71,10000000000))","v":10000000000},{"$f":"IF($X$71=10000000000,10000000000,IF('SOLAI T2D SPA'!$C$20<=P71,P71,10000000000))","v":10000000000},null,null,null,2569.3548387096776,null,null,null,null,null,null,null,null,null,{"$f":"IF(AND(AZ88<800000000,AZ88=$BL$88),AZ69,\"\")","v":""},{"$f":"IF(AND(BA88<800000000,BA88=$BL$88),BA69,\"\")","v":""},"","","","","","","","","","",{"$f":"AZ71&BA71&BB71&BC71&BD71&BE71&BF71&BG71&BH71&BI71&BJ71&BK71","v":""}]
[null,null,null,null,null,null,null,null,null,null,null,null,null,null,null,null,null,null,null,null,null,null,{"$f":"MIN(W60:W71)","v":10000000000},10000000000,20000000000,10000000000,null,{"$f":"MIN(AB60:AB71)","v":10000000000},{"$f":"MIN(AC60:AC71)","v":10000000000},10000000000,10000000000,10000000000,10000000000,10000000000,10000000000,10000000000,10000000000,10000000000,{"$f":"MIN(AB72:AL72)","v":10000000000},{"$f":"IF(AND(U46=1,AM72=10000000000),1,0)","v":0}]
[]
["MOMENTO NEGATIVO",null,null,null,null,"1f8","1f10","1f12","2f10","1f10 + 1f12","2f12","1f12 + 1f14","2f14","1f14 + 1f16","2f16","1f16 + 1f18","2f18"]
["Altezza pignatta","Spessore soletta","Altezza solaio","Peso solaio","Volume cls getto in opera (l/mq)","Momenti ultimi riferiti ad una striscia di solaio larga 1,00 metro",null,null,null,null,null,null,null,null,null,null,null,null,null,null,null,null,{"$f":"MIN(W72,W26)","v":10000000000},{"$f":"MIN(X72,X26)","v":10000000000},20000000000,10000000000,null,null,null,null,null,null,null,null,null,null,null,null,{"$f":"MIN(AM72,AM26)","v":10000000000},null,null,null,null,null,null,null,"Altezza pignatta","Spessore soletta","Altezza solaio","Peso solaio",null,"Momenti ultimi riferiti ad una striscia di solaio larga 1,00 metro"]
[12,4,{"$f":"A76+B76","v":16},212,null,441.48387096774201,687,984.16129032258061,1357.1129032258063,1646.1612903225807,1931.8709677419354,2264.8709677419356,2592.8225806451615,2965.161290322581,3331.7419354838707,3738.3064516129034,4137.322580645161,null,null,null,null,null,null,null,null,null,null,null,null,null,null,null,null,null,null,null,null,null,null,null,null,null,null,null,null,null,{"$f":"W60","v":10000000000},10000000000,{"$f":"AU76+AV76","v":20000000000},{"$f":"Z60","v":10000000000},null,{"$f":"IF($AV$76=10000000000,10000000000,IF('SOLAI T2D SPA'!$C$25<=F76,F76,10000000000))","v":10000000000},{"$f":"IF($AV$76=10000000000,10000000000,IF('SOLAI T2D SPA'!$C$25<=G76,G76,10000000000))","v":10000000000},{"$f":"IF($AV$76=10000000000,10000000000,IF('SOLAI T2D SPA'!$C$25<=H76,H76,10000000000))","v":10000000000},{"$f":"IF($AV$76=10000000000,10000000000,IF('SOLAI T2D SPA'!$C$25<=I76,I76,10000000000))","v":10000000000},{"$f":"IF($AV$76=10000000000,10000000000,IF('SOLAI T2D SPA'!$C$25<=J76,J76,10000000000))","v":10000000000},{"$f":"IF($AV$76=10000000000,10000000000,IF('SOLAI T2D SPA'!$C$25<=K76,K76,10000000000))","v":10000000000},{"$f":"IF($AV$76=10000000000,10000000000,IF('SOLAI T2D SPA'!$C$25<=L76,L76,10000000000))","v":10000000000},{"$f":"IF($AV$76=10000000000,10000000000,IF('SOLAI T2D SPA'!$C$25<=M76,M76,10000000000))","v":10000000000},{"$f":"IF($AV$76=10000000000,10000000000,IF('SOLAI T2D SPA'!$C$25<=N76,N76,10000000000))","v":10000000000},{"$f":"IF($AV$76=10000000000,10000000000,IF('SOLAI T2D SPA'!$C$25<=O76,O76,10000000000))","v":10000000000},{"$f":"IF($AV$76=10000000000,10000000000,IF('SOLAI T2D SPA'!$C$25<=P76,P76,10000000000))","v":10000000000},{"$f":"IF($AV$76=10000000000,10000000000,IF('SOLAI T2D SPA'!$C$25<=Q76,Q76,10000000000))","v":10000000000}]
[null,5,{"$f":"A76+B77","v":17},237,null,473.09677419354836,736.48387096774195,1055.3709677419356,1456.2903225806451,1767.2096774193549,2074.4193548387098,2432.9516129032259,2787.1612903225805,3189.5483870967741,3585.516129032258,4025.8225806451615,4458.6935483870966,null,null,null,null,null,null,null,null,null,null,null,null,null,null,null,null,null,null,null,null,null,null,null,null,null,null,null,null,null,null,{"$f":"X61","v":10000000000},{"$f":"AU76+AV77","v":20000000000},{"$f":"Z61","v":10000000000},null,{"$f":"IF($AV$77=10000000000,10000000000,IF('SOLAI T2D SPA'!$C$25<=F77,F77,10000000000))","v":10000000000},{"$f":"IF($AV$77=10000000000,10000000000,IF('SOLAI T2D SPA'!$C$25<=G77,G77,10000000000))","v":10000000000},{"$f":"IF($AV$77=10000000000,10000000000,IF('SOLAI T2D SPA'!$C$25<=H77,H77,10000000000))","v":10000000000},{"$f":"IF($AV$77=10000000000,10000000000,IF('SOLAI T2D SPA'!$C$25<=I77,I77,10000000000))","v":10000000000},{"$f":"IF($AV$77=10000000000,10000000000,IF('SOLAI T2D SPA'!$C$25<=J77,J77,10000000000))","v":10000000000},{"$f":"IF($AV$77=10000000000,10000000000,IF('SOLAI T2D SPA'!$C$25<=K77,K77,10000000000))","v":10000000000},{"$f":"IF($AV$77=10000000000,10000000000,IF('SOLAI T2D SPA'!$C$25<=L77,L77,10000000000))","v":10000000000},{"$f":"IF($AV$77=10000000000,10000000000,IF('SOLAI T2D SPA'!$C$25<=M77,M77,10000000000))","v":10000000000},{"$f":"IF($AV$77=10000000000,10000000000,IF('SOLAI T2D SPA'!$C$25<=N77,N77,10000000000))","v":10000000000},{"$f":"IF($AV$77=10000000000,10000000000,IF('SOLAI T2D SPA'!$C$25<=O77,O77,10000000000))","v":10000000000},{"$f":"IF($AV$77=10000000000,10000000000,IF('SOLAI T2D SPA'!$C$25<=P77,P77,10000000000))","v":10000000000},{"$f":"IF($AV$77=10000000000,10000000000,IF('SOLAI T2D SPA'!$C$25<=Q77,Q77,10000000000))","v":10000000000}]
[14,4,{"$f":"A78+B78","v":18},226,null,504.64516129032256,786.0322580645161,1126.5645161290322,1555.4677419354839,1887.8870967741937,2217.1290322580644,2601.4193548387098,2981.483870967742,3413.4193548387098,3838.983870967742,4313.354838709678,4780.4516129032263,null,null,null,null,null,null,null,null,null,null,null,null,null,null,null,null,null,null,null,null,null,null,null,null,null,null,null,null,null,{"$f":"W62","v":10000000000},10000000000,{"$f":"AU78+AV78","v":20000000000},10000000000,null,{"$f":"IF($AV$78=10000000000,10000000000,IF('SOLAI T2D SPA'!$C$25<=F78,F78,10000000000))","v":10000000000},{"$f":"IF($AV$78=10000000000,10000000000,IF('SOLAI T2D SPA'!$C$25<=G78,G78,10000000000))","v":10000000000},{"$f":"IF($AV$78=10000000000,10000000000,IF('SOLAI T2D SPA'!$C$25<=H78,H78,10000000000))","v":10000000000},{"$f":"IF($AV$78=10000000000,10000000000,IF('SOLAI T2D SPA'!$C$25<=I78,I78,10000000000))","v":10000000000},{"$f":"IF($AV$78=10000000000,10000000000,IF('SOLAI T2D SPA'!$C$25<=J78,J78,10000000000))","v":10000000000},{"$f":"IF($AV$78=10000000000,10000000000,IF('SOLAI T2D SPA'!$C$25<=K78,K78,10000000000))","v":10000000000},{"$f":"IF($AV$78=10000000000,10000000000,IF('SOLAI T2D SPA'!$C$25<=L78,L78,10000000000))","v":10000000000},{"$f":"IF($AV$78=10000000000,10000000000,IF('SOLAI T2D SPA'!$C$25<=M78,M78,10000000000))","v":10000000000},{"$f":"IF($AV$78=10000000000,10000000000,IF('SOLAI T2D SPA'!$C$25<=N78,N78,10000000000))","v":10000000000},{"$f":"IF($AV$78=10000000000,10000000000,IF('SOLAI T2D SPA'!$C$25<=O78,O78,10000000000))","v":10000000000},{"$f":"IF($AV$78=10000000000,10000000000,IF('SOLAI T2D SPA'!$C$25<=P78,P78,10000000000))","v":10000000000},{"$f":"IF($AV$78=10000000000,10000000000,IF('SOLAI T2D SPA'!$C$25<=Q78,Q78,10000000000))","v":10000000000}]
[null,5,{"$f":"A78+B79","v":19},251,null,536.33870967741927,835.4677419354839,1197.9516129032259,1654.2741935483873,2009.0806451612905,2359.8870967741937,2770.1774193548385,3175.5806451612902,3637.177419354839,4092.5483870967746,4601.3387096774195,5100.9032258064517,null,null,null,null,null,null,null,null,null,null,null,null,null,null,null,null,null,null,null,null,null,null,null,null,null,null,null,null,null,null,10000000000,{"$f":"AU78+AV79","v":20000000000},10000000000,null,{"$f":"IF($AV$79=10000000000,10000000000,IF('SOLAI T2D SPA'!$C$25<=F79,F79,10000000000))","v":10000000000},{"$f":"IF($AV$79=10000000000,10000000000,IF('SOLAI T2D SPA'!$C$25<=G79,G79,10000000000))","v":10000000000},{"$f":"IF($AV$79=10000000000,10000000000,IF('SOLAI T2D SPA'!$C$25<=H79,H79,10000000000))","v":10000000000},{"$f":"IF($AV$79=10000000000,10000000000,IF('SOLAI T2D SPA'!$C$25<=I79,I79,10000000000))","v":10000000000},{"$f":"IF($AV$79=10000000000,10000000000,IF('SOLAI T2D SPA'!$C$25<=J79,J79,10000000000))","v":10000000000},{"$f":"IF($AV$79=10000000000,10000000000,IF('SOLAI T2D SPA'!$C$25<=K79,K79,10000000000))","v":10000000000},{"$f":"IF($AV$79=10000000000,10000000000,IF('SOLAI T2D SPA'!$C$25<=L79,L79,10000000000))","v":10000000000},{"$f":"IF($AV$79=10000000000,10000000000,IF('SOLAI T2D SPA'!$C$25<=M79,M79,10000000000))","v":10000000000},{"$f":"IF($AV$79=10000000000,10000000000,IF('SOLAI T2D SPA'!$C$25<=N79,N79,10000000000))","v":10000000000},{"$f":"IF($AV$79=10000000000,10000000000,IF('SOLAI T2D SPA'!$C$25<=O79,O79,10000000000))","v":10000000000},{"$f":"IF($AV$79=10000000000,10000000000,IF('SOLAI T2D SPA'!$C$25<=P79,P79,10000000000))","v":10000000000},{"$f":"IF($AV$79=10000000000,10000000000,IF('SOLAI T2D SPA'!$C$25<=Q79,Q79,10000000000))","v":10000000000}]
[16,4,{"$f":"A80+B80","v":20},242,null,567.9354838709678,884.95161290322574,1269.1612903225807,1753.5322580645163,2130.1290322580649,2502.661290322581,2939.0806451612902,3369.9032258064517,3861.4677419354839,4346.8225806451619,4888.4032258064517,5422.7903225806458,null,null,null,null,null,null,null,null,null,null,null,null,null,null,null,null,null,null,null,null,null,null,null,null,null,null,null,null,null,{"$f":"W64","v":10000000000},10000000000,{"$f":"AU80+AV80","v":20000000000},10000000000,null,{"$f":"IF($AV$80=10000000000,10000000000,IF('SOLAI T2D SPA'!$C$25<=F80,F80,10000000000))","v":10000000000},{"$f":"IF($AV$80=10000000000,10000000000,IF('SOLAI T2D SPA'!$C$25<=G80,G80,10000000000))","v":10000000000},{"$f":"IF($AV$80=10000000000,10000000000,IF('SOLAI T2D SPA'!$C$25<=H80,H80,10000000000))","v":10000000000},{"$f":"IF($AV$80=10000000000,10000000000,IF('SOLAI T2D SPA'!$C$25<=I80,I80,10000000000))","v":10000000000},{"$f":"IF($AV$80=10000000000,10000000000,IF('SOLAI T2D SPA'!$C$25<=J80,J80,10000000000))","v":10000000000},{"$f":"IF($AV$80=10000000000,10000000000,IF('SOLAI T2D SPA'!$C$25<=K80,K80,10000000000))","v":10000000000},{"$f":"IF($AV$80=10000000000,10000000000,IF('SOLAI T2D SPA'!$C$25<=L80,L80,10000000000))","v":10000000000},{"$f":"IF($AV$80=10000000000,10000000000,IF('SOLAI T2D SPA'!$C$25<=M80,M80,10000000000))","v":10000000000},{"$f":"IF($AV$80=10000000000,10000000000,IF('SOLAI T2D SPA'!$C$25<=N80,N80,10000000000))","v":10000000000},{"$f":"IF($AV$80=10000000000,10000000000,IF('SOLAI T2D SPA'!$C$25<=O80,O80,10000000000))","v":10000000000},{"$f":"IF($AV$80=10000000000,10000000000,IF('SOLAI T2D SPA'!$C$25<=P80,P80,10000000000))","v":10000000000},{"$f":"IF($AV$80=10000000000,10000000000,IF('SOLAI T2D SPA'!$C$25<=Q80,Q80,10000000000))","v":10000000000}]
[null,5,{"$f":"A80+B81","v":21},267,null,599.58064516129036,934.33870967741927,1340.483870967742,1852.5645161290322,2251.0967741935483,2645.3548387096771,3107.2741935483873,3564.3548387096776,4086.0483870967741,4600.677419354839,5176.2258064516136,5743.4516129032263,null,null,null,null,null,null,null,null,null,null,null,null,null,null,null,null,null,null,null,null,null,null,null,null,null,null,null,null,null,null,10000000000,{"$f":"AU80+AV81","v":20000000000},10000000000,null,{"$f":"IF($AV$81=10000000000,10000000000,IF('SOLAI T2D SPA'!$C$25<=F81,F81,10000000000))","v":10000000000},{"$f":"IF($AV$81=10000000000,10000000000,IF('SOLAI T2D SPA'!$C$25<=G81,G81,10000000000))","v":10000000000},{"$f":"IF($AV$81=10000000000,10000000000,IF('SOLAI T2D SPA'!$C$25<=H81,H81,10000000000))","v":10000000000},{"$f":"IF($AV$81=10000000000,10000000000,IF('SOLAI T2D SPA'!$C$25<=I81,I81,10000000000))","v":10000000000},{"$f":"IF($AV$81=10000000000,10000000000,IF('SOLAI T2D SPA'!$C$25<=J81,J81,10000000000))","v":10000000000},{"$f":"IF($AV$81=10000000000,10000000000,IF('SOLAI T2D SPA'!$C$25<=K81,K81,10000000000))","v":10000000000},{"$f":"IF($AV$81=10000000000,10000000000,IF('SOLAI T2D SPA'!$C$25<=L81,L81,10000000000))","v":10000000000},{"$f":"IF($AV$81=10000000000,10000000000,IF('SOLAI T2D SPA'!$C$25<=M81,M81,10000000000))","v":10000000000},{"$f":"IF($AV$81=10000000000,10000000000,IF('SOLAI T2D SPA'!$C$25<=N81,N81,10000000000))","v":10000000000},{"$f":"IF($AV$81=10000000000,10000000000,IF('SOLAI T2D SPA'!$C$25<=O81,O81,10000000000))","v":10000000000},{"$f":"IF($AV$81=10000000000,10000000000,IF('SOLAI T2D SPA'!$C$25<=P81,P81,10000000000))","v":10000000000},{"$f":"IF($AV$81=10000000000,10000000000,IF('SOLAI T2D SPA'!$C$25<=Q81,Q81,10000000000))","v":10000000000}]
[18,4,{"$f":"A82+B82","v":22},256,null,631.22580645161293,983.88709677419354,1411.5806451612902,1951.3064516129032,2371.8709677419356,2788.3870967741937,3276.1129032258063,3758.8064516129034,4309.9193548387102,4853.8548387096771,5463.4677419354839,6064.8709677419356,null,null,null,null,null,null,null,null,null,null,null,null,null,null,null,null,null,null,null,null,null,null,null,null,null,null,null,null,null,{"$f":"W66","v":10000000000},10000000000,{"$f":"AU82+AV82","v":20000000000},10000000000,null,{"$f":"IF($AV$82=10000000000,10000000000,IF('SOLAI T2D SPA'!$C$25<=F82,F82,10000000000))","v":10000000000},{"$f":"IF($AV$82=10000000000,10000000000,IF('SOLAI T2D SPA'!$C$25<=G82,G82,10000000000))","v":10000000000},{"$f":"IF($AV$82=10000000000,10000000000,IF('SOLAI T2D SPA'!$C$25<=H82,H82,10000000000))","v":10000000000},{"$f":"IF($AV$82=10000000000,10000000000,IF('SOLAI T2D SPA'!$C$25<=I82,I82,10000000000))","v":10000000000},{"$f":"IF($AV$82=10000000000,10000000000,IF('SOLAI T2D SPA'!$C$25<=J82,J82,10000000000))","v":10000000000},{"$f":"IF($AV$82=10000000000,10000000000,IF('SOLAI T2D SPA'!$C$25<=K82,K82,10000000000))","v":10000000000},{"$f":"IF($AV$82=10000000000,10000000000,IF('SOLAI T2D SPA'!$C$25<=L82,L82,10000000000))","v":10000000000},{"$f":"IF($AV$82=10000000000,10000000000,IF('SOLAI T2D SPA'!$C$25<=M82,M82,10000000000))","v":10000000000},{"$f":"IF($AV$82=10000000000,10000000000,IF('SOLAI T2D SPA'!$C$25<=N82,N82,10000000000))","v":10000000000},{"$f":"IF($AV$82=10000000000,10000000000,IF('SOLAI T2D SPA'!$C$25<=O82,O82,10000000000))","v":10000000000},{"$f":"IF($AV$82=10000000000,10000000000,IF('SOLAI T2D SPA'!$C$25<=P82,P82,10000000000))","v":10000000000},{"$f":"IF($AV$82=10000000000,10000000000,IF('SOLAI T2D SPA'!$C$25<=Q82,Q82,10000000000))","v":10000000000}]
[null,5,{"$f":"A82+B83","v":23},281,null,662.91935483870964,1033.2741935483871,1483.016129032258,2050.5967741935483,2492.6451612903229,2931.1290322580644,3444.5322580645166,3952.9193548387098,4533.9677419354839,5107.8548387096771,5751.2903225806458,6385.8709677419356,null,null,null,null,null,null,null,null,null,null,null,null,null,null,null,null,null,null,null,null,null,null,null,null,null,null,null,null,null,null,10000000000,{"$f":"AU82+AV83","v":20000000000},10000000000,null,{"$f":"IF($AV$83=10000000000,10000000000,IF('SOLAI T2D SPA'!$C$25<=F83,F83,10000000000))","v":10000000000},{"$f":"IF($AV$83=10000000000,10000000000,IF('SOLAI T2D SPA'!$C$25<=G83,G83,10000000000))","v":10000000000},{"$f":"IF($AV$83=10000000000,10000000000,IF('SOLAI T2D SPA'!$C$25<=H83,H83,10000000000))","v":10000000000},{"$f":"IF($AV$83=10000000000,10000000000,IF('SOLAI T2D SPA'!$C$25<=I83,I83,10000000000))","v":10000000000},{"$f":"IF($AV$83=10000000000,10000000000,IF('SOLAI T2D SPA'!$C$25<=J83,J83,10000000000))","v":10000000000},{"$f":"IF($AV$83=10000000000,10000000000,IF('SOLAI T2D SPA'!$C$25<=K83,K83,10000000000))","v":10000000000},{"$f":"IF($AV$83=10000000000,10000000000,IF('SOLAI T2D SPA'!$C$25<=L83,L83,10000000000))","v":10000000000},{"$f":"IF($AV$83=10000000000,10000000000,IF('SOLAI T2D SPA'!$C$25<=M83,M83,10000000000))","v":10000000000},{"$f":"IF($AV$83=10000000000,10000000000,IF('SOLAI T2D SPA'!$C$25<=N83,N83,10000000000))","v":10000000000},{"$f":"IF($AV$83=10000000000,10000000000,IF('SOLAI T2D SPA'!$C$25<=O83,O83,10000000000))","v":10000000000},{"$f":"IF($AV$83=10000000000,10000000000,IF('SOLAI T2D SPA'!$C$25<=P83,P83,10000000000))","v":10000000000},{"$f":"IF($AV$83=10000000000,10000000000,IF('SOLAI T2D SPA'!$C$25<=Q83,Q83,10000000000))","v":10000000000}]
[20,4,{"$f":"A84+B84","v":24},274,null,694.54838709677415,1082.6935483870968,1554.2741935483871,2149.4516129032259,2613.6774193548385,3073.7580645161293,3612.8387096774195,4147,4757.5483870967737,5361.5645161290322,6038.9516129032263,6707.5161290322576,null,null,null,null,null,null,null,null,null,null,null,null,null,null,null,null,null,null,null,null,null,null,null,null,null,null,null,null,null,{"$f":"W68","v":10000000000},10000000000,{"$f":"AU84+AV84","v":20000000000},10000000000,null,{"$f":"IF($AV$84=10000000000,10000000000,IF('SOLAI T2D SPA'!$C$25<=F84,F84,10000000000))","v":10000000000},{"$f":"IF($AV$84=10000000000,10000000000,IF('SOLAI T2D SPA'!$C$25<=G84,G84,10000000000))","v":10000000000},{"$f":"IF($AV$84=10000000000,10000000000,IF('SOLAI T2D SPA'!$C$25<=H84,H84,10000000000))","v":10000000000},{"$f":"IF($AV$84=10000000000,10000000000,IF('SOLAI T2D SPA'!$C$25<=I84,I84,10000000000))","v":10000000000},{"$f":"IF($AV$84=10000000000,10000000000,IF('SOLAI T2D SPA'!$C$25<=J84,J84,10000000000))","v":10000000000},{"$f":"IF($AV$84=10000000000,10000000000,IF('SOLAI T2D SPA'!$C$25<=K84,K84,10000000000))","v":10000000000},{"$f":"IF($AV$84=10000000000,10000000000,IF('SOLAI T2D SPA'!$C$25<=L84,L84,10000000000))","v":10000000000},{"$f":"IF($AV$84=10000000000,10000000000,IF('SOLAI T2D SPA'!$C$25<=M84,M84,10000000000))","v":10000000000},{"$f":"IF($AV$84=10000000000,10000000000,IF('SOLAI T2D SPA'!$C$25<=N84,N84,10000000000))","v":10000000000},{"$f":"IF($AV$84=10000000000,10000000000,IF('SOLAI T2D SPA'!$C$25<=O84,O84,10000000000))","v":10000000000},{"$f":"IF($AV$84=10000000000,10000000000,IF('SOLAI T2D SPA'!$C$25<=P84,P84,10000000000))","v":10000000000},{"$f":"IF($AV$84=10000000000,10000000000,IF('SOLAI T2D SPA'!$C$25<=Q84,Q84,10000000000))","v":10000000000}]
[null,5,{"$f":"A84+B85","v":25},299,null,726.24193548387098,1132.016129032258,1625.4516129032259,2248.4354838709678,2734.2258064516132,3216.6129032258063,3781.6290322580649,4341.6451612903229,4981.9516129032254,5615.6290322580644,6325.8870967741941,7028.5483870967737,null,null,null,null,null,null,null,null,null,null,null,null,null,null,null,null,null,null,null,null,null,null,null,null,null,null,null,null,null,null,10000000000,{"$f":"AU84+AV85","v":20000000000},10000000000,null,{"$f":"IF($AV$85=10000000000,10000000000,IF('SOLAI T2D SPA'!$C$25<=F85,F85,10000000000))","v":10000000000},{"$f":"IF($AV$85=10000000000,10000000000,IF('SOLAI T2D SPA'!$C$25<=G85,G85,10000000000))","v":10000000000},{"$f":"IF($AV$85=10000000000,10000000000,IF('SOLAI T2D SPA'!$C$25<=H85,H85,10000000000))","v":10000000000},{"$f":"IF($AV$85=10000000000,10000000000,IF('SOLAI T2D SPA'!$C$25<=I85,I85,10000000000))","v":10000000000},{"$f":"IF($AV$85=10000000000,10000000000,IF('SOLAI T2D SPA'!$C$25<=J85,J85,10000000000))","v":10000000000},{"$f":"IF($AV$85=10000000000,10000000000,IF('SOLAI T2D SPA'!$C$25<=K85,K85,10000000000))","v":10000000000},{"$f":"IF($AV$85=10000000000,10000000000,IF('SOLAI T2D SPA'!$C$25<=L85,L85,10000000000))","v":10000000000},{"$f":"IF($AV$85=10000000000,10000000000,IF('SOLAI T2D SPA'!$C$25<=M85,M85,10000000000))","v":10000000000},{"$f":"IF($AV$85=10000000000,10000000000,IF('SOLAI T2D SPA'!$C$25<=N85,N85,10000000000))","v":10000000000},{"$f":"IF($AV$85=10000000000,10000000000,IF('SOLAI T2D SPA'!$C$25<=O85,O85,10000000000))","v":10000000000},{"$f":"IF($AV$85=10000000000,10000000000,IF('SOLAI T2D SPA'!$C$25<=P85,P85,10000000000))","v":10000000000},{"$f":"IF($AV$85=10000000000,10000000000,IF('SOLAI T2D SPA'!$C$25<=Q85,Q85,10000000000))","v":10000000000}]
[25,4,{"$f":"A86+B86","v":29},311,null,852.82258064516134,1329.8225806451612,1910.3387096774195,2644.3709677419356,3217.2903225806454,3787.0967741935483,4455.6129032258068,5118.7741935483873,5878.0483870967737,6630.822580645161,7476.032258064517,8312.9032258064508,null,null,null,null,null,null,null,null,null,null,null,null,null,null,null,null,null,null,null,null,null,null,null,null,null,null,null,null,null,{"$f":"W70","v":10000000000},10000000000,{"$f":"AU86+AV86","v":20000000000},10000000000,null,{"$f":"IF($AV$86=10000000000,10000000000,IF('SOLAI T2D SPA'!$C$25<=F86,F86,10000000000))","v":10000000000},{"$f":"IF($AV$86=10000000000,10000000000,IF('SOLAI T2D SPA'!$C$25<=G86,G86,10000000000))","v":10000000000},{"$f":"IF($AV$86=10000000000,10000000000,IF('SOLAI T2D SPA'!$C$25<=H86,H86,10000000000))","v":10000000000},{"$f":"IF($AV$86=10000000000,10000000000,IF('SOLAI T2D SPA'!$C$25<=I86,I86,10000000000))","v":10000000000},{"$f":"IF($AV$86=10000000000,10000000000,IF('SOLAI T2D SPA'!$C$25<=J86,J86,10000000000))","v":10000000000},{"$f":"IF($AV$86=10000000000,10000000000,IF('SOLAI T2D SPA'!$C$25<=K86,K86,10000000000))","v":10000000000},{"$f":"IF($AV$86=10000000000,10000000000,IF('SOLAI T2D SPA'!$C$25<=L86,L86,10000000000))","v":10000000000},{"$f":"IF($AV$86=10000000000,10000000000,IF('SOLAI T2D SPA'!$C$25<=M86,M86,10000000000))","v":10000000000},{"$f":"IF($AV$86=10000000000,10000000000,IF('SOLAI T2D SPA'!$C$25<=N86,N86,10000000000))","v":10000000000},{"$f":"IF($AV$86=10000000000,10000000000,IF('SOLAI T2D SPA'!$C$25<=O86,O86,10000000000))","v":10000000000},{"$f":"IF($AV$86=10000000000,10000000000,IF('SOLAI T2D SPA'!$C$25<=P86,P86,10000000000))","v":10000000000},{"$f":"IF($AV$86=10000000000,10000000000,IF('SOLAI T2D SPA'!$C$25<=Q86,Q86,10000000000))","v":10000000000}]
[null,5,{"$f":"A86+B87","v":30},336,null,884.41935483870975,1379.1935483870968,1981.3870967741937,2743.4354838709678,3338.3387096774195,3929.5161290322585,4624.3387096774195,5313.1612903225805,6101.8709677419356,6884.8387096774204,7763.2903225806449,8634.1935483870966,null,null,null,null,null,null,null,null,null,null,null,null,null,null,null,null,null,null,null,null,null,null,null,null,null,null,null,null,null,null,10000000000,{"$f":"AU86+AV87","v":20000000000},10000000000,null,{"$f":"IF($AV$87=10000000000,10000000000,IF('SOLAI T2D SPA'!$C$25<=F87,F87,10000000000))","v":10000000000},{"$f":"IF($AV$87=10000000000,10000000000,IF('SOLAI T2D SPA'!$C$25<=G87,G87,10000000000))","v":10000000000},{"$f":"IF($AV$87=10000000000,10000000000,IF('SOLAI T2D SPA'!$C$25<=H87,H87,10000000000))","v":10000000000},{"$f":"IF($AV$87=10000000000,10000000000,IF('SOLAI T2D SPA'!$C$25<=I87,I87,10000000000))","v":10000000000},{"$f":"IF($AV$87=10000000000,10000000000,IF('SOLAI T2D SPA'!$C$25<=J87,J87,10000000000))","v":10000000000},{"$f":"IF($AV$87=10000000000,10000000000,IF('SOLAI T2D SPA'!$C$25<=K87,K87,10000000000))","v":10000000000},{"$f":"IF($AV$87=10000000000,10000000000,IF('SOLAI T2D SPA'!$C$25<=L87,L87,10000000000))","v":10000000000},{"$f":"IF($AV$87=10000000000,10000000000,IF('SOLAI T2D SPA'!$C$25<=M87,M87,10000000000))","v":10000000000},{"$f":"IF($AV$87=10000000000,10000000000,IF('SOLAI T2D SPA'!$C$25<=N87,N87,10000000000))","v":10000000000},{"$f":"IF($AV$87=10000000000,10000000000,IF('SOLAI T2D SPA'!$C$25<=O87,O87,10000000000))","v":10000000000},{"$f":"IF($AV$87=10000000000,10000000000,IF('SOLAI T2D SPA'!$C$25<=P87,P87,10000000000))","v":10000000000},{"$f":"IF($AV$87=10000000000,10000000000,IF('SOLAI T2D SPA'!$C$25<=Q87,Q87,10000000000))","v":10000000000}]
[null,null,null,null,null,null,null,null,null,null,null,null,null,null,null,null,null,null,null,null,null,null,null,null,null,null,null,null,null,null,null,null,null,null,null,null,null,null,null,null,null,null,null,null,null,null,{"$f":"MIN(AU76:AU87)","v":10000000000},{"$f":"MIN(AV76:AV87)","v":10000000000},20000000000,10000000000,null,{"$f":"MIN(AZ76:AZ87)","v":10000000000},{"$f":"MIN(BA76:BA87)","v":10000000000},{"$f":"MIN(BB76:BB87)","v":10000000000},{"$f":"MIN(BC76:BC87)","v":10000000000},{"$f":"MIN(BD76:BD87)","v":10000000000},{"$f":"MIN(BE76:BE87)","v":10000000000},{"$f":"MIN(BF76:BF87)","v":10000000000},{"$f":"MIN(BG76:BG87)","v":10000000000},{"$f":"MIN(BH76:BH87)","v":10000000000},{"$f":"MIN(BI76:BI87)","v":10000000000},{"$f":"MIN(BJ76:BJ87)","v":10000000000},{"$f":"MIN(BK76:BK87)","v":10000000000},{"$f":"MIN(AZ88:BK88)","v":10000000000},{"$f":"IF(AND(U46=1,BL88=10000000000),1,0)","v":0}]
[]
[]
[null,null,null,null,null,null,null,null,null,null,null,null,null,null,null,null,null,null,null,null,null,null,null,null,null,null,null,null,null,null,null,null,null,null,null,null,null,null,null,null,null,null,null,null,null,null,{"$f":"MIN(AU88,AU42)","v":10000000000},{"$f":"MIN(AV88,AV42)","v":10000000000},20000000000,10000000000,null,null,null,null,null,null,null,null,null,null,null,null,null,{"$f":"MIN(BL88,BL42)","v":10000000000}]

{"sheet":"DT BLOCCO 42","index":6,"n_rows":0,"n_cols":0,"rows_kept":0,"cut":false,"hidden":true,"merged":[]}

{"sheet":"DT BLOCCO 52","index":7,"n_rows":0,"n_cols":0,"rows_kept":0,"cut":false,"hidden":true,"merged":[]}

{"sheet":"LP POLISTIROLO","index":8,"n_rows":166,"n_cols":116,"rows_kept":166,"cut":false,"hidden":true,"merged":[[122,61,122,62],[122,63,122,64],[122,65,122,66],[122,67,122,68],[122,69,122,70],[41,53,41,54],[41,55,41,56],[41,57,41,58],[41,59,41,60],[41,61,41,62],[41,63,41,64],[41,65,41,66],[41,67,41,68],[41,69,41,70],[112,46,113,46],[114,46,115,46],[116,46,117,46],[118,46,119,46],[120,46,121,46],[122,53,122,54],[122,55,122,56],[122,57,122,58],[122,59,122,60],[94,46,95,46],[96,46,97,46],[98,46,99,46],[100,46,101,46],[102,46,103,46],[104,46,105,46],[106,46,107,46],[108,46,109,46],[110,46,111,46],[27,46,28,46],[29,46,30,46],[31,46,32,46],[33,46,34,46],[35,46,36,46],[37,46,38,46],[39,46,40,46],[90,46,91,46],[92,46,93,46],[9,46,10,46],[11,46,12,46],[13,46,14,46],[15,46,16,46],[17,46,18,46],[19,46,20,46],[21,46,22,46],[23,46,24,46],[25,46,26,46],[120,67,120,68],[120,69,120,70],[120,73,120,74],[121,53,121,54],[121,55,121,56],[121,57,121,58],[121,59,121,60],[121,61,121,62],[121,63,121,64],[121,65,121,66],[121,67,121,68],[121,69,121,70],[121,73,121,74],[118,67,118,68],[118,69,118,70],[118,73,118,74],[119,53,119,54],[119,55,119,56],[119,57,119,58],[119,59,119,60],[119,61,119,62],[119,63,119,64],[119,65,119,66],[119,67,119,68],[119,69,119,70],[119,73,119,74],[118,47,119,47],[118,48,121,48],[118,53,118,54],[118,55,118,56],[118,57,118,58],[118,59,118,60],[118,61,118,62],[118,63,118,64],[118,65,118,66],[120,47,121,47],[120,53,120,54],[120,55,120,56],[120,57,120,58],[120,59,120,60],[120,61,120,62],[120,63,120,64],[120,65,120,66],[116,67,116,68],[116,69,116,70],[116,73,116,74],[117,53,117,54],[117,55,117,56],[117,57,117,58],[117,59,117,60],[117,61,117,62],[117,63,117,64],[117,65,117,66],[117,67,117,68],[117,69,117,70],[117,73,117,74],[114,67,114,68],[114,69,114,70],[114,73,114,74],[115,53,115,54],[115,55,115,56],[115,57,115,58],[115,59,115,60],[115,61,115,62],[115,63,115,64],[115,65,115,66],[115,67,115,68],[115,69,115,70],[115,73,115,74],[114,47,115,47],[114,48,117,48],[114,53,114,54],[114,55,114,56],[114,57,114,58],[114,59,114,60],[114,61,114,62],[114,63,114,64],[114,65,114,66],[116,47,117,47],[116,53,116,54],[116,55,116,56],[116,57,116,58],[116,59,116,60],[116,61,116,62],[116,63,116,64],[116,65,116,66],[112,67,112,68],[112,69,112,70],[112,73,112,74],[113,53,113,54],[113,55,113,56],[113,57,113,58],[113,59,113,60],[113,61,113,62],[113,63,113,64],[113,65,113,66],[113,67,113,68],[113,69,113,70],[113,73,113,74],[110,67,110,68],[110,69,110,70],[110,73,110,74],[111,53,111,54],[111,55,111,56],[111,57,111,58],[111,59,111,60],[111,61,111,62],[111,63,111,64],[111,65,111,66],[111,67,111,68],[111,69,111,70],[111,73,111,74],[110,47,111,47],[110,48,113,48],[110,53,110,54],[110,55,110,56],[110,57,110,58],[110,59,110,60],[110,61,110,62],[110,63,110,64],[110,65,110,66],[112,47,113,47],[112,53,112,54],[112,55,112,56],[112,57,112,58],[112,59,112,60],[112,61,112,62],[112,63,112,64],[112,65,112,66],[108,67,108,68],[108,69,108,70],[108,73,108,74],[109,53,109,54],[109,55,109,56],[109,57,109,58],[109,59,109,60],[109,61,109,62],[109,63,109,64],[109,65,109,66],[109,67,109,68],[109,69,109,70],[109,73,109,74],[106,67,106,68],[106,69,106,70],[106,73,106,74],[107,53,107,54],[107,55,107,56],[107,57,107,58],[107,59,107,60],[107,61,107,62],[107,63,107,64],[107,65,107,66],[107,67,107,68],[107,69,107,70],[107,73,107,74],[106,47,107,47],[106,48,109,48],[106,53,106,54],[106,55,106,56],[106,57,106,58],[106,59,106,60],[106,61,106,62],[106,63,106,64],[106,65,106,66],[108,47,109,47],[108,53,108,54],[108,55,108,56],[108,57,108,58],[108,59,108,60],[108,61,108,62],[108,63,108,64],[108,65,108,66],[104,67,104,68],[104,69,104,70],[104,73,104,74],[105,53,105,54],[105,55,105,56],[105,57,105,58],[105,59,105,60],[105,61,105,62],[105,63,105,64],[105,65,105,66],[105,67,105,68],[105,69,105,70],[105,73,105,74],[102,67,102,68],[102,69,102,70],[102,73,102,74],[103,53,103,54],[103,55,103,56],[103,57,103,58],[103,59,103,60],[103,61,103,62],[103,63,103,64],[103,65,103,66],[103,67,103,68],[103,69,103,70],[103,73,103,74],[102,47,103,47],[102,48,105,48],[102,53,102,54],[102,55,102,56],[102,57,102,58],[102,59,102,60],[102,61,102,62],[102,63,102,64],[102,65,102,66],[104,47,105,47],[104,53,104,54],[104,55,104,56],[104,57,104,58],[104,59,104,60],[104,61,104,62],[104,63,104,64],[104,65,104,66],[100,67,100,68],[100,69,100,70],[100,73,100,74],[101,53,101,54],[101,55,101,56],[101,57,101,58],[101,59,101,60],[101,61,101,62],[101,63,101,64],[101,65,101,66],[101,67,101,68],[101,69,101,70],[101,73,101,74],[98,67,98,68],[98,69,98,70],[98,73,98,74],[99,53,99,54],[99,55,99,56],[99,57,99,58],[99,59,99,60],[99,61,99,62],[99,63,99,64],[99,65,99,66],[99,67,99,68],[99,69,99,70],[99,73,99,74],[98,47,99,47],[98,48,101,48],[98,53,98,54],[98,55,98,56],[98,57,98,58],[98,59,98,60],[98,61,98,62],[98,63,98,64],[98,65,98,66],[100,47,101,47],[100,53,100,54],[100,55,100,56],[100,57,100,58],[100,59,100,60],[100,61,100,62],[100,63,100,64],[100,65,100,66],[96,67,96,68],[96,69,96,70],[96,73,96,74],[97,53,97,54],[97,55,97,56],[97,57,97,58],[97,59,97,60],[97,61,97,62],[97,63,97,64],[97,65,97,66],[97,67,97,68],[97,69,97,70],[97,73,97,74],[94,67,94,68],[94,69,94,70],[94,73,94,74],[95,53,95,54],[95,55,95,56],[95,57,95,58],[95,59,95,60],[95,61,95,62],[95,63,95,64],[95,65,95,66],[95,67,95,68],[95,69,95,70],[95,73,95,74],[94,47,95,47],[94,48,97,48],[94,53,94,54],[94,55,94,56],[94,57,94,58],[94,59,94,60],[94,61,94,62],[94,63,94,64],[94,65,94,66],[96,47,97,47],[96,53,96,54],[96,55,96,56],[96,57,96,58],[96,59,96,60],[96,61,96,62],[96,63,96,64],[96,65,96,66],[89,61,89,62],[89,63,89,64],[89,65,89,66],[89,67,89,68],[92,73,92,74],[93,53,93,54],[93,55,93,56],[93,57,93,58],[93,59,93,60],[93,61,93,62],[93,63,93,64],[93,65,93,66],[93,67,93,68],[93,69,93,70],[93,73,93,74],[92,53,92,54],[92,55,92,56],[92,57,92,58],[92,59,92,60],[92,61,92,62],[92,63,92,64],[92,65,92,66],[92,67,92,68],[92,69,92,70],[89,69,89,70],[89,73,89,74],[89,53,89,54],[89,55,89,56],[89,57,89,58],[89,59,89,60],[90,47,91,47],[90,48,93,48],[90,53,90,54],[90,55,90,56],[90,57,90,58],[90,59,90,60],[90,61,90,62],[90,63,90,64],[90,65,90,66],[90,67,90,68],[90,69,90,70],[90,73,90,74],[91,53,91,54],[91,55,91,56],[91,57,91,58],[91,59,91,60],[91,61,91,62],[91,63,91,64],[91,65,91,66],[91,67,91,68],[91,69,91,70],[91,73,91,74],[92,47,93,47],[39,67,39,68],[39,69,39,70],[39,73,39,74],[40,53,40,54],[40,55,40,56],[40,57,40,58],[40,59,40,60],[40,61,40,62],[40,63,40,64],[40,65,40,66],[40,67,40,68],[40,69,40,70],[40,73,40,74],[37,67,37,68],[37,69,37,70],[37,73,37,74],[38,53,38,54],[38,55,38,56],[38,57,38,58],[38,59,38,60],[38,61,38,62],[38,63,38,64],[38,65,38,66],[38,67,38,68],[38,69,38,70],[38,73,38,74],[37,47,38,47],[37,48,40,48],[37,53,37,54],[37,55,37,56],[37,57,37,58],[37,59,37,60],[37,61,37,62],[37,63,37,64],[37,65,37,66],[39,47,40,47],[39,53,39,54],[39,55,39,56],[39,57,39,58],[39,59,39,60],[39,61,39,62],[39,63,39,64],[39,65,39,66],[35,67,35,68],[35,69,35,70],[35,73,35,74],[36,53,36,54],[36,55,36,56],[36,57,36,58],[36,59,36,60],[36,61,36,62],[36,63,36,64],[36,65,36,66],[36,67,36,68],[36,69,36,70],[36,73,36,74],[33,67,33,68],[33,69,33,70],[33,73,33,74],[34,53,34,54],[34,55,34,56],[34,57,34,58],[34,59,34,60],[34,61,34,62],[34,63,34,64],[34,65,34,66],[34,67,34,68],[34,69,34,70],[34,73,34,74],[33,47,34,47],[33,48,36,48],[33,53,33,54],[33,55,33,56],[33,57,33,58],[33,59,33,60],[33,61,33,62],[33,63,33,64],[33,65,33,66],[35,47,36,47],[35,53,35,54],[35,55,35,56],[35,57,35,58],[35,59,35,60],[35,61,35,62],[35,63,35,64],[35,65,35,66],[31,67,31,68],[31,69,31,70],[31,73,31,74],[32,53,32,54],[32,55,32,56],[32,57,32,58],[32,59,32,60],[32,61,32,62],[32,63,32,64],[32,65,32,66],[32,67,32,68],[32,69,32,70],[32,73,32,74],[29,67,29,68],[29,69,29,70],[29,73,29,74],[30,53,30,54],[30,55,30,56],[30,57,30,58],[30,59,30,60],[30,61,30,62],[30,63,30,64],[30,65,30,66],[30,67,30,68],[30,69,30,70],[30,73,30,74],[29,47,30,47],[29,48,32,48],[29,53,29,54],[29,55,29,56],[29,57,29,58],[29,59,29,60],[29,61,29,62],[29,63,29,64],[29,65,29,66],[31,47,32,47],[31,53,31,54],[31,55,31,56],[31,57,31,58],[31,59,31,60],[31,61,31,62],[31,63,31,64],[31,65,31,66],[27,67,27,68],[27,69,27,70],[27,73,27,74],[28,53,28,54],[28,55,28,56],[28,57,28,58],[28,59,28,60],[28,61,28,62],[28,63,28,64],[28,65,28,66],[28,67,28,68],[28,69,28,70],[28,73,28,74],[25,67,25,68],[25,69,25,70],[25,73,25,74],[26,53,26,54],[26,55,26,56],[26,57,26,58],[26,59,26,60],[26,61,26,62],[26,63,26,64],[26,65,26,66],[26,67,26,68],[26,69,26,70],[26,73,26,74],[25,47,26,47],[25,48,28,48],[25,53,25,54],[25,55,25,56],[25,57,25,58],[25,59,25,60],[25,61,25,62],[25,63,25,64],[25,65,25,66],[27,47,28,47],[27,53,27,54],[27,55,27,56],[27,57,27,58],[27,59,27,60],[27,61,27,62],[27,63,27,64],[27,65,27,66],[23,67,23,68],[23,69,23,70],[23,73,23,74],[24,53,24,54],[24,55,24,56],[24,57,24,58],[24,59,24,60],[24,61,24,62],[24,63,24,64],[24,65,24,66],[24,67,24,68],[24,69,24,70],[24,73,24,74],[21,67,21,68],[21,69,21,70],[21,73,21,74],[22,53,22,54],[22,55,22,56],[22,57,22,58],[22,59,22,60],[22,61,22,62],[22,63,22,64],[22,65,22,66],[22,67,22,68],[22,69,22,70],[22,73,22,74],[21,47,22,47],[21,48,24,48],[21,53,21,54],[21,55,21,56],[21,57,21,58],[21,59,21,60],[21,61,21,62],[21,63,21,64],[21,65,21,66],[23,47,24,47],[23,53,23,54],[23,55,23,56],[23,57,23,58],[23,59,23,60],[23,61,23,62],[23,63,23,64],[23,65,23,66],[19,69,19,70],[19,73,19,74],[20,53,20,54],[20,55,20,56],[20,57,20,58],[20,59,20,60],[20,61,20,62],[20,63,20,64],[20,65,20,66],[20,67,20,68],[20,69,20,70],[20,73,20,74],[19,47,20,47],[19,53,19,54],[19,55,19,56],[19,57,19,58],[19,59,19,60],[19,61,19,62],[19,63,19,64],[19,65,19,66],[19,67,19,68],[17,73,17,74],[18,53,18,54],[18,55,18,56],[18,57,18,58],[18,59,18,60],[18,61,18,62],[18,63,18,64],[18,65,18,66],[18,67,18,68],[18,69,18,70],[18,73,18,74],[17,53,17,54],[17,55,17,56],[17,57,17,58],[17,59,17,60],[17,61,17,62],[17,63,17,64],[17,65,17,66],[17,67,17,68],[17,69,17,70],[16,53,16,54],[16,55,16,56],[16,57,16,58],[16,59,16,60],[16,61,16,62],[16,63,16,64],[16,65,16,66],[16,67,16,68],[16,69,16,70],[16,73,16,74],[13,63,13,64],[13,65,13,66],[13,67,13,68],[13,69,13,70],[13,73,13,74],[14,53,14,54],[14,55,14,56],[14,57,14,58],[14,59,14,60],[14,61,14,62],[14,63,14,64],[14,65,14,66],[14,67,14,68],[14,69,14,70],[14,73,14,74],[11,61,11,62],[11,63,11,64],[11,65,11,66],[11,67,11,68],[11,69,11,70],[11,73,11,74],[12,53,12,54],[12,55,12,56],[12,57,12,58],[12,59,12,60],[12,61,12,62],[12,63,12,64],[12,65,12,66],[12,67,12,68],[12,69,12,70],[12,73,12,74],[15,63,15,64],[15,65,15,66],[15,67,15,68],[15,69,15,70],[15,73,15,74],[8,63,8,64],[8,65,8,66],[8,67,8,68],[8,69,8,70],[8,73,8,74],[9,47,10,47],[9,48,12,48],[9,53,9,54],[9,55,9,56],[9,57,9,58],[9,59,9,60],[9,61,9,62],[9,63,9,64],[9,65,9,66],[9,67,9,68],[9,69,9,70],[9,73,9,74],[10,53,10,54],[10,55,10,56],[10,57,10,58],[10,59,10,60],[10,61,10,62],[10,63,10,64],[10,65,10,66],[10,67,10,68],[10,69,10,70],[10,73,10,74],[11,47,12,47],[11,53,11,54],[11,55,11,56],[11,57,11,58],[11,59,11,60],[192,6,192,7],[193,6,193,7],[194,6,194,7],[195,6,195,7],[8,53,8,54],[8,55,8,56],[8,57,8,58],[8,59,8,60],[8,61,8,62],[13,47,14,47],[13,48,16,48],[13,53,13,54],[13,55,13,56],[13,57,13,58],[13,59,13,60],[13,61,13,62],[15,47,16,47],[15,53,15,54],[15,55,15,56],[15,57,15,58],[15,59,15,60],[15,61,15,62],[17,47,18,47],[17,48,20,48],[156,20,156,21],[156,22,156,23],[156,24,156,25],[156,26,156,27],[156,28,156,29],[156,30,156,31],[156,32,156,33],[156,34,156,35],[157,24,157,25],[157,26,157,27],[157,28,157,29],[157,30,157,31],[157,32,157,33],[157,34,157,35],[154,20,154,21],[154,22,154,23],[154,24,154,25],[154,26,154,27],[154,28,154,29],[154,30,154,31],[154,32,154,33],[154,34,154,35],[155,6,155,7],[155,8,155,9],[155,10,155,11],[155,12,155,13],[155,14,155,15],[155,16,155,17],[155,18,155,19],[155,20,155,21],[155,22,155,23],[155,24,155,25],[155,26,155,27],[155,28,155,29],[155,30,155,31],[155,32,155,33],[155,34,155,35],[157,20,157,21],[157,22,157,23],[154,0,155,0],[154,1,157,1],[154,6,154,7],[154,8,154,9],[154,10,154,11],[154,12,154,13],[154,14,154,15],[154,16,154,17],[154,18,154,19],[156,0,157,0],[156,6,156,7],[156,8,156,9],[156,10,156,11],[156,12,156,13],[156,14,156,15],[156,16,156,17],[156,18,156,19],[157,6,157,7],[157,8,157,9],[157,10,157,11],[157,12,157,13],[157,14,157,15],[157,16,157,17],[157,18,157,19],[152,20,152,21],[152,22,152,23],[152,24,152,25],[152,26,152,27],[152,28,152,29],[152,30,152,31],[152,32,152,33],[152,34,152,35],[153,6,153,7],[153,8,153,9],[153,10,153,11],[153,12,153,13],[153,14,153,15],[153,16,153,17],[153,18,153,19],[153,20,153,21],[153,22,153,23],[153,24,153,25],[153,26,153,27],[153,28,153,29],[153,30,153,31],[153,32,153,33],[153,34,153,35],[150,20,150,21],[150,22,150,23],[150,24,150,25],[150,26,150,27],[150,28,150,29],[150,30,150,31],[150,32,150,33],[150,34,150,35],[151,6,151,7],[151,8,151,9],[151,10,151,11],[151,12,151,13],[151,14,151,15],[151,16,151,17],[151,18,151,19],[151,20,151,21],[151,22,151,23],[151,24,151,25],[151,26,151,27],[151,28,151,29],[151,30,151,31],[151,32,151,33],[151,34,151,35],[150,0,151,0],[150,1,153,1],[150,6,150,7],[150,8,150,9],[150,10,150,11],[150,12,150,13],[150,14,150,15],[150,16,150,17],[150,18,150,19],[152,0,153,0],[152,6,152,7],[152,8,152,9],[152,10,152,11],[152,12,152,13],[152,14,152,15],[152,16,152,17],[152,18,152,19],[148,20,148,21],[148,22,148,23],[148,24,148,25],[148,26,148,27],[148,28,148,29],[148,30,148,31],[148,32,148,33],[148,34,148,35],[149,6,149,7],[149,8,149,9],[149,10,149,11],[149,12,149,13],[149,14,149,15],[149,16,149,17],[149,18,149,19],[149,20,149,21],[149,22,149,23],[149,24,149,25],[149,26,149,27],[149,28,149,29],[149,30,149,31],[149,32,149,33],[149,34,149,35],[146,20,146,21],[146,22,146,23],[146,24,146,25],[146,26,146,27],[146,28,146,29],[146,30,146,31],[146,32,146,33],[146,34,146,35],[147,6,147,7],[147,8,147,9],[147,10,147,11],[147,12,147,13],[147,14,147,15],[147,16,147,17],[147,18,147,19],[147,20,147,21],[147,22,147,23],[147,24,147,25],[147,26,147,27],[147,28,147,29],[147,30,147,31],[147,32,147,33],[147,34,147,35],[146,0,147,0],[146,1,149,1],[146,6,146,7],[146,8,146,9],[146,10,146,11],[146,12,146,13],[146,14,146,15],[146,16,146,17],[146,18,146,19],[148,0,149,0],[148,6,148,7],[148,8,148,9],[148,10,148,11],[148,12,148,13],[148,14,148,15],[148,16,148,17],[148,18,148,19],[144,20,144,21],[144,22,144,23],[144,24,144,25],[144,26,144,27],[144,28,144,29],[144,30,144,31],[144,32,144,33],[144,34,144,35],[145,6,145,7],[145,8,145,9],[145,10,145,11],[145,12,145,13],[145,14,145,15],[145,16,145,17],[145,18,145,19],[145,20,145,21],[145,22,145,23],[145,24,145,25],[145,26,145,27],[145,28,145,29],[145,30,145,31],[145,32,145,33],[145,34,145,35],[142,20,142,21],[142,22,142,23],[142,24,142,25],[142,26,142,27],[142,28,142,29],[142,30,142,31],[142,32,142,33],[142,34,142,35],[143,6,143,7],[143,8,143,9],[143,10,143,11],[143,12,143,13],[143,14,143,15],[143,16,143,17],[143,18,143,19],[143,20,143,21],[143,22,143,23],[143,24,143,25],[143,26,143,27],[143,28,143,29],[143,30,143,31],[143,32,143,33],[143,34,143,35],[142,0,143,0],[142,1,145,1],[142,6,142,7]],"merged_total":3752,"flags":["merged_cut"]}
[null,null,null,null,null,null,null,null,null,null,null,null,null,null,null,null,null,null,null,null,null,null,null,null,null,null,null,null,null,null,null,null,null,null,null,null,null,null,null,null,null,null,null,"CONTROLLO",null,null,null,null,null,null,null,null,null,{"$f":"BB6&\"(\"&BB5&\")+\"&BC6&\"(\"&BC5&\")\"","v":"1f8(C)+(2*)1f8(L)"},null,{"$f":"BD6&\"(\"&BD5&\")+\"&BE6&\"(\"&BE5&\")\"","v":"1f10(C)+(2*)1f8(L)"},null,{"$f":"BF6&\"(\"&BF5&\")+\"&BG6&\"(\"&BG5&\")\"","v":"1f12(C)+(2*)1f10(L)"},null,{"$f":"BH6&\"(\"&BH5&\")+\"&BI6&\"(\"&BI5&\")\"","v":"2f10(C)+(2*)1f12(L)"},null,{"$f":"BJ6&\"(\"&BJ5&\")+\"&BK6&\"(\"&BK5&\")\"","v":"2f12(C)+(2*)2f10(L)"},null,{"$f":"BL6&\"(\"&BL5&\")+\"&BM6&\"(\"&BM5&\")\"","v":"2f14(C)+(2*)2f12(L)"},null,{"$f":"BN6&\"(\"&BN5&\")+\"&BO6&\"(\"&BO5&\")\"","v":"2f16(C)+(2*)2f14(L)"},null,{"$f":"BP6&\"(\"&BP5&\")+\"&BQ6&\"(\"&BQ5&\")\"","v":"2f18(C)+(2*)2f16(L)"},null,{"$f":"BR6&\"(\"&BR5&\")+\"&BS6&\"(\"&BS5&\")\"","v":"2f20(C)+(2*)2f18(L)"}]
[]
[null,null,null,null,null,null,null,null,null,null,null,null,null,null,null,null,null,null,null,null,null,null,null,null,null,null,null,null,null,null,null,null,null,null,null,null,null,null,null,null,null,null,null,null,null,null,null,null,null,null,null,null,null,{"$f":"IF(AND(BB42=$BT$42,BB42<800000000),BB1,\"\")","v":""},null,{"$f":"IF(AND(BD42=$BT$42,BD42<800000000),BD1,\"\")","v":""},null,{"$f":"IF(AND(BF42=$BT$42,BF42<800000000),BF1,\"\")","v":""},null,{"$f":"IF(AND(BH42=$BT$42,BH42<800000000),BH1,\"\")","v":""},null,{"$f":"IF(AND(BJ42=$BT$42,BJ42<800000000),BJ1,\"\")","v":""},null,{"$f":"IF(AND(BL42=$BT$42,BL42<800000000),BL1,\"\")","v":""},null,{"$f":"IF(AND(BN42=$BT$42,BN42<800000000),BN1,\"\")","v":""},null,{"$f":"IF(AND(BP42=$BT$42,BP42<800000000),BP1,\"\")","v":""},null,{"$f":"IF(AND(BR42=$BT$42,BR42<800000000),BR1,\"\")","v":""},null,null,{"$f":"BB3&BD3&BF3&BH3&BJ3&BL3&BN3&BP3&BR3","v":""}]
["INTERASSE 120 CM - REI 120 - TRALICCIO ESCLUSO DAL CALCOLO"]
["MOMENTO POSITIVO",null,null,null,null,null,"Armatura ",null,null,null,null,null,null,null,null,null,null,null,null,null,null,null,null,null,"Taglio ultimo",null,null,null,null,null,null,null,null,null,null,null,null,null,null,null,null,null,null,null,null,null,null,null,null,null,null,null,null,"C","L","C","L","C","L","C","L","C","L","C","L","C","L","C","L","C","L"]
[null,null,null,null,null,null,"CENTRALE","LATERALE","CENTRALE","LATERALE","CENTRALE","LATERALE","CENTRALE","LATERALE","CENTRALE","LATERALE","CENTRALE","LATERALE","CENTRALE","LATERALE","CENTRALE","LATERALE","CENTRALE","LATERALE",null,null,null,null,null,null,null,null,null,null,null,null,null,null,null,null,null,null,null,null,null,null,null,null,null,null,null,null,null,"1f8","(2*)1f8","1f10","(2*)1f8","1f12","(2*)1f10","2f10","(2*)1f12","2f12","(2*)2f10","2f14","(2*)2f12","2f16","(2*)2f14","2f18","(2*)2f16","2f20","(2*)2f18"]
[null,null,null,null,null,null,"1f8","(2*)1f8","1f10","(2*)1f8","1f12","(2*)1f10","2f10","(2*)1f12","2f12","(2*)2f10","2f14","(2*)2f12","2f16","(2*)2f14","2f18","(2*)2f16","2f20","(2*)2f18"]
["Spessore lastra","Altezza polistirolo","Spessore soletta",{"$f":"IF(OR('LP POLISTIROLO'!AR12=1,'LP POLISTIROLO'!AR90=1),\"'LP POLISTIROLO'!'AV129\"&\"+\"&\";\"\"\")","v":false},"Peso solaio","Volume cls getto in opera (l/mq)","Momenti ultimi riferiti ad una striscia di solaio larga 1,00 metro",null,null,null,null,null,null,null,null,null,null,null,null,null,null,null,null,null,null,null,null,null,null,null,null,null,null,null,null,null,null,null,"CALCOLO"]
["[cm]","[cm]","[cm]","[cm]","[daN/mq]","[l/mq]","[daNm]",null,"[daNm]",null,"[daNm]",null,"[daNm]",null,"[daNm]","[daNm]","[daNm]","[daNm]","[daNm]","[daNm]","[daNm]","[daNm]","[daNm]","[daNm]","[daN]",null,null,null,null,null,null,null,null,null,null,null,null,null,null,null,null,null,null,null,null,null,null,"[cm]","[cm]","[cm]","[cm]","[daN/mq]",null,"[daNm]",null,"[daNm]",null,"[daNm]",null,"[daNm]",null,"[daNm]","[daNm]","[daNm]","[daNm]","[daNm]","[daNm]","[daNm]","[daNm]","[daNm]","[daNm]",null,null,"[daN]"]
[4,12,4,{"$f":"A10+B10+C10","v":20},{"$f":"(A10+C10)/100*2500+B10/100*0.4*2500/1.2","v":300},null,"-",null,"-",null,1378.916666666667,null,1934.9,null,2687.041666666667,null,3699.2666666666669,null,4826.6166666666668,null,6044.1666666666679,null,7270,null,2964.166666666667,null,null,null,null,null,null,null,null,null,null,null,null,null,{"$f":"\"MOMLAS\"&A10&B10&C10&\"REI-P\"","v":"MOMLAS4124REI-P"},null,null,null,null,null,null,null,"Spessore_4",{"$f":"IF(AW10=10000000000,10000000000,IF('SOLAI T2D SPA'!$C$5=AU10,'LP POLISTIROLO'!A10,10000000000))","v":10000000000},{"$f":"IF(AND($AR$12=1,'SOLAI T2D SPA'!$C$6=B10),B10,10000000000)","v":10000000000},{"$f":"IF(AW10=10000000000,10000000000,IF('SOLAI T2D SPA'!$C$7='LP POLISTIROLO'!C10,'LP POLISTIROLO'!C10,10000000000))","v":10000000000},{"$f":"AV10+AW10+AX10","v":30000000000},{"$f":"IF(AY10>100000,10000000000,E10)","v":10000000000},null,"-",null,"-",null,{"$f":"IF($AZ$10=10000000000,10000000000,IF('SOLAI T2D SPA'!$C$20<=K10,K10,10000000000))","v":10000000000},null,{"$f":"IF($AZ$10=10000000000,10000000000,IF('SOLAI T2D SPA'!$C$20<=M10,M10,10000000000))","v":10000000000},null,{"$f":"IF($AZ$10=10000000000,10000000000,IF('SOLAI T2D SPA'!$C$20<=O10,O10,10000000000))","v":10000000000},null,{"$f":"IF($AZ$10=10000000000,10000000000,IF('SOLAI T2D SPA'!$C$20<=Q10,Q10,10000000000))","v":10000000000},null,{"$f":"IF($AZ$10=10000000000,10000000000,IF('SOLAI T2D SPA'!$C$20<=S10,S10,10000000000))","v":10000000000},null,{"$f":"IF($AZ$10=10000000000,10000000000,IF('SOLAI T2D SPA'!$C$20<=U10,U10,10000000000))","v":10000000000},null,{"$f":"IF($AZ$10=10000000000,10000000000,IF('SOLAI T2D SPA'!$C$20<=W10,W10,10000000000))","v":10000000000},null,null,null,2964.166666666667]
[null,null,5,{"$f":"A10+B10+C11","v":21},{"$f":"(A10+C11)/100*2500+B10/100*0.4*2500/1.2","v":325},null,"-",null,"-",null,1473.5583333333334,null,2073.9749999999999,null,2891.3083333333338,null,4003,null,5258.3416666666672,null,6633.375,null,8104.1666666666679,null,3128.3333333333335,null,null,null,null,null,null,null,null,null,null,null,null,null,{"$f":"\"MOMLAS\"&A10&B10&C11&\"REI-P\"","v":"MOMLAS4125REI-P"},null,null,null,null,null,null,null,null,null,null,{"$f":"IF(AW10=10000000000,10000000000,IF('SOLAI T2D SPA'!$C$7='LP POLISTIROLO'!C11,'LP POLISTIROLO'!C11,10000000000))","v":10000000000},{"$f":"AV10+AW10+AX11","v":30000000000},{"$f":"IF(AY11>100000,10000000000,E11)","v":10000000000},null,"-",null,"-",null,{"$f":"IF($AZ$11=10000000000,10000000000,IF('SOLAI T2D SPA'!$C$20<=K11,K11,10000000000))","v":10000000000},null,{"$f":"IF($AZ$11=10000000000,10000000000,IF('SOLAI T2D SPA'!$C$20<=M11,M11,10000000000))","v":10000000000},null,{"$f":"IF($AZ$11=10000000000,10000000000,IF('SOLAI T2D SPA'!$C$20<=O11,O11,10000000000))","v":10000000000},null,{"$f":"IF($AZ$11=10000000000,10000000000,IF('SOLAI T2D SPA'!$C$20<=Q11,Q11,10000000000))","v":10000000000},null,{"$f":"IF($AZ$11=10000000000,10000000000,IF('SOLAI T2D SPA'!$C$20<=S11,S11,10000000000))","v":10000000000},null,{"$f":"IF($AZ$11=10000000000,10000000000,IF('SOLAI T2D SPA'!$C$20<=U11,U11,10000000000))","v":10000000000},null,{"$f":"IF($AZ$11=10000000000,10000000000,IF('SOLAI T2D SPA'!$C$20<=W11,W11,10000000000))","v":10000000000},null,null,null,3128.3333333333335]
[5,null,4,{"$f":"A12+B10+C12","v":21},{"$f":"(A12+C12)/100*2500+B10/100*0.4*2500/1.2","v":325},null,"-",null,"-",null,1378.916666666667,null,1934.9,null,2687.041666666667,null,3699.2666666666669,null,4826.6166666666668,null,6044.1666666666679,null,7270,null,3128.3333333333335,null,null,null,null,null,null,null,null,null,null,null,null,null,{"$f":"\"MOMLAS\"&A12&B10&C12&\"REI-P\"","v":"MOMLAS5124REI-P"},null,null,null,null,{"$f":"IF(AND('SOLAI T2D SPA'!C2=\"Lastre_predalles\",'SOLAI T2D SPA'!C4=\"Polistirolo_REI120\"),1,0)","v":0},null,null,"Spessore_5",{"$f":"IF(AW10=10000000000,10000000000,IF('SOLAI T2D SPA'!$C$5=AU12,'LP POLISTIROLO'!A12,10000000000))","v":10000000000},null,{"$f":"IF(AW10=10000000000,10000000000,IF('SOLAI T2D SPA'!$C$7='LP POLISTIROLO'!C12,'LP POLISTIROLO'!C12,10000000000))","v":10000000000},{"$f":"AV12+AW10+AX12","v":30000000000},10000000000,null,"-",null,"-",null,{"$f":"IF($AZ$12=10000000000,10000000000,IF('SOLAI T2D SPA'!$C$20<=K12,K12,10000000000))","v":10000000000},null,{"$f":"IF($AZ$12=10000000000,10000000000,IF('SOLAI T2D SPA'!$C$20<=M12,M12,10000000000))","v":10000000000},null,{"$f":"IF($AZ$12=10000000000,10000000000,IF('SOLAI T2D SPA'!$C$20<=O12,O12,10000000000))","v":10000000000},null,{"$f":"IF($AZ$12=10000000000,10000000000,IF('SOLAI T2D SPA'!$C$20<=Q12,Q12,10000000000))","v":10000000000},null,{"$f":"IF($AZ$12=10000000000,10000000000,IF('SOLAI T2D SPA'!$C$20<=S12,S12,10000000000))","v":10000000000},null,{"$f":"IF($AZ$12=10000000000,10000000000,IF('SOLAI T2D SPA'!$C$20<=U12,U12,10000000000))","v":10000000000},null,{"$f":"IF($AZ$12=10000000000,10000000000,IF('SOLAI T2D SPA'!$C$20<=W12,W12,10000000000))","v":10000000000},null,null,null,3128.3333333333335]
[null,null,5,{"$f":"A12+B10+C13","v":22},{"$f":"(A12+C13)/100*2500+B10/100*0.4*2500/1.2","v":350},null,"-",null,"-",null,1473.5583333333334,null,2073.9749999999999,null,2891.3083333333338,null,4003,null,5258.3416666666672,null,6633.375,null,8104.1666666666679,null,3293.3333333333335,null,null,null,null,null,null,null,null,null,null,null,null,null,{"$f":"\"MOMLAS\"&A12&B10&C13&\"REI-P\"","v":"MOMLAS5125REI-P"},null,null,null,null,null,null,null,null,null,null,{"$f":"IF(AW10=10000000000,10000000000,IF('SOLAI T2D SPA'!$C$7='LP POLISTIROLO'!C13,'LP POLISTIROLO'!C13,10000000000))","v":10000000000},{"$f":"AV12+AW10+AX13","v":30000000000},10000000000,null,"-",null,"-",null,{"$f":"IF($AZ$13=10000000000,10000000000,IF('SOLAI T2D SPA'!$C$20<=K13,K13,10000000000))","v":10000000000},null,{"$f":"IF($AZ$13=10000000000,10000000000,IF('SOLAI T2D SPA'!$C$20<=M13,M13,10000000000))","v":10000000000},null,{"$f":"IF($AZ$13=10000000000,10000000000,IF('SOLAI T2D SPA'!$C$20<=O13,O13,10000000000))","v":10000000000},null,{"$f":"IF($AZ$13=10000000000,10000000000,IF('SOLAI T2D SPA'!$C$20<=Q13,Q13,10000000000))","v":10000000000},null,{"$f":"IF($AZ$13=10000000000,10000000000,IF('SOLAI T2D SPA'!$C$20<=S13,S13,10000000000))","v":10000000000},null,{"$f":"IF($AZ$13=10000000000,10000000000,IF('SOLAI T2D SPA'!$C$20<=U13,U13,10000000000))","v":10000000000},null,{"$f":"IF($AZ$13=10000000000,10000000000,IF('SOLAI T2D SPA'!$C$20<=W13,W13,10000000000))","v":10000000000},null,null,null,3293.3333333333335]
[4,14,4,{"$f":"A14+B14+C14","v":22},{"$f":"(A14+C14)/100*2500+B14/100*0.4*2500/1.2","v":316.66666666666669},null,"-",null,"-",null,1555.1916666666668,null,2185.0749999999998,null,3039.1416666666669,null,4195.3333333333339,null,5489.6,null,6900,null,8343.3333333333339,null,3293.3333333333335,null,null,null,null,null,null,null,null,null,null,null,null,null,{"$f":"\"MOMLAS\"&A14&B14&C14&\"REI-P\"","v":"MOMLAS4144REI-P"},null,null,null,null,null,null,null,"Spessore_4",{"$f":"IF(AW14=10000000000,10000000000,IF('SOLAI T2D SPA'!$C$5=AU14,'LP POLISTIROLO'!A14,10000000000))","v":10000000000},{"$f":"IF(AND($AR$12=1,'SOLAI T2D SPA'!$C$6=B14),B14,10000000000)","v":10000000000},{"$f":"IF(AW14=10000000000,10000000000,IF('SOLAI T2D SPA'!$C$7='LP POLISTIROLO'!C14,'LP POLISTIROLO'!C14,10000000000))","v":10000000000},{"$f":"AV14+AW14+AX14","v":30000000000},10000000000,null,"-",null,"-",null,{"$f":"IF($AZ$14=10000000000,10000000000,IF('SOLAI T2D SPA'!$C$20<=K14,K14,10000000000))","v":10000000000},null,{"$f":"IF($AZ$14=10000000000,10000000000,IF('SOLAI T2D SPA'!$C$20<=M14,M14,10000000000))","v":10000000000},null,{"$f":"IF($AZ$14=10000000000,10000000000,IF('SOLAI T2D SPA'!$C$20<=O14,O14,10000000000))","v":10000000000},null,{"$f":"IF($AZ$14=10000000000,10000000000,IF('SOLAI T2D SPA'!$C$20<=Q14,Q14,10000000000))","v":10000000000},null,{"$f":"IF($AZ$14=10000000000,10000000000,IF('SOLAI T2D SPA'!$C$20<=S14,S14,10000000000))","v":10000000000},null,{"$f":"IF($AZ$14=10000000000,10000000000,IF('SOLAI T2D SPA'!$C$20<=U14,U14,10000000000))","v":10000000000},null,{"$f":"IF($AZ$14=10000000000,10000000000,IF('SOLAI T2D SPA'!$C$20<=W14,W14,10000000000))","v":10000000000},null,null,null,3293.3333333333335]
[null,null,5,{"$f":"A14+B14+C15","v":23},{"$f":"(A14+C15)/100*2500+B14/100*0.4*2500/1.2","v":341.66666666666669},null,"-",null,"-",null,1649.4416666666668,null,2323.8833333333332,null,3243.8333333333339,null,4499.05,null,5922.0916666666672,null,7490.1166666666677,null,9178.0499999999993,null,3395.8333333333335,null,null,null,null,null,null,null,null,null,null,null,null,null,{"$f":"\"MOMLAS\"&A14&B14&C15&\"REI-P\"","v":"MOMLAS4145REI-P"},null,null,null,null,null,null,null,null,null,null,{"$f":"IF(AW14=10000000000,10000000000,IF('SOLAI T2D SPA'!$C$7='LP POLISTIROLO'!C15,'LP POLISTIROLO'!C15,10000000000))","v":10000000000},{"$f":"AV14+AW14+AX15","v":30000000000},10000000000,null,"-",null,"-",null,{"$f":"IF($AZ$15=10000000000,10000000000,IF('SOLAI T2D SPA'!$C$20<=K15,K15,10000000000))","v":10000000000},null,{"$f":"IF($AZ$15=10000000000,10000000000,IF('SOLAI T2D SPA'!$C$20<=M15,M15,10000000000))","v":10000000000},null,{"$f":"IF($AZ$15=10000000000,10000000000,IF('SOLAI T2D SPA'!$C$20<=O15,O15,10000000000))","v":10000000000},null,{"$f":"IF($AZ$15=10000000000,10000000000,IF('SOLAI T2D SPA'!$C$20<=Q15,Q15,10000000000))","v":10000000000},null,{"$f":"IF($AZ$15=10000000000,10000000000,IF('SOLAI T2D SPA'!$C$20<=S15,S15,10000000000))","v":10000000000},null,{"$f":"IF($AZ$15=10000000000,10000000000,IF('SOLAI T2D SPA'!$C$20<=U15,U15,10000000000))","v":10000000000},null,{"$f":"IF($AZ$15=10000000000,10000000000,IF('SOLAI T2D SPA'!$C$20<=W15,W15,10000000000))","v":10000000000},null,null,null,3395.8333333333335]
[5,null,4,{"$f":"A16+B14+C16","v":23},{"$f":"(A16+C16)/100*2500+B14/100*0.4*2500/1.2","v":341.66666666666669},null,"-",null,"-",null,1555.1916666666668,null,2185.0749999999998,null,3039.1416666666669,null,4195.3333333333339,null,5489.6,null,6900,null,8343.3333333333339,null,3395.8333333333335,null,null,null,null,null,null,null,null,null,null,null,null,null,{"$f":"\"MOMLAS\"&A16&B14&C16&\"REI-P\"","v":"MOMLAS5144REI-P"},null,null,null,null,null,null,null,"Spessore_5",{"$f":"IF(AW14=10000000000,10000000000,IF('SOLAI T2D SPA'!$C$5=AU16,'LP POLISTIROLO'!A16,10000000000))","v":10000000000},null,{"$f":"IF(AW14=10000000000,10000000000,IF('SOLAI T2D SPA'!$C$7='LP POLISTIROLO'!C16,'LP POLISTIROLO'!C16,10000000000))","v":10000000000},{"$f":"AV16+AW14+AX16","v":30000000000},10000000000,null,"-",null,"-",null,{"$f":"IF($AZ$16=10000000000,10000000000,IF('SOLAI T2D SPA'!$C$20<=K16,K16,10000000000))","v":10000000000},null,{"$f":"IF($AZ$16=10000000000,10000000000,IF('SOLAI T2D SPA'!$C$20<=M16,M16,10000000000))","v":10000000000},null,{"$f":"IF($AZ$16=10000000000,10000000000,IF('SOLAI T2D SPA'!$C$20<=O16,O16,10000000000))","v":10000000000},null,{"$f":"IF($AZ$16=10000000000,10000000000,IF('SOLAI T2D SPA'!$C$20<=Q16,Q16,10000000000))","v":10000000000},null,{"$f":"IF($AZ$16=10000000000,10000000000,IF('SOLAI T2D SPA'!$C$20<=S16,S16,10000000000))","v":10000000000},null,{"$f":"IF($AZ$16=10000000000,10000000000,IF('SOLAI T2D SPA'!$C$20<=U16,U16,10000000000))","v":10000000000},null,{"$f":"IF($AZ$16=10000000000,10000000000,IF('SOLAI T2D SPA'!$C$20<=W16,W16,10000000000))","v":10000000000},null,null,null,3395.8333333333335]
[null,null,5,{"$f":"A16+B14+C17","v":24},{"$f":"(A16+C17)/100*2500+B14/100*0.4*2500/1.2","v":366.66666666666669},null,"-",null,"-",null,1649.4416666666668,null,2323.8833333333332,null,3243.8333333333339,null,4499.05,null,5922.0916666666672,null,7490.1166666666677,null,9178.0499999999993,null,3496.666666666667,null,null,null,null,null,null,null,null,null,null,null,null,null,{"$f":"\"MOMLAS\"&A16&B14&C17&\"REI-P\"","v":"MOMLAS5145REI-P"},null,null,null,null,null,null,null,null,null,null,{"$f":"IF(AW14=10000000000,10000000000,IF('SOLAI T2D SPA'!$C$7='LP POLISTIROLO'!C17,'LP POLISTIROLO'!C17,10000000000))","v":10000000000},{"$f":"AV16+AW14+AX17","v":30000000000},10000000000,null,"-",null,"-",null,{"$f":"IF($AZ$17=10000000000,10000000000,IF('SOLAI T2D SPA'!$C$20<=K17,K17,10000000000))","v":10000000000},null,{"$f":"IF($AZ$17=10000000000,10000000000,IF('SOLAI T2D SPA'!$C$20<=M17,M17,10000000000))","v":10000000000},null,{"$f":"IF($AZ$17=10000000000,10000000000,IF('SOLAI T2D SPA'!$C$20<=O17,O17,10000000000))","v":10000000000},null,{"$f":"IF($AZ$17=10000000000,10000000000,IF('SOLAI T2D SPA'!$C$20<=Q17,Q17,10000000000))","v":10000000000},null,{"$f":"IF($AZ$17=10000000000,10000000000,IF('SOLAI T2D SPA'!$C$20<=S17,S17,10000000000))","v":10000000000},null,{"$f":"IF($AZ$17=10000000000,10000000000,IF('SOLAI T2D SPA'!$C$20<=U17,U17,10000000000))","v":10000000000},null,{"$f":"IF($AZ$17=10000000000,10000000000,IF('SOLAI T2D SPA'!$C$20<=W17,W17,10000000000))","v":10000000000},null,null,null,3496.666666666667]
[4,16,4,{"$f":"A18+B18+C18","v":24},{"$f":"(A18+C18)/100*2500+B18/100*0.4*2500/1.2","v":333.33333333333337},null,"-",null,"-",null,1730.791666666667,null,2435.125,null,3391.375,null,4691.0083333333341,null,6153.875,null,7756.9250000000002,null,9417.5,null,3496.666666666667,null,null,null,null,null,null,null,null,null,null,null,null,null,{"$f":"\"MOMLAS\"&A18&B18&C18&\"REI-P\"","v":"MOMLAS4164REI-P"},null,null,null,null,null,null,null,"Spessore_4",{"$f":"IF(AW18=10000000000,10000000000,IF('SOLAI T2D SPA'!$C$5=AU18,'LP POLISTIROLO'!A18,10000000000))","v":10000000000},{"$f":"IF(AND($AR$12=1,'SOLAI T2D SPA'!$C$6=B18),B18,10000000000)","v":10000000000},{"$f":"IF(AW18=10000000000,10000000000,IF('SOLAI T2D SPA'!$C$7='LP POLISTIROLO'!C18,'LP POLISTIROLO'!C18,10000000000))","v":10000000000},{"$f":"AV18+AW18+AX18","v":30000000000},10000000000,null,"-",null,"-",null,{"$f":"IF($AZ$18=10000000000,10000000000,IF('SOLAI T2D SPA'!$C$20<=K18,K18,10000000000))","v":10000000000},null,{"$f":"IF($AZ$18=10000000000,10000000000,IF('SOLAI T2D SPA'!$C$20<=M18,M18,10000000000))","v":10000000000},null,{"$f":"IF($AZ$18=10000000000,10000000000,IF('SOLAI T2D SPA'!$C$20<=O18,O18,10000000000))","v":10000000000},null,{"$f":"IF($AZ$18=10000000000,10000000000,IF('SOLAI T2D SPA'!$C$20<=Q18,Q18,10000000000))","v":10000000000},null,{"$f":"IF($AZ$18=10000000000,10000000000,IF('SOLAI T2D SPA'!$C$20<=S18,S18,10000000000))","v":10000000000},null,{"$f":"IF($AZ$18=10000000000,10000000000,IF('SOLAI T2D SPA'!$C$20<=U18,U18,10000000000))","v":10000000000},null,{"$f":"IF($AZ$18=10000000000,10000000000,IF('SOLAI T2D SPA'!$C$20<=W18,W18,10000000000))","v":10000000000},null,null,null,3496.666666666667]
[null,null,5,{"$f":"A18+B18+C19","v":25},{"$f":"(A18+C19)/100*2500+B18/100*0.4*2500/1.2","v":358.33333333333337},null,"-",null,"-",null,1825.6166666666668,null,2573.9333333333334,null,3596.2750000000001,null,4994.9666666666672,null,6586.0083333333341,null,8346.35,null,10250.891666666668,null,3597.5,null,null,null,null,null,null,null,null,null,null,null,null,null,{"$f":"\"MOMLAS\"&A18&B18&C19&\"REI-P\"","v":"MOMLAS4165REI-P"},null,null,null,null,null,null,null,null,null,null,{"$f":"IF(AW18=10000000000,10000000000,IF('SOLAI T2D SPA'!$C$7='LP POLISTIROLO'!C19,'LP POLISTIROLO'!C19,10000000000))","v":10000000000},{"$f":"AV18+AW18+AX19","v":30000000000},10000000000,null,"-",null,"-",null,{"$f":"IF($AZ$19=10000000000,10000000000,IF('SOLAI T2D SPA'!$C$20<=K19,K19,10000000000))","v":10000000000},null,{"$f":"IF($AZ$19=10000000000,10000000000,IF('SOLAI T2D SPA'!$C$20<=M19,M19,10000000000))","v":10000000000},null,{"$f":"IF($AZ$19=10000000000,10000000000,IF('SOLAI T2D SPA'!$C$20<=O19,O19,10000000000))","v":10000000000},null,{"$f":"IF($AZ$19=10000000000,10000000000,IF('SOLAI T2D SPA'!$C$20<=Q19,Q19,10000000000))","v":10000000000},null,{"$f":"IF($AZ$19=10000000000,10000000000,IF('SOLAI T2D SPA'!$C$20<=S19,S19,10000000000))","v":10000000000},null,{"$f":"IF($AZ$19=10000000000,10000000000,IF('SOLAI T2D SPA'!$C$20<=U19,U19,10000000000))","v":10000000000},null,{"$f":"IF($AZ$19=10000000000,10000000000,IF('SOLAI T2D SPA'!$C$20<=W19,W19,10000000000))","v":10000000000},null,null,null,3597.5]
[5,null,4,{"$f":"A20+B18+C20","v":25},{"$f":"(A20+C20)/100*2500+B18/100*0.4*2500/1.2","v":358.33333333333337},null,"-",null,"-",null,1730.791666666667,null,2435.125,null,3391.375,null,4691.0083333333341,null,6153.875,null,7756.9250000000002,null,9417.5,null,3597.5,null,null,null,null,null,null,null,null,null,null,null,null,null,{"$f":"\"MOMLAS\"&A20&B18&C20&\"REI-P\"","v":"MOMLAS5164REI-P"},null,null,null,null,null,null,null,"Spessore_5",{"$f":"IF(AW18=10000000000,10000000000,IF('SOLAI T2D SPA'!$C$5=AU20,'LP POLISTIROLO'!A20,10000000000))","v":10000000000},null,{"$f":"IF(AW18=10000000000,10000000000,IF('SOLAI T2D SPA'!$C$7='LP POLISTIROLO'!C20,'LP POLISTIROLO'!C20,10000000000))","v":10000000000},{"$f":"AV20+AW18+AX20","v":30000000000},10000000000,null,"-",null,"-",null,{"$f":"IF($AZ$20=10000000000,10000000000,IF('SOLAI T2D SPA'!$C$20<=K20,K20,10000000000))","v":10000000000},null,{"$f":"IF($AZ$20=10000000000,10000000000,IF('SOLAI T2D SPA'!$C$20<=M20,M20,10000000000))","v":10000000000},null,{"$f":"IF($AZ$20=10000000000,10000000000,IF('SOLAI T2D SPA'!$C$20<=O20,O20,10000000000))","v":10000000000},null,{"$f":"IF($AZ$20=10000000000,10000000000,IF('SOLAI T2D SPA'!$C$20<=Q20,Q20,10000000000))","v":10000000000},null,{"$f":"IF($AZ$20=10000000000,10000000000,IF('SOLAI T2D SPA'!$C$20<=S20,S20,10000000000))","v":10000000000},null,{"$f":"IF($AZ$20=10000000000,10000000000,IF('SOLAI T2D SPA'!$C$20<=U20,U20,10000000000))","v":10000000000},null,{"$f":"IF($AZ$20=10000000000,10000000000,IF('SOLAI T2D SPA'!$C$20<=W20,W20,10000000000))","v":10000000000},null,null,null,3597.5]
[null,null,5,{"$f":"A20+B18+C21","v":26},{"$f":"(A20+C21)/100*2500+B18/100*0.4*2500/1.2","v":383.33333333333337},null,"-",null,"-",null,1825.6166666666668,null,2573.9333333333334,null,3596.2750000000001,null,4994.9666666666672,null,6586.0083333333341,null,8346.35,null,10250.891666666668,null,3696.666666666667,null,null,null,null,null,null,null,null,null,null,null,null,null,{"$f":"\"MOMLAS\"&A20&B18&C21&\"REI-P\"","v":"MOMLAS5165REI-P"},null,null,null,null,null,null,null,null,null,null,{"$f":"IF(AW18=10000000000,10000000000,IF('SOLAI T2D SPA'!$C$7='LP POLISTIROLO'!C21,'LP POLISTIROLO'!C21,10000000000))","v":10000000000},{"$f":"AV20+AW18+AX21","v":30000000000},10000000000,null,"-",null,"-",null,{"$f":"IF($AZ$21=10000000000,10000000000,IF('SOLAI T2D SPA'!$C$20<=K21,K21,10000000000))","v":10000000000},null,{"$f":"IF($AZ$21=10000000000,10000000000,IF('SOLAI T2D SPA'!$C$20<=M21,M21,10000000000))","v":10000000000},null,{"$f":"IF($AZ$21=10000000000,10000000000,IF('SOLAI T2D SPA'!$C$20<=O21,O21,10000000000))","v":10000000000},null,{"$f":"IF($AZ$21=10000000000,10000000000,IF('SOLAI T2D SPA'!$C$20<=Q21,Q21,10000000000))","v":10000000000},null,{"$f":"IF($AZ$21=10000000000,10000000000,IF('SOLAI T2D SPA'!$C$20<=S21,S21,10000000000))","v":10000000000},null,{"$f":"IF($AZ$21=10000000000,10000000000,IF('SOLAI T2D SPA'!$C$20<=U21,U21,10000000000))","v":10000000000},null,{"$f":"IF($AZ$21=10000000000,10000000000,IF('SOLAI T2D SPA'!$C$20<=W21,W21,10000000000))","v":10000000000},null,null,null,3696.666666666667]
[4,18,4,{"$f":"A22+B22+C22","v":26},{"$f":"(A22+C22)/100*2500+B22/100*0.4*2500/1.2","v":350},null,"-",null,"-",null,1906.9416666666668,null,2684.8249999999998,null,3744.0250000000001,null,5186.8999999999996,null,6817.7333333333336,null,8612.6833333333343,null,10490.833333333336,null,3696.666666666667,null,null,null,null,null,null,null,null,null,null,null,null,null,{"$f":"\"MOMLAS\"&A22&B22&C22&\"REI-P\"","v":"MOMLAS4184REI-P"},null,null,null,null,null,null,null,"Spessore_4",{"$f":"IF(AW22=10000000000,10000000000,IF('SOLAI T2D SPA'!$C$5=AU22,'LP POLISTIROLO'!A22,10000000000))","v":10000000000},{"$f":"IF(AND($AR$12=1,'SOLAI T2D SPA'!$C$6=B22),B22,10000000000)","v":10000000000},{"$f":"IF(AW22=10000000000,10000000000,IF('SOLAI T2D SPA'!$C$7='LP POLISTIROLO'!C22,'LP POLISTIROLO'!C22,10000000000))","v":10000000000},{"$f":"AV22+AW22+AX22","v":30000000000},10000000000,null,"-",null,"-",null,{"$f":"IF($AZ$22=10000000000,10000000000,IF('SOLAI T2D SPA'!$C$20<=K22,K22,10000000000))","v":10000000000},null,{"$f":"IF($AZ$22=10000000000,10000000000,IF('SOLAI T2D SPA'!$C$20<=M22,M22,10000000000))","v":10000000000},null,{"$f":"IF($AZ$22=10000000000,10000000000,IF('SOLAI T2D SPA'!$C$20<=O22,O22,10000000000))","v":10000000000},null,{"$f":"IF($AZ$22=10000000000,10000000000,IF('SOLAI T2D SPA'!$C$20<=Q22,Q22,10000000000))","v":10000000000},null,{"$f":"IF($AZ$22=10000000000,10000000000,IF('SOLAI T2D SPA'!$C$20<=S22,S22,10000000000))","v":10000000000},null,{"$f":"IF($AZ$22=10000000000,10000000000,IF('SOLAI T2D SPA'!$C$20<=U22,U22,10000000000))","v":10000000000},null,{"$f":"IF($AZ$22=10000000000,10000000000,IF('SOLAI T2D SPA'!$C$20<=W22,W22,10000000000))","v":10000000000},null,null,null,3696.666666666667]
[null,null,5,{"$f":"A22+B22+C23","v":27},{"$f":"(A22+C23)/100*2500+B22/100*0.4*2500/1.2","v":375},null,"-",null,"-",null,2001.541666666667,null,2823.5749999999998,null,3948.6416666666669,null,5490.9250000000002,null,7249.6583333333338,null,9203.1749999999993,null,11324.924999999999,null,3795,null,null,null,null,null,null,null,null,null,null,null,null,null,{"$f":"\"MOMLAS\"&A22&B22&C23&\"REI-P\"","v":"MOMLAS4185REI-P"},null,null,null,null,null,null,null,null,null,null,{"$f":"IF(AW22=10000000000,10000000000,IF('SOLAI T2D SPA'!$C$7='LP POLISTIROLO'!C23,'LP POLISTIROLO'!C23,10000000000))","v":10000000000},{"$f":"AV22+AW22+AX23","v":30000000000},10000000000,null,"-",null,"-",null,{"$f":"IF($AZ$23=10000000000,10000000000,IF('SOLAI T2D SPA'!$C$20<=K23,K23,10000000000))","v":10000000000},null,{"$f":"IF($AZ$23=10000000000,10000000000,IF('SOLAI T2D SPA'!$C$20<=M23,M23,10000000000))","v":10000000000},null,{"$f":"IF($AZ$23=10000000000,10000000000,IF('SOLAI T2D SPA'!$C$20<=O23,O23,10000000000))","v":10000000000},null,{"$f":"IF($AZ$23=10000000000,10000000000,IF('SOLAI T2D SPA'!$C$20<=Q23,Q23,10000000000))","v":10000000000},null,{"$f":"IF($AZ$23=10000000000,10000000000,IF('SOLAI T2D SPA'!$C$20<=S23,S23,10000000000))","v":10000000000},null,{"$f":"IF($AZ$23=10000000000,10000000000,IF('SOLAI T2D SPA'!$C$20<=U23,U23,10000000000))","v":10000000000},null,{"$f":"IF($AZ$23=10000000000,10000000000,IF('SOLAI T2D SPA'!$C$20<=W23,W23,10000000000))","v":10000000000},null,null,null,3795]
[5,null,4,{"$f":"A24+B22+C24","v":27},{"$f":"(A24+C24)/100*2500+B22/100*0.4*2500/1.2","v":375},null,"-",null,"-",null,1906.9416666666668,null,2684.8249999999998,null,3744.0250000000001,null,5186.8999999999996,null,6817.7333333333336,null,8612.6833333333343,null,10490.833333333336,null,3795,null,null,null,null,null,null,null,null,null,null,null,null,null,{"$f":"\"MOMLAS\"&A24&B22&C24&\"REI-P\"","v":"MOMLAS5184REI-P"},null,null,null,null,null,null,null,"Spessore_5",{"$f":"IF(AW22=10000000000,10000000000,IF('SOLAI T2D SPA'!$C$5=AU24,'LP POLISTIROLO'!A24,10000000000))","v":10000000000},null,{"$f":"IF(AW22=10000000000,10000000000,IF('SOLAI T2D SPA'!$C$7='LP POLISTIROLO'!C24,'LP POLISTIROLO'!C24,10000000000))","v":10000000000},{"$f":"AV24+AW22+AX24","v":30000000000},10000000000,null,"-",null,"-",null,{"$f":"IF($AZ$24=10000000000,10000000000,IF('SOLAI T2D SPA'!$C$20<=K24,K24,10000000000))","v":10000000000},null,{"$f":"IF($AZ$24=10000000000,10000000000,IF('SOLAI T2D SPA'!$C$20<=M24,M24,10000000000))","v":10000000000},null,{"$f":"IF($AZ$24=10000000000,10000000000,IF('SOLAI T2D SPA'!$C$20<=O24,O24,10000000000))","v":10000000000},null,{"$f":"IF($AZ$24=10000000000,10000000000,IF('SOLAI T2D SPA'!$C$20<=Q24,Q24,10000000000))","v":10000000000},null,{"$f":"IF($AZ$24=10000000000,10000000000,IF('SOLAI T2D SPA'!$C$20<=S24,S24,10000000000))","v":10000000000},null,{"$f":"IF($AZ$24=10000000000,10000000000,IF('SOLAI T2D SPA'!$C$20<=U24,U24,10000000000))","v":10000000000},null,{"$f":"IF($AZ$24=10000000000,10000000000,IF('SOLAI T2D SPA'!$C$20<=W24,W24,10000000000))","v":10000000000},null,null,null,3795]
[null,null,5,{"$f":"A24+B22+C25","v":28},{"$f":"(A24+C25)/100*2500+B22/100*0.4*2500/1.2","v":400},null,"-",null,"-",null,2001.541666666667,null,2823.5749999999998,null,3948.6416666666669,null,5490.9250000000002,null,7249.6583333333338,null,9203.1749999999993,null,11324.924999999999,null,3892.5,null,null,null,null,null,null,null,null,null,null,null,null,null,{"$f":"\"MOMLAS\"&A24&B22&C25&\"REI-P\"","v":"MOMLAS5185REI-P"},null,null,null,null,null,null,null,null,null,null,{"$f":"IF(AW22=10000000000,10000000000,IF('SOLAI T2D SPA'!$C$7='LP POLISTIROLO'!C25,'LP POLISTIROLO'!C25,10000000000))","v":10000000000},{"$f":"AV24+AW22+AX25","v":30000000000},10000000000,null,"-",null,"-",null,{"$f":"IF($AZ$25=10000000000,10000000000,IF('SOLAI T2D SPA'!$C$20<=K25,K25,10000000000))","v":10000000000},null,{"$f":"IF($AZ$25=10000000000,10000000000,IF('SOLAI T2D SPA'!$C$20<=M25,M25,10000000000))","v":10000000000},null,{"$f":"IF($AZ$25=10000000000,10000000000,IF('SOLAI T2D SPA'!$C$20<=O25,O25,10000000000))","v":10000000000},null,{"$f":"IF($AZ$25=10000000000,10000000000,IF('SOLAI T2D SPA'!$C$20<=Q25,Q25,10000000000))","v":10000000000},null,{"$f":"IF($AZ$25=10000000000,10000000000,IF('SOLAI T2D SPA'!$C$20<=S25,S25,10000000000))","v":10000000000},null,{"$f":"IF($AZ$25=10000000000,10000000000,IF('SOLAI T2D SPA'!$C$20<=U25,U25,10000000000))","v":10000000000},null,{"$f":"IF($AZ$25=10000000000,10000000000,IF('SOLAI T2D SPA'!$C$20<=W25,W25,10000000000))","v":10000000000},null,null,null,3892.5]
[4,20,4,{"$f":"A26+B26+C26","v":28},{"$f":"(A26+C26)/100*2500+B26/100*0.4*2500/1.2","v":366.66666666666669},null,"-",null,"-",null,2082.85,null,2934.6750000000002,null,4096.4416666666666,null,5682.6416666666673,null,7481.2666666666673,null,9469.125,null,11564.166666666668,null,3892.5,null,null,null,null,null,null,null,null,null,null,null,null,null,{"$f":"\"MOMLAS\"&A26&B26&C26&\"REI-P\"","v":"MOMLAS4204REI-P"},null,null,null,null,null,null,null,"Spessore_4",{"$f":"IF(AW26=10000000000,10000000000,IF('SOLAI T2D SPA'!$C$5=AU26,'LP POLISTIROLO'!A26,10000000000))","v":10000000000},{"$f":"IF(AND($AR$12=1,'SOLAI T2D SPA'!$C$6=B26),B26,10000000000)","v":10000000000},{"$f":"IF(AW26=10000000000,10000000000,IF('SOLAI T2D SPA'!$C$7='LP POLISTIROLO'!C26,'LP POLISTIROLO'!C26,10000000000))","v":10000000000},{"$f":"AV26+AW26+AX26","v":30000000000},10000000000,null,"-",null,"-",null,{"$f":"IF($AZ$26=10000000000,10000000000,IF('SOLAI T2D SPA'!$C$20<=K26,K26,10000000000))","v":10000000000},null,{"$f":"IF($AZ$26=10000000000,10000000000,IF('SOLAI T2D SPA'!$C$20<=M26,M26,10000000000))","v":10000000000},null,{"$f":"IF($AZ$26=10000000000,10000000000,IF('SOLAI T2D SPA'!$C$20<=O26,O26,10000000000))","v":10000000000},null,{"$f":"IF($AZ$26=10000000000,10000000000,IF('SOLAI T2D SPA'!$C$20<=Q26,Q26,10000000000))","v":10000000000},null,{"$f":"IF($AZ$26=10000000000,10000000000,IF('SOLAI T2D SPA'!$C$20<=S26,S26,10000000000))","v":10000000000},null,{"$f":"IF($AZ$26=10000000000,10000000000,IF('SOLAI T2D SPA'!$C$20<=U26,U26,10000000000))","v":10000000000},null,{"$f":"IF($AZ$26=10000000000,10000000000,IF('SOLAI T2D SPA'!$C$20<=W26,W26,10000000000))","v":10000000000},null,null,null,3892.5]
[null,null,5,{"$f":"A26+B26+C27","v":29},{"$f":"(A26+C27)/100*2500+B26/100*0.4*2500/1.2","v":391.66666666666669},null,"-",null,"-",null,2177.3083333333334,null,3073.3666666666668,null,4301.0083333333341,null,5986.7166666666672,null,7913.8916666666673,null,10059.058333333334,null,12398.466666666667,null,3989.166666666667,null,null,null,null,null,null,null,null,null,null,null,null,null,{"$f":"\"MOMLAS\"&A26&B26&C27&\"REI-P\"","v":"MOMLAS4205REI-P"},null,null,null,null,null,null,null,null,null,null,{"$f":"IF(AW26=10000000000,10000000000,IF('SOLAI T2D SPA'!$C$7='LP POLISTIROLO'!C27,'LP POLISTIROLO'!C27,10000000000))","v":10000000000},{"$f":"AV26+AW26+AX27","v":30000000000},10000000000,null,"-",null,"-",null,{"$f":"IF($AZ$27=10000000000,10000000000,IF('SOLAI T2D SPA'!$C$20<=K27,K27,10000000000))","v":10000000000},null,{"$f":"IF($AZ$27=10000000000,10000000000,IF('SOLAI T2D SPA'!$C$20<=M27,M27,10000000000))","v":10000000000},null,{"$f":"IF($AZ$27=10000000000,10000000000,IF('SOLAI T2D SPA'!$C$20<=O27,O27,10000000000))","v":10000000000},null,{"$f":"IF($AZ$27=10000000000,10000000000,IF('SOLAI T2D SPA'!$C$20<=Q27,Q27,10000000000))","v":10000000000},null,{"$f":"IF($AZ$27=10000000000,10000000000,IF('SOLAI T2D SPA'!$C$20<=S27,S27,10000000000))","v":10000000000},null,{"$f":"IF($AZ$27=10000000000,10000000000,IF('SOLAI T2D SPA'!$C$20<=U27,U27,10000000000))","v":10000000000},null,{"$f":"IF($AZ$27=10000000000,10000000000,IF('SOLAI T2D SPA'!$C$20<=W27,W27,10000000000))","v":10000000000},null,null,null,3989.166666666667]
[5,null,4,{"$f":"A28+B26+C28","v":29},{"$f":"(A28+C28)/100*2500+B26/100*0.4*2500/1.2","v":391.66666666666669},null,"-",null,"-",null,2082.85,null,2934.6750000000002,null,4096.4416666666666,null,5682.6416666666673,null,7481.2666666666673,null,9469.125,null,11564.166666666668,null,3989.166666666667,null,null,null,null,null,null,null,null,null,null,null,null,null,{"$f":"\"MOMLAS\"&A28&B26&C28&\"REI-P\"","v":"MOMLAS5204REI-P"},null,null,null,null,null,null,null,"Spessore_5",{"$f":"IF(AW26=10000000000,10000000000,IF('SOLAI T2D SPA'!$C$5=AU28,'LP POLISTIROLO'!A28,10000000000))","v":10000000000},null,{"$f":"IF(AW26=10000000000,10000000000,IF('SOLAI T2D SPA'!$C$7='LP POLISTIROLO'!C28,'LP POLISTIROLO'!C28,10000000000))","v":10000000000},{"$f":"AV28+AW26+AX28","v":30000000000},10000000000,null,"-",null,"-",null,{"$f":"IF($AZ$28=10000000000,10000000000,IF('SOLAI T2D SPA'!$C$20<=K28,K28,10000000000))","v":10000000000},null,{"$f":"IF($AZ$28=10000000000,10000000000,IF('SOLAI T2D SPA'!$C$20<=M28,M28,10000000000))","v":10000000000},null,{"$f":"IF($AZ$28=10000000000,10000000000,IF('SOLAI T2D SPA'!$C$20<=O28,O28,10000000000))","v":10000000000},null,{"$f":"IF($AZ$28=10000000000,10000000000,IF('SOLAI T2D SPA'!$C$20<=Q28,Q28,10000000000))","v":10000000000},null,{"$f":"IF($AZ$28=10000000000,10000000000,IF('SOLAI T2D SPA'!$C$20<=S28,S28,10000000000))","v":10000000000},null,{"$f":"IF($AZ$28=10000000000,10000000000,IF('SOLAI T2D SPA'!$C$20<=U28,U28,10000000000))","v":10000000000},null,{"$f":"IF($AZ$28=10000000000,10000000000,IF('SOLAI T2D SPA'!$C$20<=W28,W28,10000000000))","v":10000000000},null,null,null,3989.166666666667]
[null,null,5,{"$f":"A28+B26+C29","v":30},{"$f":"(A28+C29)/100*2500+B26/100*0.4*2500/1.2","v":416.66666666666669},null,"-",null,"-",null,2177.3083333333334,null,3073.3666666666668,null,4301.0083333333341,null,5986.7166666666672,null,7913.8916666666673,null,10059.058333333334,null,12398.466666666667,null,4085.8333333333335,null,null,null,null,null,null,null,null,null,null,null,null,null,{"$f":"\"MOMLAS\"&A28&B26&C29&\"REI-P\"","v":"MOMLAS5205REI-P"},null,null,null,null,null,null,null,null,null,null,{"$f":"IF(AW26=10000000000,10000000000,IF('SOLAI T2D SPA'!$C$7='LP POLISTIROLO'!C29,'LP POLISTIROLO'!C29,10000000000))","v":10000000000},{"$f":"AV28+AW26+AX29","v":30000000000},10000000000,null,"-",null,"-",null,{"$f":"IF($AZ$29=10000000000,10000000000,IF('SOLAI T2D SPA'!$C$20<=K29,K29,10000000000))","v":10000000000},null,{"$f":"IF($AZ$29=10000000000,10000000000,IF('SOLAI T2D SPA'!$C$20<=M29,M29,10000000000))","v":10000000000},null,{"$f":"IF($AZ$29=10000000000,10000000000,IF('SOLAI T2D SPA'!$C$20<=O29,O29,10000000000))","v":10000000000},null,{"$f":"IF($AZ$29=10000000000,10000000000,IF('SOLAI T2D SPA'!$C$20<=Q29,Q29,10000000000))","v":10000000000},null,{"$f":"IF($AZ$29=10000000000,10000000000,IF('SOLAI T2D SPA'!$C$20<=S29,S29,10000000000))","v":10000000000},null,{"$f":"IF($AZ$29=10000000000,10000000000,IF('SOLAI T2D SPA'!$C$20<=U29,U29,10000000000))","v":10000000000},null,{"$f":"IF($AZ$29=10000000000,10000000000,IF('SOLAI T2D SPA'!$C$20<=W29,W29,10000000000))","v":10000000000},null,null,null,4085.8333333333335]
[4,22,4,{"$f":"A30+B30+C30","v":30},{"$f":"(A30+C30)/100*2500+B30/100*0.4*2500/1.2","v":383.33333333333337},null,"-",null,"-",null,2258.75,null,3184.9583333333339,null,4449.0666666666666,null,6178.5916666666672,null,8145.1833333333334,null,10325.825000000001,null,12637.5,null,4085.8333333333335,null,null,null,null,null,null,null,null,null,null,null,null,null,{"$f":"\"MOMLAS\"&A30&B30&C30&\"REI-P\"","v":"MOMLAS4224REI-P"},null,null,null,null,null,null,null,"Spessore_4",{"$f":"IF(AW30=10000000000,10000000000,IF('SOLAI T2D SPA'!$C$5=AU30,'LP POLISTIROLO'!A30,10000000000))","v":10000000000},{"$f":"IF(AND($AR$12=1,'SOLAI T2D SPA'!$C$6=B30),B30,10000000000)","v":10000000000},{"$f":"IF(AW30=10000000000,10000000000,IF('SOLAI T2D SPA'!$C$7='LP POLISTIROLO'!C30,'LP POLISTIROLO'!C30,10000000000))","v":10000000000},{"$f":"AV30+AW30+AX30","v":30000000000},10000000000,null,"-",null,"-",null,{"$f":"IF($AZ$30=10000000000,10000000000,IF('SOLAI T2D SPA'!$C$20<=K30,K30,10000000000))","v":10000000000},null,{"$f":"IF($AZ$30=10000000000,10000000000,IF('SOLAI T2D SPA'!$C$20<=M30,M30,10000000000))","v":10000000000},null,{"$f":"IF($AZ$30=10000000000,10000000000,IF('SOLAI T2D SPA'!$C$20<=O30,O30,10000000000))","v":10000000000},null,{"$f":"IF($AZ$30=10000000000,10000000000,IF('SOLAI T2D SPA'!$C$20<=Q30,Q30,10000000000))","v":10000000000},null,{"$f":"IF($AZ$30=10000000000,10000000000,IF('SOLAI T2D SPA'!$C$20<=S30,S30,10000000000))","v":10000000000},null,{"$f":"IF($AZ$30=10000000000,10000000000,IF('SOLAI T2D SPA'!$C$20<=U30,U30,10000000000))","v":10000000000},null,{"$f":"IF($AZ$30=10000000000,10000000000,IF('SOLAI T2D SPA'!$C$20<=W30,W30,10000000000))","v":10000000000},null,null,null,4085.8333333333335]
[null,null,5,{"$f":"A30+B30+C31","v":31},{"$f":"(A30+C31)/100*2500+B30/100*0.4*2500/1.2","v":408.33333333333337},null,"-",null,"-",null,2353.0916666666667,null,3323.125,null,4653.4250000000002,null,6482.0833333333339,null,8577.2749999999996,null,10915.716666666667,null,13471.666666666668,null,4180.8333333333339,null,null,null,null,null,null,null,null,null,null,null,null,null,{"$f":"\"MOMLAS\"&A30&B30&C31&\"REI-P\"","v":"MOMLAS4225REI-P"},null,null,null,null,null,null,null,null,null,null,{"$f":"IF(AW30=10000000000,10000000000,IF('SOLAI T2D SPA'!$C$7='LP POLISTIROLO'!C31,'LP POLISTIROLO'!C31,10000000000))","v":10000000000},{"$f":"AV30+AW30+AX31","v":30000000000},10000000000,null,"-",null,"-",null,{"$f":"IF($AZ$31=10000000000,10000000000,IF('SOLAI T2D SPA'!$C$20<=K31,K31,10000000000))","v":10000000000},null,{"$f":"IF($AZ$31=10000000000,10000000000,IF('SOLAI T2D SPA'!$C$20<=M31,M31,10000000000))","v":10000000000},null,{"$f":"IF($AZ$31=10000000000,10000000000,IF('SOLAI T2D SPA'!$C$20<=O31,O31,10000000000))","v":10000000000},null,{"$f":"IF($AZ$31=10000000000,10000000000,IF('SOLAI T2D SPA'!$C$20<=Q31,Q31,10000000000))","v":10000000000},null,{"$f":"IF($AZ$31=10000000000,10000000000,IF('SOLAI T2D SPA'!$C$20<=S31,S31,10000000000))","v":10000000000},null,{"$f":"IF($AZ$31=10000000000,10000000000,IF('SOLAI T2D SPA'!$C$20<=U31,U31,10000000000))","v":10000000000},null,{"$f":"IF($AZ$31=10000000000,10000000000,IF('SOLAI T2D SPA'!$C$20<=W31,W31,10000000000))","v":10000000000},null,null,null,4180.8333333333339]
[5,null,4,{"$f":"A32+B30+C32","v":31},{"$f":"(A32+C32)/100*2500+B30/100*0.4*2500/1.2","v":408.33333333333337},null,"-",null,"-",null,2258.75,null,3184.9583333333339,null,4449.0666666666666,null,6178.5916666666672,null,8145.1833333333334,null,10325.825000000001,null,12637.5,null,4180.8333333333339,null,null,null,null,null,null,null,null,null,null,null,null,null,{"$f":"\"MOMLAS\"&A32&B30&C32&\"REI-P\"","v":"MOMLAS5224REI-P"},null,null,null,null,null,null,null,"Spessore_5",{"$f":"IF(AW30=10000000000,10000000000,IF('SOLAI T2D SPA'!$C$5=AU32,'LP POLISTIROLO'!A32,10000000000))","v":10000000000},null,{"$f":"IF(AW30=10000000000,10000000000,IF('SOLAI T2D SPA'!$C$7='LP POLISTIROLO'!C32,'LP POLISTIROLO'!C32,10000000000))","v":10000000000},{"$f":"AV32+AW30+AX32","v":30000000000},10000000000,null,"-",null,"-",null,{"$f":"IF($AZ$32=10000000000,10000000000,IF('SOLAI T2D SPA'!$C$20<=K32,K32,10000000000))","v":10000000000},null,{"$f":"IF($AZ$32=10000000000,10000000000,IF('SOLAI T2D SPA'!$C$20<=M32,M32,10000000000))","v":10000000000},null,{"$f":"IF($AZ$32=10000000000,10000000000,IF('SOLAI T2D SPA'!$C$20<=O32,O32,10000000000))","v":10000000000},null,{"$f":"IF($AZ$32=10000000000,10000000000,IF('SOLAI T2D SPA'!$C$20<=Q32,Q32,10000000000))","v":10000000000},null,{"$f":"IF($AZ$32=10000000000,10000000000,IF('SOLAI T2D SPA'!$C$20<=S32,S32,10000000000))","v":10000000000},null,{"$f":"IF($AZ$32=10000000000,10000000000,IF('SOLAI T2D SPA'!$C$20<=U32,U32,10000000000))","v":10000000000},null,{"$f":"IF($AZ$32=10000000000,10000000000,IF('SOLAI T2D SPA'!$C$20<=W32,W32,10000000000))","v":10000000000},null,null,null,4180.8333333333339]
[null,null,5,{"$f":"A32+B30+C33","v":32},{"$f":"(A32+C33)/100*2500+B30/100*0.4*2500/1.2","v":433.33333333333337},null,"-",null,"-",null,2353.0916666666667,null,3323.125,null,4653.4250000000002,null,6482.0833333333339,null,8577.2749999999996,null,10915.716666666667,null,13471.666666666668,null,4275.8333333333339,null,null,null,null,null,null,null,null,null,null,null,null,null,{"$f":"\"MOMLAS\"&A32&B30&C33&\"REI-P\"","v":"MOMLAS5225REI-P"},null,null,null,null,null,null,null,null,null,null,{"$f":"IF(AW30=10000000000,10000000000,IF('SOLAI T2D SPA'!$C$7='LP POLISTIROLO'!C33,'LP POLISTIROLO'!C33,10000000000))","v":10000000000},{"$f":"AV32+AW30+AX33","v":30000000000},10000000000,null,"-",null,"-",null,{"$f":"IF($AZ$33=10000000000,10000000000,IF('SOLAI T2D SPA'!$C$20<=K33,K33,10000000000))","v":10000000000},null,{"$f":"IF($AZ$33=10000000000,10000000000,IF('SOLAI T2D SPA'!$C$20<=M33,M33,10000000000))","v":10000000000},null,{"$f":"IF($AZ$33=10000000000,10000000000,IF('SOLAI T2D SPA'!$C$20<=O33,O33,10000000000))","v":10000000000},null,{"$f":"IF($AZ$33=10000000000,10000000000,IF('SOLAI T2D SPA'!$C$20<=Q33,Q33,10000000000))","v":10000000000},null,{"$f":"IF($AZ$33=10000000000,10000000000,IF('SOLAI T2D SPA'!$C$20<=S33,S33,10000000000))","v":10000000000},null,{"$f":"IF($AZ$33=10000000000,10000000000,IF('SOLAI T2D SPA'!$C$20<=U33,U33,10000000000))","v":10000000000},null,{"$f":"IF($AZ$33=10000000000,10000000000,IF('SOLAI T2D SPA'!$C$20<=W33,W33,10000000000))","v":10000000000},null,null,null,4275.8333333333339]
[4,24,4,{"$f":"A34+B34+C34","v":32},{"$f":"(A34+C34)/100*2500+B34/100*0.4*2500/1.2","v":400},null,"-",null,"-",null,2434.7333333333336,null,3434.3333333333339,null,4801.4833333333336,null,6674.5333333333338,null,8808.85,null,11181.8,null,13710.833333333336,null,4275.8333333333339,null,null,null,null,null,null,null,null,null,null,null,null,null,{"$f":"\"MOMLAS\"&A34&B34&C34&\"REI-P\"","v":"MOMLAS4244REI-P"},null,null,null,null,null,null,null,"Spessore_4",{"$f":"IF(AW34=10000000000,10000000000,IF('SOLAI T2D SPA'!$C$5=AU34,'LP POLISTIROLO'!A34,10000000000))","v":10000000000},{"$f":"IF(AND($AR$12=1,'SOLAI T2D SPA'!$C$6=B34),B34,10000000000)","v":10000000000},{"$f":"IF(AW34=10000000000,10000000000,IF('SOLAI T2D SPA'!$C$7='LP POLISTIROLO'!C34,'LP POLISTIROLO'!C34,10000000000))","v":10000000000},{"$f":"AV34+AW34+AX34","v":30000000000},10000000000,null,"-",null,"-",null,{"$f":"IF($AZ$34=10000000000,10000000000,IF('SOLAI T2D SPA'!$C$20<=K34,K34,10000000000))","v":10000000000},null,{"$f":"IF($AZ$34=10000000000,10000000000,IF('SOLAI T2D SPA'!$C$20<=M34,M34,10000000000))","v":10000000000},null,{"$f":"IF($AZ$34=10000000000,10000000000,IF('SOLAI T2D SPA'!$C$20<=O34,O34,10000000000))","v":10000000000},null,{"$f":"IF($AZ$34=10000000000,10000000000,IF('SOLAI T2D SPA'!$C$20<=Q34,Q34,10000000000))","v":10000000000},null,{"$f":"IF($AZ$34=10000000000,10000000000,IF('SOLAI T2D SPA'!$C$20<=S34,S34,10000000000))","v":10000000000},null,{"$f":"IF($AZ$34=10000000000,10000000000,IF('SOLAI T2D SPA'!$C$20<=U34,U34,10000000000))","v":10000000000},null,{"$f":"IF($AZ$34=10000000000,10000000000,IF('SOLAI T2D SPA'!$C$20<=W34,W34,10000000000))","v":10000000000},null,null,null,4275.8333333333339]
[null,null,5,{"$f":"A34+B34+C35","v":33},{"$f":"(A34+C35)/100*2500+B34/100*0.4*2500/1.2","v":425},null,"-",null,"-",null,2528.916666666667,null,3572.3666666666668,null,5005.6083333333336,null,6978.6416666666673,null,9241.3416666666672,null,11772.625,null,14546.041666666668,null,4370,null,null,null,null,null,null,null,null,null,null,null,null,null,{"$f":"\"MOMLAS\"&A34&B34&C35&\"REI-P\"","v":"MOMLAS4245REI-P"},null,null,null,null,null,null,null,null,null,null,{"$f":"IF(AW34=10000000000,10000000000,IF('SOLAI T2D SPA'!$C$7='LP POLISTIROLO'!C35,'LP POLISTIROLO'!C35,10000000000))","v":10000000000},{"$f":"AV34+AW34+AX35","v":30000000000},10000000000,null,"-",null,"-",null,{"$f":"IF($AZ$35=10000000000,10000000000,IF('SOLAI T2D SPA'!$C$20<=K35,K35,10000000000))","v":10000000000},null,{"$f":"IF($AZ$35=10000000000,10000000000,IF('SOLAI T2D SPA'!$C$20<=M35,M35,10000000000))","v":10000000000},null,{"$f":"IF($AZ$35=10000000000,10000000000,IF('SOLAI T2D SPA'!$C$20<=O35,O35,10000000000))","v":10000000000},null,{"$f":"IF($AZ$35=10000000000,10000000000,IF('SOLAI T2D SPA'!$C$20<=Q35,Q35,10000000000))","v":10000000000},null,{"$f":"IF($AZ$35=10000000000,10000000000,IF('SOLAI T2D SPA'!$C$20<=S35,S35,10000000000))","v":10000000000},null,{"$f":"IF($AZ$35=10000000000,10000000000,IF('SOLAI T2D SPA'!$C$20<=U35,U35,10000000000))","v":10000000000},null,{"$f":"IF($AZ$35=10000000000,10000000000,IF('SOLAI T2D SPA'!$C$20<=W35,W35,10000000000))","v":10000000000},null,null,null,4370]
[5,null,4,{"$f":"A36+B34+C36","v":33},{"$f":"(A36+C36)/100*2500+B34/100*0.4*2500/1.2","v":425},null,"-",null,"-",null,2434.7333333333336,null,3434.3333333333339,null,4801.4833333333336,null,6674.5333333333338,null,8808.85,null,11181.8,null,13710.833333333336,null,4370,null,null,null,null,null,null,null,null,null,null,null,null,null,{"$f":"\"MOMLAS\"&A36&B34&C36&\"REI-P\"","v":"MOMLAS5244REI-P"},null,null,null,null,null,null,null,"Spessore_5",{"$f":"IF(AW34=10000000000,10000000000,IF('SOLAI T2D SPA'!$C$5=AU36,'LP POLISTIROLO'!A36,10000000000))","v":10000000000},null,{"$f":"IF(AW34=10000000000,10000000000,IF('SOLAI T2D SPA'!$C$7='LP POLISTIROLO'!C36,'LP POLISTIROLO'!C36,10000000000))","v":10000000000},{"$f":"AV36+AW34+AX36","v":30000000000},10000000000,null,"-",null,"-",null,{"$f":"IF($AZ$36=10000000000,10000000000,IF('SOLAI T2D SPA'!$C$20<=K36,K36,10000000000))","v":10000000000},null,{"$f":"IF($AZ$36=10000000000,10000000000,IF('SOLAI T2D SPA'!$C$20<=M36,M36,10000000000))","v":10000000000},null,{"$f":"IF($AZ$36=10000000000,10000000000,IF('SOLAI T2D SPA'!$C$20<=O36,O36,10000000000))","v":10000000000},null,{"$f":"IF($AZ$36=10000000000,10000000000,IF('SOLAI T2D SPA'!$C$20<=Q36,Q36,10000000000))","v":10000000000},null,{"$f":"IF($AZ$36=10000000000,10000000000,IF('SOLAI T2D SPA'!$C$20<=S36,S36,10000000000))","v":10000000000},null,{"$f":"IF($AZ$36=10000000000,10000000000,IF('SOLAI T2D SPA'!$C$20<=U36,U36,10000000000))","v":10000000000},null,{"$f":"IF($AZ$36=10000000000,10000000000,IF('SOLAI T2D SPA'!$C$20<=W36,W36,10000000000))","v":10000000000},null,null,null,4370]
[null,null,5,{"$f":"A36+B34+C37","v":34},{"$f":"(A36+C37)/100*2500+B34/100*0.4*2500/1.2","v":450},null,"-",null,"-",null,2528.916666666667,null,3572.3666666666668,null,5005.6083333333336,null,6978.6416666666673,null,9241.3416666666672,null,11772.625,null,14546.041666666668,null,4463.3333333333339,null,null,null,null,null,null,null,null,null,null,null,null,null,{"$f":"\"MOMLAS\"&A36&B34&C37&\"REI-P\"","v":"MOMLAS5245REI-P"},null,null,null,null,null,null,null,null,null,null,{"$f":"IF(AW34=10000000000,10000000000,IF('SOLAI T2D SPA'!$C$7='LP POLISTIROLO'!C37,'LP POLISTIROLO'!C37,10000000000))","v":10000000000},{"$f":"AV36+AW34+AX37","v":30000000000},10000000000,null,"-",null,"-",null,{"$f":"IF($AZ$37=10000000000,10000000000,IF('SOLAI T2D SPA'!$C$20<=K37,K37,10000000000))","v":10000000000},null,{"$f":"IF($AZ$37=10000000000,10000000000,IF('SOLAI T2D SPA'!$C$20<=M37,M37,10000000000))","v":10000000000},null,{"$f":"IF($AZ$37=10000000000,10000000000,IF('SOLAI T2D SPA'!$C$20<=O37,O37,10000000000))","v":10000000000},null,{"$f":"IF($AZ$37=10000000000,10000000000,IF('SOLAI T2D SPA'!$C$20<=Q37,Q37,10000000000))","v":10000000000},null,{"$f":"IF($AZ$37=10000000000,10000000000,IF('SOLAI T2D SPA'!$C$20<=S37,S37,10000000000))","v":10000000000},null,{"$f":"IF($AZ$37=10000000000,10000000000,IF('SOLAI T2D SPA'!$C$20<=U37,U37,10000000000))","v":10000000000},null,{"$f":"IF($AZ$37=10000000000,10000000000,IF('SOLAI T2D SPA'!$C$20<=W37,W37,10000000000))","v":10000000000},null,null,null,4463.3333333333339]
[4,30,4,{"$f":"A38+B38+C38","v":38},{"$f":"(A38+C38)/100*2500+B38/100*0.4*2500/1.2","v":450},null,"-",null,"-",null,2962.2416666666668,null,4183.2416666666668,null,5858.6333333333341,null,8161.6666666666679,null,10800.1,null,13750.966666666667,null,16932.358333333334,null,4832.5,null,null,null,null,null,null,null,null,null,null,null,null,null,{"$f":"\"MOMLAS\"&A38&B38&C38&\"REI-P\"","v":"MOMLAS4304REI-P"},null,null,null,null,null,null,null,"Spessore_4",{"$f":"IF(AW38=10000000000,10000000000,IF('SOLAI T2D SPA'!$C$5=AU38,'LP POLISTIROLO'!A38,10000000000))","v":10000000000},{"$f":"IF(AND($AR$12=1,'SOLAI T2D SPA'!$C$6=B38),B38,10000000000)","v":10000000000},{"$f":"IF(AW38=10000000000,10000000000,IF('SOLAI T2D SPA'!$C$7='LP POLISTIROLO'!C38,'LP POLISTIROLO'!C38,10000000000))","v":10000000000},{"$f":"AV38+AW38+AX38","v":30000000000},10000000000,null,"-",null,"-",null,{"$f":"IF($AZ$38=10000000000,10000000000,IF('SOLAI T2D SPA'!$C$20<=K38,K38,10000000000))","v":10000000000},null,{"$f":"IF($AZ$38=10000000000,10000000000,IF('SOLAI T2D SPA'!$C$20<=M38,M38,10000000000))","v":10000000000},null,{"$f":"IF($AZ$38=10000000000,10000000000,IF('SOLAI T2D SPA'!$C$20<=O38,O38,10000000000))","v":10000000000},null,{"$f":"IF($AZ$38=10000000000,10000000000,IF('SOLAI T2D SPA'!$C$20<=Q38,Q38,10000000000))","v":10000000000},null,{"$f":"IF($AZ$38=10000000000,10000000000,IF('SOLAI T2D SPA'!$C$20<=S38,S38,10000000000))","v":10000000000},null,{"$f":"IF($AZ$38=10000000000,10000000000,IF('SOLAI T2D SPA'!$C$20<=U38,U38,10000000000))","v":10000000000},null,{"$f":"IF($AZ$38=10000000000,10000000000,IF('SOLAI T2D SPA'!$C$20<=W38,W38,10000000000))","v":10000000000},null,null,null,4832.5]
[null,null,5,{"$f":"A38+B38+C39","v":39},{"$f":"(A38+C39)/100*2500+B38/100*0.4*2500/1.2","v":475},null,"-",null,"-",null,3056.45,null,4321.3333333333339,null,6062.2083333333339,null,8466.1,null,11233.016666666668,null,14341.55,null,17766.433333333334,null,4923.3333333333339,null,null,null,null,null,null,null,null,null,null,null,null,null,{"$f":"\"MOMLAS\"&A38&B38&C39&\"REI-P\"","v":"MOMLAS4305REI-P"},null,null,null,null,null,null,null,null,null,null,{"$f":"IF(AW38=10000000000,10000000000,IF('SOLAI T2D SPA'!$C$7='LP POLISTIROLO'!C39,'LP POLISTIROLO'!C39,10000000000))","v":10000000000},{"$f":"AV38+AW38+AX39","v":30000000000},10000000000,null,"-",null,"-",null,{"$f":"IF($AZ$39=10000000000,10000000000,IF('SOLAI T2D SPA'!$C$20<=K39,K39,10000000000))","v":10000000000},null,{"$f":"IF($AZ$39=10000000000,10000000000,IF('SOLAI T2D SPA'!$C$20<=M39,M39,10000000000))","v":10000000000},null,{"$f":"IF($AZ$39=10000000000,10000000000,IF('SOLAI T2D SPA'!$C$20<=O39,O39,10000000000))","v":10000000000},null,{"$f":"IF($AZ$39=10000000000,10000000000,IF('SOLAI T2D SPA'!$C$20<=Q39,Q39,10000000000))","v":10000000000},null,{"$f":"IF($AZ$39=10000000000,10000000000,IF('SOLAI T2D SPA'!$C$20<=S39,S39,10000000000))","v":10000000000},null,{"$f":"IF($AZ$39=10000000000,10000000000,IF('SOLAI T2D SPA'!$C$20<=U39,U39,10000000000))","v":10000000000},null,{"$f":"IF($AZ$39=10000000000,10000000000,IF('SOLAI T2D SPA'!$C$20<=W39,W39,10000000000))","v":10000000000},null,null,null,4923.3333333333339]
[5,null,4,{"$f":"A40+B38+C40","v":39},{"$f":"(A40+C40)/100*2500+B38/100*0.4*2500/1.2","v":475},null,"-",null,"-",null,2962.2416666666668,null,4183.2416666666668,null,5858.6333333333341,null,8161.6666666666679,null,10800.1,null,13750.966666666667,null,16932.358333333334,null,4923.3333333333339,null,null,null,null,null,null,null,null,null,null,null,null,null,{"$f":"\"MOMLAS\"&A40&B38&C40&\"REI-P\"","v":"MOMLAS5304REI-P"},null,null,null,null,null,null,null,"Spessore_5",{"$f":"IF(AW38=10000000000,10000000000,IF('SOLAI T2D SPA'!$C$5=AU40,'LP POLISTIROLO'!A40,10000000000))","v":10000000000},null,{"$f":"IF(AW38=10000000000,10000000000,IF('SOLAI T2D SPA'!$C$7='LP POLISTIROLO'!C40,'LP POLISTIROLO'!C40,10000000000))","v":10000000000},{"$f":"AV40+AW38+AX40","v":30000000000},10000000000,null,"-",null,"-",null,{"$f":"IF($AZ$40=10000000000,10000000000,IF('SOLAI T2D SPA'!$C$20<=K40,K40,10000000000))","v":10000000000},null,{"$f":"IF($AZ$40=10000000000,10000000000,IF('SOLAI T2D SPA'!$C$20<=M40,M40,10000000000))","v":10000000000},null,{"$f":"IF($AZ$40=10000000000,10000000000,IF('SOLAI T2D SPA'!$C$20<=O40,O40,10000000000))","v":10000000000},null,{"$f":"IF($AZ$40=10000000000,10000000000,IF('SOLAI T2D SPA'!$C$20<=Q40,Q40,10000000000))","v":10000000000},null,{"$f":"IF($AZ$40=10000000000,10000000000,IF('SOLAI T2D SPA'!$C$20<=S40,S40,10000000000))","v":10000000000},null,{"$f":"IF($AZ$40=10000000000,10000000000,IF('SOLAI T2D SPA'!$C$20<=U40,U40,10000000000))","v":10000000000},null,{"$f":"IF($AZ$40=10000000000,10000000000,IF('SOLAI T2D SPA'!$C$20<=W40,W40,10000000000))","v":10000000000},null,null,null,4923.3333333333339,null,null,null,null,null,null,null,null,null,{"$f":"IF(AND(CF78=$DJ$78,CF78<800000000),CF43,\"\")","v":""},null,{"$f":"IF(AND(CH78=$DJ$78,CH78<800000000),CH43,\"\")","v":""},null,{"$f":"IF(AND(CJ78=$DJ$78,CJ78<800000000),CJ43,\"\")","v":""},null,{"$f":"IF(AND(CL78=$DJ$78,CL78<800000000),CL43,\"\")","v":""},null,{"$f":"IF(AND(CN78=$DJ$78,CN78<800000000),CN43,\"\")","v":""},null,{"$f":"IF(AND(CP78=$DJ$78,CP78<800000000),CP43,\"\")","v":""},null,{"$f":"IF(AND(CR78=$DJ$78,CR78<800000000),CR43,\"\")","v":""},null,{"$f":"IF(AND(CT78=$DJ$78,CT78<800000000),CT43,\"\")","v":""},null,{"$f":"IF(AND(CV78=$DJ$78,CV78<800000000),CV43,\"\")","v":""},null,{"$f":"IF(AND(CX78=$DJ$78,CX78<800000000),CX43,\"\")","v":""},null,{"$f":"IF(AND(CZ78=$DJ$78,CZ78<800000000),CZ43,\"\")","v":""},null,{"$f":"IF(AND(DB78=$DJ$78,DB78<800000000),DB43,\"\")","v":""},null,{"$f":"IF(AND(DD78=$DJ$78,DD78<800000000),DD43,\"\")","v":""},null,{"$f":"IF(AND(DF78=$DJ$78,DF78<800000000),DF43,\"\")","v":""},null,{"$f":"IF(AND(DH78=$DJ$78,DH78<800000000),DH43,\"\")","v":""},null,{"$f":"CF40&CH40&CJ40&CL40&CN40&CP40&CR40&CT40&CV40&CX40&CZ40&DB40&DD40&DF40&DH40","v":""}]
[null,null,5,{"$f":"A40+B38+C41","v":40},{"$f":"(A40+C41)/100*2500+B38/100*0.4*2500/1.2","v":500},null,"-",null,"-",null,3056.45,null,4321.3333333333339,null,6062.2083333333339,null,8466.1,null,11233.016666666668,null,14341.55,null,17766.433333333334,null,5014.166666666667,null,null,null,null,null,null,null,null,null,null,null,null,null,{"$f":"\"MOMLAS\"&A40&B38&C41&\"REI-P\"","v":"MOMLAS5305REI-P"},null,null,null,null,null,null,null,null,null,null,{"$f":"IF(AW38=10000000000,10000000000,IF('SOLAI T2D SPA'!$C$7='LP POLISTIROLO'!C41,'LP POLISTIROLO'!C41,10000000000))","v":10000000000},{"$f":"AV40+AW38+AX41","v":30000000000},10000000000,null,"-",null,"-",null,{"$f":"IF($AZ$41=10000000000,10000000000,IF('SOLAI T2D SPA'!$C$20<=K41,K41,10000000000))","v":10000000000},null,{"$f":"IF($AZ$41=10000000000,10000000000,IF('SOLAI T2D SPA'!$C$20<=M41,M41,10000000000))","v":10000000000},null,{"$f":"IF($AZ$41=10000000000,10000000000,IF('SOLAI T2D SPA'!$C$20<=O41,O41,10000000000))","v":10000000000},null,{"$f":"IF($AZ$41=10000000000,10000000000,IF('SOLAI T2D SPA'!$C$20<=Q41,Q41,10000000000))","v":10000000000},null,{"$f":"IF($AZ$41=10000000000,10000000000,IF('SOLAI T2D SPA'!$C$20<=S41,S41,10000000000))","v":10000000000},null,{"$f":"IF($AZ$41=10000000000,10000000000,IF('SOLAI T2D SPA'!$C$20<=U41,U41,10000000000))","v":10000000000},null,{"$f":"IF($AZ$41=10000000000,10000000000,IF('SOLAI T2D SPA'!$C$20<=W41,W41,10000000000))","v":10000000000},null,null,null,5014.166666666667]
[null,null,null,null,null,null,null,null,null,null,null,null,null,null,null,null,null,null,null,null,null,null,null,null,null,null,null,null,null,null,null,null,null,null,null,null,null,null,null,null,null,null,null,null,null,null,null,{"$f":"MIN(AV10:AV41)","v":10000000000},{"$f":"MIN(AW10:AW41)","v":10000000000},{"$f":"MIN(AX10:AX41)","v":10000000000},{"$f":"MIN(AY10:AY41)","v":30000000000},{"$f":"MIN(AZ10:AZ41)","v":10000000000},null,null,null,null,null,{"$f":"MIN(BF10:BG41)","v":10000000000},null,{"$f":"MIN(BH10:BI41)","v":10000000000},null,{"$f":"MIN(BJ10:BK41)","v":10000000000},null,{"$f":"MIN(BL10:BM41)","v":10000000000},null,{"$f":"MIN(BN10:BO41)","v":10000000000},null,{"$f":"MIN(BP10:BQ41)","v":10000000000},null,{"$f":"MIN(BR10:BS41)","v":10000000000},null,{"$f":"MIN(BF42:BS42)","v":10000000000},{"$f":"IF(AND(AR12=1,BT42=10000000000),1,0)","v":0}]
["MOMENTO NEGATIVO",null,null,null,null,null,"3f8",null,"3f10",null,"3f12",null,"3f8 + 3f10",null,"6f10",null,"3f10 + 3f12",null,"6f12",null,"3f12 + 3f14",null,"6f14",null,"3f14 + 3f16",null,"6f16",null,"3f16 + 3f18",null,"6f18",null,"3f18 + 3f20",null,"6f20",null,null,null,null,null,null,null,null,null,null,null,null,null,null,null,null,null,null,null,null,null,null,null,null,null,null,null,null,null,null,null,null,null,null,null,null,null,null,null,null,null,null,"MOMENTO NEGATIVO",null,null,null,null,null,"3f8",null,"3f10",null,"3f12",null,"3f8 + 3f10",null,"6f10",null,"3f10 + 3f12",null,"6f12",null,"3f12 + 3f14",null,"6f14",null,"3f14 + 3f16",null,"6f16",null,"3f16 + 3f18",null,"6f18",null,"3f18 + 3f20",null,"6f20"]
["Spessore lastra","Altezza polistirolo","Spessore soletta","Altezza solaio","Peso solaio","Volume cls getto in opera (l/mq)","Momenti ultimi riferiti ad una striscia di solaio larga 1,00 metro",null,null,null,null,null,null,null,null,null,null,null,null,null,null,null,null,null,null,null,null,null,null,null,null,null,null,null,null,null,null,null,null,null,null,null,null,null,null,null,null,null,null,null,null,null,null,null,null,null,null,null,null,null,null,null,null,null,null,null,null,null,null,null,null,null,null,null,null,null,null,"Spessore lastra","Altezza polistirolo","Spessore soletta","Altezza solaio","Peso solaio",null,"Momenti ultimi riferiti ad una striscia di solaio larga 1,00 metro"]
["[cm]","[cm]","[cm]","[cm]","[daN/mq]","[l/mq]","[daNm]",null,"[daNm]",null,"[daNm]",null,"[daNm]",null,"[daNm]","[daNm]","[daNm]","[daNm]","[daNm]","[daNm]","[daNm]","[daNm]","[daNm]","[daNm]","[daNm]","[daNm]","[daNm]","[daNm]","[daNm]","[daNm]","[daNm]","[daNm]","[daNm]","[daNm]","[daNm]","[daNm]",null,null,null,null,null,null,null,null,null,null,null,null,null,null,null,null,null,null,null,null,null,null,null,null,null,null,null,null,null,null,null,null,null,null,null,null,null,null,null,null,null,"[cm]","[cm]","[cm]","[cm]","[daN/mq]",null,"[daNm]",null,"[daNm]",null,"[daNm]",null,"[daNm]",null,"[daNm]","[daNm]","[daNm]","[daNm]","[daNm]","[daNm]","[daNm]","[daNm]","[daNm]","[daNm]","[daNm]","[daNm]","[daNm]","[daNm]","[daNm]","[daNm]","[daNm]","[daNm]","[daNm]","[daNm]","[daNm]","[daNm]"]
[4,12,4,{"$f":"A46+B46+C46","v":20},{"$f":"(A46+C46)/100*2500+B46/100*0.4*2500/1.2","v":300},null,877.875,null,1364.8083333333334,null,1952.5,null,2216.5333333333333,null,2687.6166666666668,null,3256.166666666667,null,3815.8416666666667,null,4466.5833333333339,null,5106.7833333333338,null,5830.0749999999998,null,6537.875,null,7321.3666666666677,null,8085.3583333333336,null,8913.3333333333339,null,9719.1666666666679,null,null,null,null,null,null,null,null,null,null,null,null,null,null,null,null,null,null,null,null,null,null,null,null,null,null,null,null,null,null,null,null,null,null,null,null,null,null,null,null,null,null,{"$f":"AV10","v":10000000000},{"$f":"AW10","v":10000000000},{"$f":"AX10","v":10000000000},{"$f":"BZ46+CA46+CB46","v":30000000000},{"$f":"(BZ46+CB46)/100*2500+CA46/100*0.4*2500/1.2","v":583333333333.33337},null,{"$f":"IF($AZ$10=10000000000,10000000000,IF('SOLAI T2D SPA'!$C$25<=G46,G46,10000000000))","v":10000000000},null,{"$f":"IF($AZ$10=10000000000,10000000000,IF('SOLAI T2D SPA'!$C$25<=I46,I46,10000000000))","v":10000000000},null,{"$f":"IF($AZ$10=10000000000,10000000000,IF('SOLAI T2D SPA'!$C$25<=K46,K46,10000000000))","v":10000000000},null,{"$f":"IF($AZ$10=10000000000,10000000000,IF('SOLAI T2D SPA'!$C$25<=M46,M46,10000000000))","v":10000000000},null,{"$f":"IF($AZ$10=10000000000,10000000000,IF('SOLAI T2D SPA'!$C$25<=O46,O46,10000000000))","v":10000000000},null,{"$f":"IF($AZ$10=10000000000,10000000000,IF('SOLAI T2D SPA'!$C$25<=Q46,Q46,10000000000))","v":10000000000},null,{"$f":"IF($AZ$10=10000000000,10000000000,IF('SOLAI T2D SPA'!$C$25<=S46,S46,10000000000))","v":10000000000},null,{"$f":"IF($AZ$10=10000000000,10000000000,IF('SOLAI T2D SPA'!$C$25<=U46,U46,10000000000))","v":10000000000},null,{"$f":"IF($AZ$10=10000000000,10000000000,IF('SOLAI T2D SPA'!$C$25<=W46,W46,10000000000))","v":10000000000},null,{"$f":"IF($AZ$10=10000000000,10000000000,IF('SOLAI T2D SPA'!$C$25<=Y46,Y46,10000000000))","v":10000000000},null,{"$f":"IF($AZ$10=10000000000,10000000000,IF('SOLAI T2D SPA'!$C$25<=AA46,AA46,10000000000))","v":10000000000},null,{"$f":"IF($AZ$10=10000000000,10000000000,IF('SOLAI T2D SPA'!$C$25<=AC46,AC46,10000000000))","v":10000000000},null,{"$f":"IF($AZ$10=10000000000,10000000000,IF('SOLAI T2D SPA'!$C$25<=AE46,AE46,10000000000))","v":10000000000},null,{"$f":"IF($AZ$10=10000000000,10000000000,IF('SOLAI T2D SPA'!$C$25<=AG46,AG46,10000000000))","v":10000000000},null,{"$f":"IF($AZ$10=10000000000,10000000000,IF('SOLAI T2D SPA'!$C$25<=AI46,AI46,10000000000))","v":10000000000}]
[null,null,5,{"$f":"A46+B46+C47","v":21},{"$f":"(A46+C47)/100*2500+B46/100*0.4*2500/1.2","v":325},null,927,null,1441.5916666666669,null,2063.0833333333335,null,2342.416666666667,null,2841.416666666667,null,3443.35,null,4036.9333333333338,null,4728.5166666666664,null,5407.5333333333338,null,6176.3249999999998,null,6930.9083333333338,null,7767.0416666666679,null,8581.9500000000007,null,9470.25,null,10334.166666666668,null,null,null,null,null,null,null,null,null,null,null,null,null,null,null,null,null,null,null,null,null,null,null,null,null,null,null,null,null,null,null,null,null,null,null,null,null,null,null,null,null,null,null,null,{"$f":"AX11","v":10000000000},{"$f":"BZ46+CA46+CB47","v":30000000000},{"$f":"(BZ46+CB47)/100*2500+CA46/100*0.4*2500/1.2","v":583333333333.33337},null,{"$f":"IF($AZ$11=10000000000,10000000000,IF('SOLAI T2D SPA'!$C$25<=G47,G47,10000000000))","v":10000000000},null,{"$f":"IF($AZ$11=10000000000,10000000000,IF('SOLAI T2D SPA'!$C$25<=I47,I47,10000000000))","v":10000000000},null,{"$f":"IF($AZ$11=10000000000,10000000000,IF('SOLAI T2D SPA'!$C$25<=K47,K47,10000000000))","v":10000000000},null,{"$f":"IF($AZ$11=10000000000,10000000000,IF('SOLAI T2D SPA'!$C$25<=M47,M47,10000000000))","v":10000000000},null,{"$f":"IF($AZ$11=10000000000,10000000000,IF('SOLAI T2D SPA'!$C$25<=O47,O47,10000000000))","v":10000000000},null,{"$f":"IF($AZ$11=10000000000,10000000000,IF('SOLAI T2D SPA'!$C$25<=Q47,Q47,10000000000))","v":10000000000},null,{"$f":"IF($AZ$11=10000000000,10000000000,IF('SOLAI T2D SPA'!$C$25<=S47,S47,10000000000))","v":10000000000},null,{"$f":"IF($AZ$11=10000000000,10000000000,IF('SOLAI T2D SPA'!$C$25<=U47,U47,10000000000))","v":10000000000},null,{"$f":"IF($AZ$11=10000000000,10000000000,IF('SOLAI T2D SPA'!$C$25<=W47,W47,10000000000))","v":10000000000},null,{"$f":"IF($AZ$11=10000000000,10000000000,IF('SOLAI T2D SPA'!$C$25<=Y47,Y47,10000000000))","v":10000000000},null,{"$f":"IF($AZ$11=10000000000,10000000000,IF('SOLAI T2D SPA'!$C$25<=AA47,AA47,10000000000))","v":10000000000},null,{"$f":"IF($AZ$11=10000000000,10000000000,IF('SOLAI T2D SPA'!$C$25<=AC47,AC47,10000000000))","v":10000000000},null,{"$f":"IF($AZ$11=10000000000,10000000000,IF('SOLAI T2D SPA'!$C$25<=AE47,AE47,10000000000))","v":10000000000},null,{"$f":"IF($AZ$11=10000000000,10000000000,IF('SOLAI T2D SPA'!$C$25<=AG47,AG47,10000000000))","v":10000000000},null,{"$f":"IF($AZ$11=10000000000,10000000000,IF('SOLAI T2D SPA'!$C$25<=AI47,AI47,10000000000))","v":10000000000}]
[5,null,4,{"$f":"A48+B46+C48","v":21},{"$f":"(A48+C48)/100*2500+B46/100*0.4*2500/1.2","v":325},null,927,null,1441.5916666666669,null,2063.0833333333335,null,2342.416666666667,null,2841.416666666667,null,3443.35,null,4036.9333333333338,null,4728.5166666666664,null,5407.5333333333338,null,6176.3249999999998,null,6930.9083333333338,null,7767.0416666666679,null,8581.9500000000007,null,9470.25,null,10334.166666666668,null,null,null,null,null,null,null,null,null,null,null,null,null,null,null,null,null,null,null,null,null,null,null,null,null,null,null,null,null,null,null,null,null,null,null,null,null,null,null,null,null,null,{"$f":"AV12","v":10000000000},null,10000000000,{"$f":"BZ48+CA46+CB48","v":30000000000},{"$f":"(BZ48+CB48)/100*2500+CA46/100*0.4*2500/1.2","v":583333333333.33337},null,{"$f":"IF($AZ$12=10000000000,10000000000,IF('SOLAI T2D SPA'!$C$25<=G48,G48,10000000000))","v":10000000000},null,{"$f":"IF($AZ$12=10000000000,10000000000,IF('SOLAI T2D SPA'!$C$25<=I48,I48,10000000000))","v":10000000000},null,{"$f":"IF($AZ$12=10000000000,10000000000,IF('SOLAI T2D SPA'!$C$25<=K48,K48,10000000000))","v":10000000000},null,{"$f":"IF($AZ$12=10000000000,10000000000,IF('SOLAI T2D SPA'!$C$25<=M48,M48,10000000000))","v":10000000000},null,{"$f":"IF($AZ$12=10000000000,10000000000,IF('SOLAI T2D SPA'!$C$25<=O48,O48,10000000000))","v":10000000000},null,{"$f":"IF($AZ$12=10000000000,10000000000,IF('SOLAI T2D SPA'!$C$25<=Q48,Q48,10000000000))","v":10000000000},null,{"$f":"IF($AZ$12=10000000000,10000000000,IF('SOLAI T2D SPA'!$C$25<=S48,S48,10000000000))","v":10000000000},null,{"$f":"IF($AZ$12=10000000000,10000000000,IF('SOLAI T2D SPA'!$C$25<=U48,U48,10000000000))","v":10000000000},null,{"$f":"IF($AZ$12=10000000000,10000000000,IF('SOLAI T2D SPA'!$C$25<=W48,W48,10000000000))","v":10000000000},null,{"$f":"IF($AZ$12=10000000000,10000000000,IF('SOLAI T2D SPA'!$C$25<=Y48,Y48,10000000000))","v":10000000000},null,{"$f":"IF($AZ$12=10000000000,10000000000,IF('SOLAI T2D SPA'!$C$25<=AA48,AA48,10000000000))","v":10000000000},null,{"$f":"IF($AZ$12=10000000000,10000000000,IF('SOLAI T2D SPA'!$C$25<=AC48,AC48,10000000000))","v":10000000000},null,{"$f":"IF($AZ$12=10000000000,10000000000,IF('SOLAI T2D SPA'!$C$25<=AE48,AE48,10000000000))","v":10000000000},null,{"$f":"IF($AZ$12=10000000000,10000000000,IF('SOLAI T2D SPA'!$C$25<=AG48,AG48,10000000000))","v":10000000000},null,{"$f":"IF($AZ$12=10000000000,10000000000,IF('SOLAI T2D SPA'!$C$25<=AI48,AI48,10000000000))","v":10000000000}]
[null,null,5,{"$f":"A48+B46+C49","v":22},{"$f":"(A48+C49)/100*2500+B46/100*0.4*2500/1.2","v":350},null,976.01666666666677,null,1518.175,null,2173.5500000000002,null,2468.625,null,2995.125,null,3631.1416666666669,null,4258.1083333333336,null,4989.7749999999996,null,5708.85,null,6523.5083333333341,null,7323.95,null,8211.4166666666679,null,9079.4333333333343,null,10026.691666666668,null,10949.166666666668,null,null,null,null,null,null,null,null,null,null,null,null,null,null,null,null,null,null,null,null,null,null,null,null,null,null,null,null,null,null,null,null,null,null,null,null,null,null,null,null,null,null,null,null,10000000000,{"$f":"BZ48+CA46+CB49","v":30000000000},{"$f":"(BZ48+CB49)/100*2500+CA46/100*0.4*2500/1.2","v":583333333333.33337},null,{"$f":"IF($AZ$13=10000000000,10000000000,IF('SOLAI T2D SPA'!$C$25<=G49,G49,10000000000))","v":10000000000},null,{"$f":"IF($AZ$13=10000000000,10000000000,IF('SOLAI T2D SPA'!$C$25<=I49,I49,10000000000))","v":10000000000},null,{"$f":"IF($AZ$13=10000000000,10000000000,IF('SOLAI T2D SPA'!$C$25<=K49,K49,10000000000))","v":10000000000},null,{"$f":"IF($AZ$13=10000000000,10000000000,IF('SOLAI T2D SPA'!$C$25<=M49,M49,10000000000))","v":10000000000},null,{"$f":"IF($AZ$13=10000000000,10000000000,IF('SOLAI T2D SPA'!$C$25<=O49,O49,10000000000))","v":10000000000},null,{"$f":"IF($AZ$13=10000000000,10000000000,IF('SOLAI T2D SPA'!$C$25<=Q49,Q49,10000000000))","v":10000000000},null,{"$f":"IF($AZ$13=10000000000,10000000000,IF('SOLAI T2D SPA'!$C$25<=S49,S49,10000000000))","v":10000000000},null,{"$f":"IF($AZ$13=10000000000,10000000000,IF('SOLAI T2D SPA'!$C$25<=U49,U49,10000000000))","v":10000000000},null,{"$f":"IF($AZ$13=10000000000,10000000000,IF('SOLAI T2D SPA'!$C$25<=W49,W49,10000000000))","v":10000000000},null,{"$f":"IF($AZ$13=10000000000,10000000000,IF('SOLAI T2D SPA'!$C$25<=Y49,Y49,10000000000))","v":10000000000},null,{"$f":"IF($AZ$13=10000000000,10000000000,IF('SOLAI T2D SPA'!$C$25<=AA49,AA49,10000000000))","v":10000000000},null,{"$f":"IF($AZ$13=10000000000,10000000000,IF('SOLAI T2D SPA'!$C$25<=AC49,AC49,10000000000))","v":10000000000},null,{"$f":"IF($AZ$13=10000000000,10000000000,IF('SOLAI T2D SPA'!$C$25<=AE49,AE49,10000000000))","v":10000000000},null,{"$f":"IF($AZ$13=10000000000,10000000000,IF('SOLAI T2D SPA'!$C$25<=AG49,AG49,10000000000))","v":10000000000},null,{"$f":"IF($AZ$13=10000000000,10000000000,IF('SOLAI T2D SPA'!$C$25<=AI49,AI49,10000000000))","v":10000000000}]
[4,14,4,{"$f":"A50+B50+C50","v":22},{"$f":"(A50+C50)/100*2500+B50/100*0.4*2500/1.2","v":316.66666666666669},null,976.01666666666677,null,1518.175,null,2173.5500000000002,null,2468.625,null,2995.125,null,3631.1416666666669,null,4258.1083333333336,null,4989.7749999999996,null,5708.85,null,6523.5083333333341,null,7323.95,null,8211.4166666666679,null,9079.4333333333343,null,10026.691666666668,null,10949.166666666668,null,null,null,null,null,null,null,null,null,null,null,null,null,null,null,null,null,null,null,null,null,null,null,null,null,null,null,null,null,null,null,null,null,null,null,null,null,null,null,null,null,null,{"$f":"AV14","v":10000000000},{"$f":"AW14","v":10000000000},10000000000,{"$f":"BZ50+CA50+CB50","v":30000000000},{"$f":"(BZ50+CB50)/100*2500+CA50/100*0.4*2500/1.2","v":583333333333.33337},null,{"$f":"IF($AZ$14=10000000000,10000000000,IF('SOLAI T2D SPA'!$C$25<=G50,G50,10000000000))","v":10000000000},null,{"$f":"IF($AZ$14=10000000000,10000000000,IF('SOLAI T2D SPA'!$C$25<=I50,I50,10000000000))","v":10000000000},null,{"$f":"IF($AZ$14=10000000000,10000000000,IF('SOLAI T2D SPA'!$C$25<=K50,K50,10000000000))","v":10000000000},null,{"$f":"IF($AZ$14=10000000000,10000000000,IF('SOLAI T2D SPA'!$C$25<=M50,M50,10000000000))","v":10000000000},null,{"$f":"IF($AZ$14=10000000000,10000000000,IF('SOLAI T2D SPA'!$C$25<=O50,O50,10000000000))","v":10000000000},null,{"$f":"IF($AZ$14=10000000000,10000000000,IF('SOLAI T2D SPA'!$C$25<=Q50,Q50,10000000000))","v":10000000000},null,{"$f":"IF($AZ$14=10000000000,10000000000,IF('SOLAI T2D SPA'!$C$25<=S50,S50,10000000000))","v":10000000000},null,{"$f":"IF($AZ$14=10000000000,10000000000,IF('SOLAI T2D SPA'!$C$25<=U50,U50,10000000000))","v":10000000000},null,{"$f":"IF($AZ$14=10000000000,10000000000,IF('SOLAI T2D SPA'!$C$25<=W50,W50,10000000000))","v":10000000000},null,{"$f":"IF($AZ$14=10000000000,10000000000,IF('SOLAI T2D SPA'!$C$25<=Y50,Y50,10000000000))","v":10000000000},null,{"$f":"IF($AZ$14=10000000000,10000000000,IF('SOLAI T2D SPA'!$C$25<=AA50,AA50,10000000000))","v":10000000000},null,{"$f":"IF($AZ$14=10000000000,10000000000,IF('SOLAI T2D SPA'!$C$25<=AC50,AC50,10000000000))","v":10000000000},null,{"$f":"IF($AZ$14=10000000000,10000000000,IF('SOLAI T2D SPA'!$C$25<=AE50,AE50,10000000000))","v":10000000000},null,{"$f":"IF($AZ$14=10000000000,10000000000,IF('SOLAI T2D SPA'!$C$25<=AG50,AG50,10000000000))","v":10000000000},null,{"$f":"IF($AZ$14=10000000000,10000000000,IF('SOLAI T2D SPA'!$C$25<=AI50,AI50,10000000000))","v":10000000000}]
[null,null,5,{"$f":"A50+B50+C51","v":23},{"$f":"(A50+C51)/100*2500+B50/100*0.4*2500/1.2","v":341.66666666666669},null,1025.0083333333334,null,1594.916666666667,null,2284.125,null,2594.7249999999999,null,3148.7833333333338,null,3818.3,null,4479.8833333333341,null,5250.9,null,6009.6750000000002,null,6871.7666666666673,null,7717.7250000000004,null,8658.0333333333328,null,9577.9,null,10583.691666666668,null,11563.458333333336,null,null,null,null,null,null,null,null,null,null,null,null,null,null,null,null,null,null,null,null,null,null,null,null,null,null,null,null,null,null,null,null,null,null,null,null,null,null,null,null,null,null,null,null,10000000000,{"$f":"BZ50+CA50+CB51","v":30000000000},{"$f":"(BZ50+CB51)/100*2500+CA50/100*0.4*2500/1.2","v":583333333333.33337},null,{"$f":"IF($AZ$15=10000000000,10000000000,IF('SOLAI T2D SPA'!$C$25<=G51,G51,10000000000))","v":10000000000},null,{"$f":"IF($AZ$15=10000000000,10000000000,IF('SOLAI T2D SPA'!$C$25<=I51,I51,10000000000))","v":10000000000},null,{"$f":"IF($AZ$15=10000000000,10000000000,IF('SOLAI T2D SPA'!$C$25<=K51,K51,10000000000))","v":10000000000},null,{"$f":"IF($AZ$15=10000000000,10000000000,IF('SOLAI T2D SPA'!$C$25<=M51,M51,10000000000))","v":10000000000},null,{"$f":"IF($AZ$15=10000000000,10000000000,IF('SOLAI T2D SPA'!$C$25<=O51,O51,10000000000))","v":10000000000},null,{"$f":"IF($AZ$15=10000000000,10000000000,IF('SOLAI T2D SPA'!$C$25<=Q51,Q51,10000000000))","v":10000000000},null,{"$f":"IF($AZ$15=10000000000,10000000000,IF('SOLAI T2D SPA'!$C$25<=S51,S51,10000000000))","v":10000000000},null,{"$f":"IF($AZ$15=10000000000,10000000000,IF('SOLAI T2D SPA'!$C$25<=U51,U51,10000000000))","v":10000000000},null,{"$f":"IF($AZ$15=10000000000,10000000000,IF('SOLAI T2D SPA'!$C$25<=W51,W51,10000000000))","v":10000000000},null,{"$f":"IF($AZ$15=10000000000,10000000000,IF('SOLAI T2D SPA'!$C$25<=Y51,Y51,10000000000))","v":10000000000},null,{"$f":"IF($AZ$15=10000000000,10000000000,IF('SOLAI T2D SPA'!$C$25<=AA51,AA51,10000000000))","v":10000000000},null,{"$f":"IF($AZ$15=10000000000,10000000000,IF('SOLAI T2D SPA'!$C$25<=AC51,AC51,10000000000))","v":10000000000},null,{"$f":"IF($AZ$15=10000000000,10000000000,IF('SOLAI T2D SPA'!$C$25<=AE51,AE51,10000000000))","v":10000000000},null,{"$f":"IF($AZ$15=10000000000,10000000000,IF('SOLAI T2D SPA'!$C$25<=AG51,AG51,10000000000))","v":10000000000},null,{"$f":"IF($AZ$15=10000000000,10000000000,IF('SOLAI T2D SPA'!$C$25<=AI51,AI51,10000000000))","v":10000000000}]
[5,null,4,{"$f":"A52+B50+C52","v":23},{"$f":"(A52+C52)/100*2500+B50/100*0.4*2500/1.2","v":341.66666666666669},null,1025.0083333333334,null,1594.916666666667,null,2284.125,null,2594.7249999999999,null,3148.7833333333338,null,3818.3,null,4479.8833333333341,null,5250.9,null,6009.6750000000002,null,6871.7666666666673,null,7717.7250000000004,null,8658.0333333333328,null,9577.9,null,10583.691666666668,null,11563.458333333336,null,null,null,null,null,null,null,null,null,null,null,null,null,null,null,null,null,null,null,null,null,null,null,null,null,null,null,null,null,null,null,null,null,null,null,null,null,null,null,null,null,null,{"$f":"AV16","v":10000000000},null,10000000000,{"$f":"BZ52+CA50+CB52","v":30000000000},{"$f":"(BZ52+CB52)/100*2500+CA50/100*0.4*2500/1.2","v":583333333333.33337},null,{"$f":"IF($AZ$16=10000000000,10000000000,IF('SOLAI T2D SPA'!$C$25<=G52,G52,10000000000))","v":10000000000},null,{"$f":"IF($AZ$16=10000000000,10000000000,IF('SOLAI T2D SPA'!$C$25<=I52,I52,10000000000))","v":10000000000},null,{"$f":"IF($AZ$16=10000000000,10000000000,IF('SOLAI T2D SPA'!$C$25<=K52,K52,10000000000))","v":10000000000},null,{"$f":"IF($AZ$16=10000000000,10000000000,IF('SOLAI T2D SPA'!$C$25<=M52,M52,10000000000))","v":10000000000},null,{"$f":"IF($AZ$16=10000000000,10000000000,IF('SOLAI T2D SPA'!$C$25<=O52,O52,10000000000))","v":10000000000},null,{"$f":"IF($AZ$16=10000000000,10000000000,IF('SOLAI T2D SPA'!$C$25<=Q52,Q52,10000000000))","v":10000000000},null,{"$f":"IF($AZ$16=10000000000,10000000000,IF('SOLAI T2D SPA'!$C$25<=S52,S52,10000000000))","v":10000000000},null,{"$f":"IF($AZ$16=10000000000,10000000000,IF('SOLAI T2D SPA'!$C$25<=U52,U52,10000000000))","v":10000000000},null,{"$f":"IF($AZ$16=10000000000,10000000000,IF('SOLAI T2D SPA'!$C$25<=W52,W52,10000000000))","v":10000000000},null,{"$f":"IF($AZ$16=10000000000,10000000000,IF('SOLAI T2D SPA'!$C$25<=Y52,Y52,10000000000))","v":10000000000},null,{"$f":"IF($AZ$16=10000000000,10000000000,IF('SOLAI T2D SPA'!$C$25<=AA52,AA52,10000000000))","v":10000000000},null,{"$f":"IF($AZ$16=10000000000,10000000000,IF('SOLAI T2D SPA'!$C$25<=AC52,AC52,10000000000))","v":10000000000},null,{"$f":"IF($AZ$16=10000000000,10000000000,IF('SOLAI T2D SPA'!$C$25<=AE52,AE52,10000000000))","v":10000000000},null,{"$f":"IF($AZ$16=10000000000,10000000000,IF('SOLAI T2D SPA'!$C$25<=AG52,AG52,10000000000))","v":10000000000},null,{"$f":"IF($AZ$16=10000000000,10000000000,IF('SOLAI T2D SPA'!$C$25<=AI52,AI52,10000000000))","v":10000000000}]
[null,null,5,{"$f":"A52+B50+C53","v":24},{"$f":"(A52+C53)/100*2500+B50/100*0.4*2500/1.2","v":366.66666666666669},null,1074.0250000000001,null,1671.65,null,2394.4583333333335,null,2720.4250000000002,null,3302.3333333333339,null,4005.7583333333337,null,4700.8833333333341,null,5511.6916666666675,null,6310.95,null,7218.7583333333341,null,8111.1166666666677,null,9103.6333333333332,null,10075.65,null,11139.15,null,12177.883333333335,null,null,null,null,null,null,null,null,null,null,null,null,null,null,null,null,null,null,null,null,null,null,null,null,null,null,null,null,null,null,null,null,null,null,null,null,null,null,null,null,null,null,null,null,10000000000,{"$f":"BZ52+CA50+CB53","v":30000000000},{"$f":"(BZ52+CB53)/100*2500+CA50/100*0.4*2500/1.2","v":583333333333.33337},null,{"$f":"IF($AZ$17=10000000000,10000000000,IF('SOLAI T2D SPA'!$C$25<=G53,G53,10000000000))","v":10000000000},null,{"$f":"IF($AZ$17=10000000000,10000000000,IF('SOLAI T2D SPA'!$C$25<=I53,I53,10000000000))","v":10000000000},null,{"$f":"IF($AZ$17=10000000000,10000000000,IF('SOLAI T2D SPA'!$C$25<=K53,K53,10000000000))","v":10000000000},null,{"$f":"IF($AZ$17=10000000000,10000000000,IF('SOLAI T2D SPA'!$C$25<=M53,M53,10000000000))","v":10000000000},null,{"$f":"IF($AZ$17=10000000000,10000000000,IF('SOLAI T2D SPA'!$C$25<=O53,O53,10000000000))","v":10000000000},null,{"$f":"IF($AZ$17=10000000000,10000000000,IF('SOLAI T2D SPA'!$C$25<=Q53,Q53,10000000000))","v":10000000000},null,{"$f":"IF($AZ$17=10000000000,10000000000,IF('SOLAI T2D SPA'!$C$25<=S53,S53,10000000000))","v":10000000000},null,{"$f":"IF($AZ$17=10000000000,10000000000,IF('SOLAI T2D SPA'!$C$25<=U53,U53,10000000000))","v":10000000000},null,{"$f":"IF($AZ$17=10000000000,10000000000,IF('SOLAI T2D SPA'!$C$25<=W53,W53,10000000000))","v":10000000000},null,{"$f":"IF($AZ$17=10000000000,10000000000,IF('SOLAI T2D SPA'!$C$25<=Y53,Y53,10000000000))","v":10000000000},null,{"$f":"IF($AZ$17=10000000000,10000000000,IF('SOLAI T2D SPA'!$C$25<=AA53,AA53,10000000000))","v":10000000000},null,{"$f":"IF($AZ$17=10000000000,10000000000,IF('SOLAI T2D SPA'!$C$25<=AC53,AC53,10000000000))","v":10000000000},null,{"$f":"IF($AZ$17=10000000000,10000000000,IF('SOLAI T2D SPA'!$C$25<=AE53,AE53,10000000000))","v":10000000000},null,{"$f":"IF($AZ$17=10000000000,10000000000,IF('SOLAI T2D SPA'!$C$25<=AG53,AG53,10000000000))","v":10000000000},null,{"$f":"IF($AZ$17=10000000000,10000000000,IF('SOLAI T2D SPA'!$C$25<=AI53,AI53,10000000000))","v":10000000000}]
[4,16,4,{"$f":"A54+B54+C54","v":24},{"$f":"(A54+C54)/100*2500+B54/100*0.4*2500/1.2","v":333.33333333333337},null,1074.0250000000001,null,1671.65,null,2394.4583333333335,null,2720.4250000000002,null,3302.3333333333339,null,4005.7583333333337,null,4700.8833333333341,null,5511.6916666666675,null,6310.95,null,7218.7583333333341,null,8111.1166666666677,null,9103.6333333333332,null,10075.65,null,11139.15,null,12177.883333333335,null,null,null,null,null,null,null,null,null,null,null,null,null,null,null,null,null,null,null,null,null,null,null,null,null,null,null,null,null,null,null,null,null,null,null,null,null,null,null,null,null,null,{"$f":"AV18","v":10000000000},{"$f":"AW18","v":10000000000},10000000000,{"$f":"BZ54+CA54+CB54","v":30000000000},{"$f":"(BZ54+CB54)/100*2500+CA54/100*0.4*2500/1.2","v":583333333333.33337},null,{"$f":"IF($AZ$18=10000000000,10000000000,IF('SOLAI T2D SPA'!$C$25<=G54,G54,10000000000))","v":10000000000},null,{"$f":"IF($AZ$18=10000000000,10000000000,IF('SOLAI T2D SPA'!$C$25<=I54,I54,10000000000))","v":10000000000},null,{"$f":"IF($AZ$18=10000000000,10000000000,IF('SOLAI T2D SPA'!$C$25<=K54,K54,10000000000))","v":10000000000},null,{"$f":"IF($AZ$18=10000000000,10000000000,IF('SOLAI T2D SPA'!$C$25<=M54,M54,10000000000))","v":10000000000},null,{"$f":"IF($AZ$18=10000000000,10000000000,IF('SOLAI T2D SPA'!$C$25<=O54,O54,10000000000))","v":10000000000},null,{"$f":"IF($AZ$18=10000000000,10000000000,IF('SOLAI T2D SPA'!$C$25<=Q54,Q54,10000000000))","v":10000000000},null,{"$f":"IF($AZ$18=10000000000,10000000000,IF('SOLAI T2D SPA'!$C$25<=S54,S54,10000000000))","v":10000000000},null,{"$f":"IF($AZ$18=10000000000,10000000000,IF('SOLAI T2D SPA'!$C$25<=U54,U54,10000000000))","v":10000000000},null,{"$f":"IF($AZ$18=10000000000,10000000000,IF('SOLAI T2D SPA'!$C$25<=W54,W54,10000000000))","v":10000000000},null,{"$f":"IF($AZ$18=10000000000,10000000000,IF('SOLAI T2D SPA'!$C$25<=Y54,Y54,10000000000))","v":10000000000},null,{"$f":"IF($AZ$18=10000000000,10000000000,IF('SOLAI T2D SPA'!$C$25<=AA54,AA54,10000000000))","v":10000000000},null,{"$f":"IF($AZ$18=10000000000,10000000000,IF('SOLAI T2D SPA'!$C$25<=AC54,AC54,10000000000))","v":10000000000},null,{"$f":"IF($AZ$18=10000000000,10000000000,IF('SOLAI T2D SPA'!$C$25<=AE54,AE54,10000000000))","v":10000000000},null,{"$f":"IF($AZ$18=10000000000,10000000000,IF('SOLAI T2D SPA'!$C$25<=AG54,AG54,10000000000))","v":10000000000},null,{"$f":"IF($AZ$18=10000000000,10000000000,IF('SOLAI T2D SPA'!$C$25<=AI54,AI54,10000000000))","v":10000000000}]
[null,null,5,{"$f":"A54+B54+C55","v":25},{"$f":"(A54+C55)/100*2500+B54/100*0.4*2500/1.2","v":358.33333333333337},null,1123.0916666666667,null,1748.2583333333334,null,2504.9833333333336,null,2846.3833333333337,null,3456.1750000000002,null,4193.3,null,4922.541666666667,null,5772.9,null,6612.2333333333336,null,7565.9583333333339,null,8504.1749999999993,null,9549.1833333333343,null,10573.725,null,11695.5,null,12792.441666666668,null,null,null,null,null,null,null,null,null,null,null,null,null,null,null,null,null,null,null,null,null,null,null,null,null,null,null,null,null,null,null,null,null,null,null,null,null,null,null,null,null,null,null,null,10000000000,{"$f":"BZ54+CA54+CB55","v":30000000000},{"$f":"(BZ54+CB55)/100*2500+CA54/100*0.4*2500/1.2","v":583333333333.33337},null,{"$f":"IF($AZ$19=10000000000,10000000000,IF('SOLAI T2D SPA'!$C$25<=G55,G55,10000000000))","v":10000000000},null,{"$f":"IF($AZ$19=10000000000,10000000000,IF('SOLAI T2D SPA'!$C$25<=I55,I55,10000000000))","v":10000000000},null,{"$f":"IF($AZ$19=10000000000,10000000000,IF('SOLAI T2D SPA'!$C$25<=K55,K55,10000000000))","v":10000000000},null,{"$f":"IF($AZ$19=10000000000,10000000000,IF('SOLAI T2D SPA'!$C$25<=M55,M55,10000000000))","v":10000000000},null,{"$f":"IF($AZ$19=10000000000,10000000000,IF('SOLAI T2D SPA'!$C$25<=O55,O55,10000000000))","v":10000000000},null,{"$f":"IF($AZ$19=10000000000,10000000000,IF('SOLAI T2D SPA'!$C$25<=Q55,Q55,10000000000))","v":10000000000},null,{"$f":"IF($AZ$19=10000000000,10000000000,IF('SOLAI T2D SPA'!$C$25<=S55,S55,10000000000))","v":10000000000},null,{"$f":"IF($AZ$19=10000000000,10000000000,IF('SOLAI T2D SPA'!$C$25<=U55,U55,10000000000))","v":10000000000},null,{"$f":"IF($AZ$19=10000000000,10000000000,IF('SOLAI T2D SPA'!$C$25<=W55,W55,10000000000))","v":10000000000},null,{"$f":"IF($AZ$19=10000000000,10000000000,IF('SOLAI T2D SPA'!$C$25<=Y55,Y55,10000000000))","v":10000000000},null,{"$f":"IF($AZ$19=10000000000,10000000000,IF('SOLAI T2D SPA'!$C$25<=AA55,AA55,10000000000))","v":10000000000},null,{"$f":"IF($AZ$19=10000000000,10000000000,IF('SOLAI T2D SPA'!$C$25<=AC55,AC55,10000000000))","v":10000000000},null,{"$f":"IF($AZ$19=10000000000,10000000000,IF('SOLAI T2D SPA'!$C$25<=AE55,AE55,10000000000))","v":10000000000},null,{"$f":"IF($AZ$19=10000000000,10000000000,IF('SOLAI T2D SPA'!$C$25<=AG55,AG55,10000000000))","v":10000000000},null,{"$f":"IF($AZ$19=10000000000,10000000000,IF('SOLAI T2D SPA'!$C$25<=AI55,AI55,10000000000))","v":10000000000}]
[5,null,4,{"$f":"A56+B54+C56","v":25},{"$f":"(A56+C56)/100*2500+B54/100*0.4*2500/1.2","v":358.33333333333337},null,1123.0916666666667,null,1748.2583333333334,null,2504.9833333333336,null,2846.3833333333337,null,3456.1750000000002,null,4193.3,null,4922.541666666667,null,5772.9,null,6612.2333333333336,null,7565.9583333333339,null,8504.1749999999993,null,9549.1833333333343,null,10573.725,null,11695.5,null,12792.441666666668,null,null,null,null,null,null,null,null,null,null,null,null,null,null,null,null,null,null,null,null,null,null,null,null,null,null,null,null,null,null,null,null,null,null,null,null,null,null,null,null,null,null,{"$f":"AV20","v":10000000000},null,10000000000,{"$f":"BZ56+CA54+CB56","v":30000000000},{"$f":"(BZ56+CB56)/100*2500+CA54/100*0.4*2500/1.2","v":583333333333.33337},null,{"$f":"IF($AZ$20=10000000000,10000000000,IF('SOLAI T2D SPA'!$C$25<=G56,G56,10000000000))","v":10000000000},null,{"$f":"IF($AZ$20=10000000000,10000000000,IF('SOLAI T2D SPA'!$C$25<=I56,I56,10000000000))","v":10000000000},null,{"$f":"IF($AZ$20=10000000000,10000000000,IF('SOLAI T2D SPA'!$C$25<=K56,K56,10000000000))","v":10000000000},null,{"$f":"IF($AZ$20=10000000000,10000000000,IF('SOLAI T2D SPA'!$C$25<=M56,M56,10000000000))","v":10000000000},null,{"$f":"IF($AZ$20=10000000000,10000000000,IF('SOLAI T2D SPA'!$C$25<=O56,O56,10000000000))","v":10000000000},null,{"$f":"IF($AZ$20=10000000000,10000000000,IF('SOLAI T2D SPA'!$C$25<=Q56,Q56,10000000000))","v":10000000000},null,{"$f":"IF($AZ$20=10000000000,10000000000,IF('SOLAI T2D SPA'!$C$25<=S56,S56,10000000000))","v":10000000000},null,{"$f":"IF($AZ$20=10000000000,10000000000,IF('SOLAI T2D SPA'!$C$25<=U56,U56,10000000000))","v":10000000000},null,{"$f":"IF($AZ$20=10000000000,10000000000,IF('SOLAI T2D SPA'!$C$25<=W56,W56,10000000000))","v":10000000000},null,{"$f":"IF($AZ$20=10000000000,10000000000,IF('SOLAI T2D SPA'!$C$25<=Y56,Y56,10000000000))","v":10000000000},null,{"$f":"IF($AZ$20=10000000000,10000000000,IF('SOLAI T2D SPA'!$C$25<=AA56,AA56,10000000000))","v":10000000000},null,{"$f":"IF($AZ$20=10000000000,10000000000,IF('SOLAI T2D SPA'!$C$25<=AC56,AC56,10000000000))","v":10000000000},null,{"$f":"IF($AZ$20=10000000000,10000000000,IF('SOLAI T2D SPA'!$C$25<=AE56,AE56,10000000000))","v":10000000000},null,{"$f":"IF($AZ$20=10000000000,10000000000,IF('SOLAI T2D SPA'!$C$25<=AG56,AG56,10000000000))","v":10000000000},null,{"$f":"IF($AZ$20=10000000000,10000000000,IF('SOLAI T2D SPA'!$C$25<=AI56,AI56,10000000000))","v":10000000000}]
[null,null,5,{"$f":"A56+B54+C57","v":26},{"$f":"(A56+C57)/100*2500+B54/100*0.4*2500/1.2","v":383.33333333333337},null,1172.0583333333334,null,1824.9583333333335,null,2615.6750000000002,null,2972.2166666666667,null,3609.666666666667,null,4380.8833333333341,null,5143.3666666666668,null,6034.4583333333339,null,6913.3416666666672,null,7913.15,null,8897.4583333333339,null,9994.2833333333328,null,11071.716666666667,null,12252.208333333336,null,13407.9,null,null,null,null,null,null,null,null,null,null,null,null,null,null,null,null,null,null,null,null,null,null,null,null,null,null,null,null,null,null,null,null,null,null,null,null,null,null,null,null,null,null,null,null,10000000000,{"$f":"BZ56+CA54+CB57","v":30000000000},{"$f":"(BZ56+CB57)/100*2500+CA54/100*0.4*2500/1.2","v":583333333333.33337},null,{"$f":"IF($AZ$21=10000000000,10000000000,IF('SOLAI T2D SPA'!$C$25<=G57,G57,10000000000))","v":10000000000},null,{"$f":"IF($AZ$21=10000000000,10000000000,IF('SOLAI T2D SPA'!$C$25<=I57,I57,10000000000))","v":10000000000},null,{"$f":"IF($AZ$21=10000000000,10000000000,IF('SOLAI T2D SPA'!$C$25<=K57,K57,10000000000))","v":10000000000},null,{"$f":"IF($AZ$21=10000000000,10000000000,IF('SOLAI T2D SPA'!$C$25<=M57,M57,10000000000))","v":10000000000},null,{"$f":"IF($AZ$21=10000000000,10000000000,IF('SOLAI T2D SPA'!$C$25<=O57,O57,10000000000))","v":10000000000},null,{"$f":"IF($AZ$21=10000000000,10000000000,IF('SOLAI T2D SPA'!$C$25<=Q57,Q57,10000000000))","v":10000000000},null,{"$f":"IF($AZ$21=10000000000,10000000000,IF('SOLAI T2D SPA'!$C$25<=S57,S57,10000000000))","v":10000000000},null,{"$f":"IF($AZ$21=10000000000,10000000000,IF('SOLAI T2D SPA'!$C$25<=U57,U57,10000000000))","v":10000000000},null,{"$f":"IF($AZ$21=10000000000,10000000000,IF('SOLAI T2D SPA'!$C$25<=W57,W57,10000000000))","v":10000000000},null,{"$f":"IF($AZ$21=10000000000,10000000000,IF('SOLAI T2D SPA'!$C$25<=Y57,Y57,10000000000))","v":10000000000},null,{"$f":"IF($AZ$21=10000000000,10000000000,IF('SOLAI T2D SPA'!$C$25<=AA57,AA57,10000000000))","v":10000000000},null,{"$f":"IF($AZ$21=10000000000,10000000000,IF('SOLAI T2D SPA'!$C$25<=AC57,AC57,10000000000))","v":10000000000},null,{"$f":"IF($AZ$21=10000000000,10000000000,IF('SOLAI T2D SPA'!$C$25<=AE57,AE57,10000000000))","v":10000000000},null,{"$f":"IF($AZ$21=10000000000,10000000000,IF('SOLAI T2D SPA'!$C$25<=AG57,AG57,10000000000))","v":10000000000},null,{"$f":"IF($AZ$21=10000000000,10000000000,IF('SOLAI T2D SPA'!$C$25<=AI57,AI57,10000000000))","v":10000000000}]
[4,18,4,{"$f":"A58+B58+C58","v":26},{"$f":"(A58+C58)/100*2500+B58/100*0.4*2500/1.2","v":350},null,1172.0583333333334,null,1824.9583333333335,null,2615.6750000000002,null,2972.2166666666667,null,3609.666666666667,null,4380.8833333333341,null,5143.3666666666668,null,6034.4583333333339,null,6913.3416666666672,null,7913.15,null,8897.4583333333339,null,9994.2833333333328,null,11071.716666666667,null,12252.208333333336,null,13407.9,null,null,null,null,null,null,null,null,null,null,null,null,null,null,null,null,null,null,null,null,null,null,null,null,null,null,null,null,null,null,null,null,null,null,null,null,null,null,null,null,null,null,{"$f":"AV22","v":10000000000},{"$f":"AW22","v":10000000000},10000000000,{"$f":"BZ58+CA58+CB58","v":30000000000},{"$f":"(BZ58+CB58)/100*2500+CA58/100*0.4*2500/1.2","v":583333333333.33337},null,{"$f":"IF($AZ$22=10000000000,10000000000,IF('SOLAI T2D SPA'!$C$25<=G58,G58,10000000000))","v":10000000000},null,{"$f":"IF($AZ$22=10000000000,10000000000,IF('SOLAI T2D SPA'!$C$25<=I58,I58,10000000000))","v":10000000000},null,{"$f":"IF($AZ$22=10000000000,10000000000,IF('SOLAI T2D SPA'!$C$25<=K58,K58,10000000000))","v":10000000000},null,{"$f":"IF($AZ$22=10000000000,10000000000,IF('SOLAI T2D SPA'!$C$25<=M58,M58,10000000000))","v":10000000000},null,{"$f":"IF($AZ$22=10000000000,10000000000,IF('SOLAI T2D SPA'!$C$25<=O58,O58,10000000000))","v":10000000000},null,{"$f":"IF($AZ$22=10000000000,10000000000,IF('SOLAI T2D SPA'!$C$25<=Q58,Q58,10000000000))","v":10000000000},null,{"$f":"IF($AZ$22=10000000000,10000000000,IF('SOLAI T2D SPA'!$C$25<=S58,S58,10000000000))","v":10000000000},null,{"$f":"IF($AZ$22=10000000000,10000000000,IF('SOLAI T2D SPA'!$C$25<=U58,U58,10000000000))","v":10000000000},null,{"$f":"IF($AZ$22=10000000000,10000000000,IF('SOLAI T2D SPA'!$C$25<=W58,W58,10000000000))","v":10000000000},null,{"$f":"IF($AZ$22=10000000000,10000000000,IF('SOLAI T2D SPA'!$C$25<=Y58,Y58,10000000000))","v":10000000000},null,{"$f":"IF($AZ$22=10000000000,10000000000,IF('SOLAI T2D SPA'!$C$25<=AA58,AA58,10000000000))","v":10000000000},null,{"$f":"IF($AZ$22=10000000000,10000000000,IF('SOLAI T2D SPA'!$C$25<=AC58,AC58,10000000000))","v":10000000000},null,{"$f":"IF($AZ$22=10000000000,10000000000,IF('SOLAI T2D SPA'!$C$25<=AE58,AE58,10000000000))","v":10000000000},null,{"$f":"IF($AZ$22=10000000000,10000000000,IF('SOLAI T2D SPA'!$C$25<=AG58,AG58,10000000000))","v":10000000000},null,{"$f":"IF($AZ$22=10000000000,10000000000,IF('SOLAI T2D SPA'!$C$25<=AI58,AI58,10000000000))","v":10000000000}]
[null,null,5,{"$f":"A58+B58+C59","v":27},{"$f":"(A58+C59)/100*2500+B58/100*0.4*2500/1.2","v":375},null,1221.0666666666666,null,1901.5166666666669,null,2725.9083333333338,null,3098.2249999999999,null,3763.4083333333338,null,4568.4416666666666,null,5364.7333333333336,null,6295.5583333333334,null,7214.8249999999998,null,8260.15,null,9290.7416666666668,null,10439.65,null,11569.183333333334,null,12808.733333333335,null,14022.066666666668,null,null,null,null,null,null,null,null,null,null,null,null,null,null,null,null,null,null,null,null,null,null,null,null,null,null,null,null,null,null,null,null,null,null,null,null,null,null,null,null,null,null,null,null,10000000000,{"$f":"BZ58+CA58+CB59","v":30000000000},{"$f":"(BZ58+CB59)/100*2500+CA58/100*0.4*2500/1.2","v":583333333333.33337},null,{"$f":"IF($AZ$23=10000000000,10000000000,IF('SOLAI T2D SPA'!$C$25<=G59,G59,10000000000))","v":10000000000},null,{"$f":"IF($AZ$23=10000000000,10000000000,IF('SOLAI T2D SPA'!$C$25<=I59,I59,10000000000))","v":10000000000},null,{"$f":"IF($AZ$23=10000000000,10000000000,IF('SOLAI T2D SPA'!$C$25<=K59,K59,10000000000))","v":10000000000},null,{"$f":"IF($AZ$23=10000000000,10000000000,IF('SOLAI T2D SPA'!$C$25<=M59,M59,10000000000))","v":10000000000},null,{"$f":"IF($AZ$23=10000000000,10000000000,IF('SOLAI T2D SPA'!$C$25<=O59,O59,10000000000))","v":10000000000},null,{"$f":"IF($AZ$23=10000000000,10000000000,IF('SOLAI T2D SPA'!$C$25<=Q59,Q59,10000000000))","v":10000000000},null,{"$f":"IF($AZ$23=10000000000,10000000000,IF('SOLAI T2D SPA'!$C$25<=S59,S59,10000000000))","v":10000000000},null,{"$f":"IF($AZ$23=10000000000,10000000000,IF('SOLAI T2D SPA'!$C$25<=U59,U59,10000000000))","v":10000000000},null,{"$f":"IF($AZ$23=10000000000,10000000000,IF('SOLAI T2D SPA'!$C$25<=W59,W59,10000000000))","v":10000000000},null,{"$f":"IF($AZ$23=10000000000,10000000000,IF('SOLAI T2D SPA'!$C$25<=Y59,Y59,10000000000))","v":10000000000},null,{"$f":"IF($AZ$23=10000000000,10000000000,IF('SOLAI T2D SPA'!$C$25<=AA59,AA59,10000000000))","v":10000000000},null,{"$f":"IF($AZ$23=10000000000,10000000000,IF('SOLAI T2D SPA'!$C$25<=AC59,AC59,10000000000))","v":10000000000},null,{"$f":"IF($AZ$23=10000000000,10000000000,IF('SOLAI T2D SPA'!$C$25<=AE59,AE59,10000000000))","v":10000000000},null,{"$f":"IF($AZ$23=10000000000,10000000000,IF('SOLAI T2D SPA'!$C$25<=AG59,AG59,10000000000))","v":10000000000},null,{"$f":"IF($AZ$23=10000000000,10000000000,IF('SOLAI T2D SPA'!$C$25<=AI59,AI59,10000000000))","v":10000000000}]
[5,null,4,{"$f":"A60+B58+C60","v":27},{"$f":"(A60+C60)/100*2500+B58/100*0.4*2500/1.2","v":375},null,1221.0666666666666,null,1901.5166666666669,null,2725.9083333333338,null,3098.2249999999999,null,3763.4083333333338,null,4568.4416666666666,null,5364.7333333333336,null,6295.5583333333334,null,7214.8249999999998,null,8260.15,null,9290.7416666666668,null,10439.65,null,11569.183333333334,null,12808.733333333335,null,14022.066666666668,null,null,null,null,null,null,null,null,null,null,null,null,null,null,null,null,null,null,null,null,null,null,null,null,null,null,null,null,null,null,null,null,null,null,null,null,null,null,null,null,null,null,{"$f":"AV24","v":10000000000},null,10000000000,{"$f":"BZ60+CA58+CB60","v":30000000000},{"$f":"(BZ60+CB60)/100*2500+CA58/100*0.4*2500/1.2","v":583333333333.33337},null,{"$f":"IF($AZ$24=10000000000,10000000000,IF('SOLAI T2D SPA'!$C$25<=G60,G60,10000000000))","v":10000000000},null,{"$f":"IF($AZ$24=10000000000,10000000000,IF('SOLAI T2D SPA'!$C$25<=I60,I60,10000000000))","v":10000000000},null,{"$f":"IF($AZ$24=10000000000,10000000000,IF('SOLAI T2D SPA'!$C$25<=K60,K60,10000000000))","v":10000000000},null,{"$f":"IF($AZ$24=10000000000,10000000000,IF('SOLAI T2D SPA'!$C$25<=M60,M60,10000000000))","v":10000000000},null,{"$f":"IF($AZ$24=10000000000,10000000000,IF('SOLAI T2D SPA'!$C$25<=O60,O60,10000000000))","v":10000000000},null,{"$f":"IF($AZ$24=10000000000,10000000000,IF('SOLAI T2D SPA'!$C$25<=Q60,Q60,10000000000))","v":10000000000},null,{"$f":"IF($AZ$24=10000000000,10000000000,IF('SOLAI T2D SPA'!$C$25<=S60,S60,10000000000))","v":10000000000},null,{"$f":"IF($AZ$24=10000000000,10000000000,IF('SOLAI T2D SPA'!$C$25<=U60,U60,10000000000))","v":10000000000},null,{"$f":"IF($AZ$24=10000000000,10000000000,IF('SOLAI T2D SPA'!$C$25<=W60,W60,10000000000))","v":10000000000},null,{"$f":"IF($AZ$24=10000000000,10000000000,IF('SOLAI T2D SPA'!$C$25<=Y60,Y60,10000000000))","v":10000000000},null,{"$f":"IF($AZ$24=10000000000,10000000000,IF('SOLAI T2D SPA'!$C$25<=AA60,AA60,10000000000))","v":10000000000},null,{"$f":"IF($AZ$24=10000000000,10000000000,IF('SOLAI T2D SPA'!$C$25<=AC60,AC60,10000000000))","v":10000000000},null,{"$f":"IF($AZ$24=10000000000,10000000000,IF('SOLAI T2D SPA'!$C$25<=AE60,AE60,10000000000))","v":10000000000},null,{"$f":"IF($AZ$24=10000000000,10000000000,IF('SOLAI T2D SPA'!$C$25<=AG60,AG60,10000000000))","v":10000000000},null,{"$f":"IF($AZ$24=10000000000,10000000000,IF('SOLAI T2D SPA'!$C$25<=AI60,AI60,10000000000))","v":10000000000}]
[null,null,5,{"$f":"A60+B58+C61","v":28},{"$f":"(A60+C61)/100*2500+B58/100*0.4*2500/1.2","v":400},null,1270.1083333333333,null,1978.15,null,2836.5666666666671,null,3224.0583333333338,null,3917.0333333333338,null,4755.9333333333334,null,5586.1,null,6556.7666666666673,null,7515.8416666666672,null,8607.6083333333336,null,9684.7833333333328,null,10886.216666666667,null,12066.916666666668,null,13364.55,null,14635.85,null,null,null,null,null,null,null,null,null,null,null,null,null,null,null,null,null,null,null,null,null,null,null,null,null,null,null,null,null,null,null,null,null,null,null,null,null,null,null,null,null,null,null,null,10000000000,{"$f":"BZ60+CA58+CB61","v":30000000000},{"$f":"(BZ60+CB61)/100*2500+CA58/100*0.4*2500/1.2","v":583333333333.33337},null,{"$f":"IF($AZ$25=10000000000,10000000000,IF('SOLAI T2D SPA'!$C$25<=G61,G61,10000000000))","v":10000000000},null,{"$f":"IF($AZ$25=10000000000,10000000000,IF('SOLAI T2D SPA'!$C$25<=I61,I61,10000000000))","v":10000000000},null,{"$f":"IF($AZ$25=10000000000,10000000000,IF('SOLAI T2D SPA'!$C$25<=K61,K61,10000000000))","v":10000000000},null,{"$f":"IF($AZ$25=10000000000,10000000000,IF('SOLAI T2D SPA'!$C$25<=M61,M61,10000000000))","v":10000000000},null,{"$f":"IF($AZ$25=10000000000,10000000000,IF('SOLAI T2D SPA'!$C$25<=O61,O61,10000000000))","v":10000000000},null,{"$f":"IF($AZ$25=10000000000,10000000000,IF('SOLAI T2D SPA'!$C$25<=Q61,Q61,10000000000))","v":10000000000},null,{"$f":"IF($AZ$25=10000000000,10000000000,IF('SOLAI T2D SPA'!$C$25<=S61,S61,10000000000))","v":10000000000},null,{"$f":"IF($AZ$25=10000000000,10000000000,IF('SOLAI T2D SPA'!$C$25<=U61,U61,10000000000))","v":10000000000},null,{"$f":"IF($AZ$25=10000000000,10000000000,IF('SOLAI T2D SPA'!$C$25<=W61,W61,10000000000))","v":10000000000},null,{"$f":"IF($AZ$25=10000000000,10000000000,IF('SOLAI T2D SPA'!$C$25<=Y61,Y61,10000000000))","v":10000000000},null,{"$f":"IF($AZ$25=10000000000,10000000000,IF('SOLAI T2D SPA'!$C$25<=AA61,AA61,10000000000))","v":10000000000},null,{"$f":"IF($AZ$25=10000000000,10000000000,IF('SOLAI T2D SPA'!$C$25<=AC61,AC61,10000000000))","v":10000000000},null,{"$f":"IF($AZ$25=10000000000,10000000000,IF('SOLAI T2D SPA'!$C$25<=AE61,AE61,10000000000))","v":10000000000},null,{"$f":"IF($AZ$25=10000000000,10000000000,IF('SOLAI T2D SPA'!$C$25<=AG61,AG61,10000000000))","v":10000000000},null,{"$f":"IF($AZ$25=10000000000,10000000000,IF('SOLAI T2D SPA'!$C$25<=AI61,AI61,10000000000))","v":10000000000}]
[4,20,4,{"$f":"A62+B62+C62","v":28},{"$f":"(A62+C62)/100*2500+B62/100*0.4*2500/1.2","v":366.66666666666669},null,1270.1083333333333,null,1978.15,null,2836.5666666666671,null,3224.0583333333338,null,3917.0333333333338,null,4755.9333333333334,null,5586.1,null,6556.7666666666673,null,7515.8416666666672,null,8607.6083333333336,null,9684.7833333333328,null,10886.216666666667,null,12066.916666666668,null,13364.55,null,14635.85,null,null,null,null,null,null,null,null,null,null,null,null,null,null,null,null,null,null,null,null,null,null,null,null,null,null,null,null,null,null,null,null,null,null,null,null,null,null,null,null,null,null,{"$f":"AV26","v":10000000000},{"$f":"AW26","v":10000000000},10000000000,{"$f":"BZ62+CA62+CB62","v":30000000000},{"$f":"(BZ62+CB62)/100*2500+CA62/100*0.4*2500/1.2","v":583333333333.33337},null,{"$f":"IF($AZ$26=10000000000,10000000000,IF('SOLAI T2D SPA'!$C$25<=G62,G62,10000000000))","v":10000000000},null,{"$f":"IF($AZ$26=10000000000,10000000000,IF('SOLAI T2D SPA'!$C$25<=I62,I62,10000000000))","v":10000000000},null,{"$f":"IF($AZ$26=10000000000,10000000000,IF('SOLAI T2D SPA'!$C$25<=K62,K62,10000000000))","v":10000000000},null,{"$f":"IF($AZ$26=10000000000,10000000000,IF('SOLAI T2D SPA'!$C$25<=M62,M62,10000000000))","v":10000000000},null,{"$f":"IF($AZ$26=10000000000,10000000000,IF('SOLAI T2D SPA'!$C$25<=O62,O62,10000000000))","v":10000000000},null,{"$f":"IF($AZ$26=10000000000,10000000000,IF('SOLAI T2D SPA'!$C$25<=Q62,Q62,10000000000))","v":10000000000},null,{"$f":"IF($AZ$26=10000000000,10000000000,IF('SOLAI T2D SPA'!$C$25<=S62,S62,10000000000))","v":10000000000},null,{"$f":"IF($AZ$26=10000000000,10000000000,IF('SOLAI T2D SPA'!$C$25<=U62,U62,10000000000))","v":10000000000},null,{"$f":"IF($AZ$26=10000000000,10000000000,IF('SOLAI T2D SPA'!$C$25<=W62,W62,10000000000))","v":10000000000},null,{"$f":"IF($AZ$26=10000000000,10000000000,IF('SOLAI T2D SPA'!$C$25<=Y62,Y62,10000000000))","v":10000000000},null,{"$f":"IF($AZ$26=10000000000,10000000000,IF('SOLAI T2D SPA'!$C$25<=AA62,AA62,10000000000))","v":10000000000},null,{"$f":"IF($AZ$26=10000000000,10000000000,IF('SOLAI T2D SPA'!$C$25<=AC62,AC62,10000000000))","v":10000000000},null,{"$f":"IF($AZ$26=10000000000,10000000000,IF('SOLAI T2D SPA'!$C$25<=AE62,AE62,10000000000))","v":10000000000},null,{"$f":"IF($AZ$26=10000000000,10000000000,IF('SOLAI T2D SPA'!$C$25<=AG62,AG62,10000000000))","v":10000000000},null,{"$f":"IF($AZ$26=10000000000,10000000000,IF('SOLAI T2D SPA'!$C$25<=AI62,AI62,10000000000))","v":10000000000}]
[null,null,5,{"$f":"A62+B62+C63","v":29},{"$f":"(A62+C63)/100*2500+B62/100*0.4*2500/1.2","v":391.66666666666669},null,1319.175,null,2054.8416666666667,null,2947.0333333333338,null,3349.6083333333336,null,4070.5833333333339,null,4943.3166666666666,null,5807.4083333333338,null,6818.0083333333341,null,7817.0083333333341,null,8955.4333333333343,null,10077.424999999999,null,11331.358333333335,null,12565.958333333336,null,13920.716666666667,null,15252.15,null,null,null,null,null,null,null,null,null,null,null,null,null,null,null,null,null,null,null,null,null,null,null,null,null,null,null,null,null,null,null,null,null,null,null,null,null,null,null,null,null,null,null,null,10000000000,{"$f":"BZ62+CA62+CB63","v":30000000000},{"$f":"(BZ62+CB63)/100*2500+CA62/100*0.4*2500/1.2","v":583333333333.33337},null,{"$f":"IF($AZ$27=10000000000,10000000000,IF('SOLAI T2D SPA'!$C$25<=G63,G63,10000000000))","v":10000000000},null,{"$f":"IF($AZ$27=10000000000,10000000000,IF('SOLAI T2D SPA'!$C$25<=I63,I63,10000000000))","v":10000000000},null,{"$f":"IF($AZ$27=10000000000,10000000000,IF('SOLAI T2D SPA'!$C$25<=K63,K63,10000000000))","v":10000000000},null,{"$f":"IF($AZ$27=10000000000,10000000000,IF('SOLAI T2D SPA'!$C$25<=M63,M63,10000000000))","v":10000000000},null,{"$f":"IF($AZ$27=10000000000,10000000000,IF('SOLAI T2D SPA'!$C$25<=O63,O63,10000000000))","v":10000000000},null,{"$f":"IF($AZ$27=10000000000,10000000000,IF('SOLAI T2D SPA'!$C$25<=Q63,Q63,10000000000))","v":10000000000},null,{"$f":"IF($AZ$27=10000000000,10000000000,IF('SOLAI T2D SPA'!$C$25<=S63,S63,10000000000))","v":10000000000},null,{"$f":"IF($AZ$27=10000000000,10000000000,IF('SOLAI T2D SPA'!$C$25<=U63,U63,10000000000))","v":10000000000},null,{"$f":"IF($AZ$27=10000000000,10000000000,IF('SOLAI T2D SPA'!$C$25<=W63,W63,10000000000))","v":10000000000},null,{"$f":"IF($AZ$27=10000000000,10000000000,IF('SOLAI T2D SPA'!$C$25<=Y63,Y63,10000000000))","v":10000000000},null,{"$f":"IF($AZ$27=10000000000,10000000000,IF('SOLAI T2D SPA'!$C$25<=AA63,AA63,10000000000))","v":10000000000},null,{"$f":"IF($AZ$27=10000000000,10000000000,IF('SOLAI T2D SPA'!$C$25<=AC63,AC63,10000000000))","v":10000000000},null,{"$f":"IF($AZ$27=10000000000,10000000000,IF('SOLAI T2D SPA'!$C$25<=AE63,AE63,10000000000))","v":10000000000},null,{"$f":"IF($AZ$27=10000000000,10000000000,IF('SOLAI T2D SPA'!$C$25<=AG63,AG63,10000000000))","v":10000000000},null,{"$f":"IF($AZ$27=10000000000,10000000000,IF('SOLAI T2D SPA'!$C$25<=AI63,AI63,10000000000))","v":10000000000}]
[5,null,4,{"$f":"A64+B62+C64","v":29},{"$f":"(A64+C64)/100*2500+B62/100*0.4*2500/1.2","v":391.66666666666669},null,1319.175,null,2054.8416666666667,null,2947.0333333333338,null,3349.6083333333336,null,4070.5833333333339,null,4943.3166666666666,null,5807.4083333333338,null,6818.0083333333341,null,7817.0083333333341,null,8955.4333333333343,null,10077.424999999999,null,11331.358333333335,null,12565.958333333336,null,13920.716666666667,null,15252.15,null,null,null,null,null,null,null,null,null,null,null,null,null,null,null,null,null,null,null,null,null,null,null,null,null,null,null,null,null,null,null,null,null,null,null,null,null,null,null,null,null,null,{"$f":"AV28","v":10000000000},null,10000000000,{"$f":"BZ64+CA62+CB64","v":30000000000},{"$f":"(BZ64+CB64)/100*2500+CA62/100*0.4*2500/1.2","v":583333333333.33337},null,{"$f":"IF($AZ$28=10000000000,10000000000,IF('SOLAI T2D SPA'!$C$25<=G64,G64,10000000000))","v":10000000000},null,{"$f":"IF($AZ$28=10000000000,10000000000,IF('SOLAI T2D SPA'!$C$25<=I64,I64,10000000000))","v":10000000000},null,{"$f":"IF($AZ$28=10000000000,10000000000,IF('SOLAI T2D SPA'!$C$25<=K64,K64,10000000000))","v":10000000000},null,{"$f":"IF($AZ$28=10000000000,10000000000,IF('SOLAI T2D SPA'!$C$25<=M64,M64,10000000000))","v":10000000000},null,{"$f":"IF($AZ$28=10000000000,10000000000,IF('SOLAI T2D SPA'!$C$25<=O64,O64,10000000000))","v":10000000000},null,{"$f":"IF($AZ$28=10000000000,10000000000,IF('SOLAI T2D SPA'!$C$25<=Q64,Q64,10000000000))","v":10000000000},null,{"$f":"IF($AZ$28=10000000000,10000000000,IF('SOLAI T2D SPA'!$C$25<=S64,S64,10000000000))","v":10000000000},null,{"$f":"IF($AZ$28=10000000000,10000000000,IF('SOLAI T2D SPA'!$C$25<=U64,U64,10000000000))","v":10000000000},null,{"$f":"IF($AZ$28=10000000000,10000000000,IF('SOLAI T2D SPA'!$C$25<=W64,W64,10000000000))","v":10000000000},null,{"$f":"IF($AZ$28=10000000000,10000000000,IF('SOLAI T2D SPA'!$C$25<=Y64,Y64,10000000000))","v":10000000000},null,{"$f":"IF($AZ$28=10000000000,10000000000,IF('SOLAI T2D SPA'!$C$25<=AA64,AA64,10000000000))","v":10000000000},null,{"$f":"IF($AZ$28=10000000000,10000000000,IF('SOLAI T2D SPA'!$C$25<=AC64,AC64,10000000000))","v":10000000000},null,{"$f":"IF($AZ$28=10000000000,10000000000,IF('SOLAI T2D SPA'!$C$25<=AE64,AE64,10000000000))","v":10000000000},null,{"$f":"IF($AZ$28=10000000000,10000000000,IF('SOLAI T2D SPA'!$C$25<=AG64,AG64,10000000000))","v":10000000000},null,{"$f":"IF($AZ$28=10000000000,10000000000,IF('SOLAI T2D SPA'!$C$25<=AI64,AI64,10000000000))","v":10000000000}]
[null,null,5,{"$f":"A64+B62+C65","v":30},{"$f":"(A64+C65)/100*2500+B62/100*0.4*2500/1.2","v":416.66666666666669},null,1368.2666666666669,null,2131.5833333333335,null,3057.5749999999998,null,3475.541666666667,null,4224.3083333333334,null,5130.5249999999996,null,6028.5916666666672,null,7079.1916666666675,null,8118.2333333333336,null,9302.6,null,10471.5,null,11777.233333333335,null,13063.475,null,14476.891666666668,null,15865.35,null,null,null,null,null,null,null,null,null,null,null,null,null,null,null,null,null,null,null,null,null,null,null,null,null,null,null,null,null,null,null,null,null,null,null,null,null,null,null,null,null,null,null,null,10000000000,{"$f":"BZ64+CA62+CB65","v":30000000000},{"$f":"(BZ64+CB65)/100*2500+CA62/100*0.4*2500/1.2","v":583333333333.33337},null,{"$f":"IF($AZ$29=10000000000,10000000000,IF('SOLAI T2D SPA'!$C$25<=G65,G65,10000000000))","v":10000000000},null,{"$f":"IF($AZ$29=10000000000,10000000000,IF('SOLAI T2D SPA'!$C$25<=I65,I65,10000000000))","v":10000000000},null,{"$f":"IF($AZ$29=10000000000,10000000000,IF('SOLAI T2D SPA'!$C$25<=K65,K65,10000000000))","v":10000000000},null,{"$f":"IF($AZ$29=10000000000,10000000000,IF('SOLAI T2D SPA'!$C$25<=M65,M65,10000000000))","v":10000000000},null,{"$f":"IF($AZ$29=10000000000,10000000000,IF('SOLAI T2D SPA'!$C$25<=O65,O65,10000000000))","v":10000000000},null,{"$f":"IF($AZ$29=10000000000,10000000000,IF('SOLAI T2D SPA'!$C$25<=Q65,Q65,10000000000))","v":10000000000},null,{"$f":"IF($AZ$29=10000000000,10000000000,IF('SOLAI T2D SPA'!$C$25<=S65,S65,10000000000))","v":10000000000},null,{"$f":"IF($AZ$29=10000000000,10000000000,IF('SOLAI T2D SPA'!$C$25<=U65,U65,10000000000))","v":10000000000},null,{"$f":"IF($AZ$29=10000000000,10000000000,IF('SOLAI T2D SPA'!$C$25<=W65,W65,10000000000))","v":10000000000},null,{"$f":"IF($AZ$29=10000000000,10000000000,IF('SOLAI T2D SPA'!$C$25<=Y65,Y65,10000000000))","v":10000000000},null,{"$f":"IF($AZ$29=10000000000,10000000000,IF('SOLAI T2D SPA'!$C$25<=AA65,AA65,10000000000))","v":10000000000},null,{"$f":"IF($AZ$29=10000000000,10000000000,IF('SOLAI T2D SPA'!$C$25<=AC65,AC65,10000000000))","v":10000000000},null,{"$f":"IF($AZ$29=10000000000,10000000000,IF('SOLAI T2D SPA'!$C$25<=AE65,AE65,10000000000))","v":10000000000},null,{"$f":"IF($AZ$29=10000000000,10000000000,IF('SOLAI T2D SPA'!$C$25<=AG65,AG65,10000000000))","v":10000000000},null,{"$f":"IF($AZ$29=10000000000,10000000000,IF('SOLAI T2D SPA'!$C$25<=AI65,AI65,10000000000))","v":10000000000}]
[4,22,4,{"$f":"A66+B66+C66","v":30},{"$f":"(A66+C66)/100*2500+B66/100*0.4*2500/1.2","v":383.33333333333337},null,1368.2666666666669,null,2131.5833333333335,null,3057.5749999999998,null,3475.541666666667,null,4224.3083333333334,null,5130.5249999999996,null,6028.5916666666672,null,7079.1916666666675,null,8118.2333333333336,null,9302.6,null,10471.5,null,11777.233333333335,null,13063.475,null,14476.891666666668,null,15865.35,null,null,null,null,null,null,null,null,null,null,null,null,null,null,null,null,null,null,null,null,null,null,null,null,null,null,null,null,null,null,null,null,null,null,null,null,null,null,null,null,null,null,{"$f":"AV30","v":10000000000},{"$f":"AW30","v":10000000000},10000000000,{"$f":"BZ66+CA66+CB66","v":30000000000},{"$f":"(BZ66+CB66)/100*2500+CA66/100*0.4*2500/1.2","v":583333333333.33337},null,{"$f":"IF($AZ$30=10000000000,10000000000,IF('SOLAI T2D SPA'!$C$25<=G66,G66,10000000000))","v":10000000000},null,{"$f":"IF($AZ$30=10000000000,10000000000,IF('SOLAI T2D SPA'!$C$25<=I66,I66,10000000000))","v":10000000000},null,{"$f":"IF($AZ$30=10000000000,10000000000,IF('SOLAI T2D SPA'!$C$25<=K66,K66,10000000000))","v":10000000000},null,{"$f":"IF($AZ$30=10000000000,10000000000,IF('SOLAI T2D SPA'!$C$25<=M66,M66,10000000000))","v":10000000000},null,{"$f":"IF($AZ$30=10000000000,10000000000,IF('SOLAI T2D SPA'!$C$25<=O66,O66,10000000000))","v":10000000000},null,{"$f":"IF($AZ$30=10000000000,10000000000,IF('SOLAI T2D SPA'!$C$25<=Q66,Q66,10000000000))","v":10000000000},null,{"$f":"IF($AZ$30=10000000000,10000000000,IF('SOLAI T2D SPA'!$C$25<=S66,S66,10000000000))","v":10000000000},null,{"$f":"IF($AZ$30=10000000000,10000000000,IF('SOLAI T2D SPA'!$C$25<=U66,U66,10000000000))","v":10000000000},null,{"$f":"IF($AZ$30=10000000000,10000000000,IF('SOLAI T2D SPA'!$C$25<=W66,W66,10000000000))","v":10000000000},null,{"$f":"IF($AZ$30=10000000000,10000000000,IF('SOLAI T2D SPA'!$C$25<=Y66,Y66,10000000000))","v":10000000000},null,{"$f":"IF($AZ$30=10000000000,10000000000,IF('SOLAI T2D SPA'!$C$25<=AA66,AA66,10000000000))","v":10000000000},null,{"$f":"IF($AZ$30=10000000000,10000000000,IF('SOLAI T2D SPA'!$C$25<=AC66,AC66,10000000000))","v":10000000000},null,{"$f":"IF($AZ$30=10000000000,10000000000,IF('SOLAI T2D SPA'!$C$25<=AE66,AE66,10000000000))","v":10000000000},null,{"$f":"IF($AZ$30=10000000000,10000000000,IF('SOLAI T2D SPA'!$C$25<=AG66,AG66,10000000000))","v":10000000000},null,{"$f":"IF($AZ$30=10000000000,10000000000,IF('SOLAI T2D SPA'!$C$25<=AI66,AI66,10000000000))","v":10000000000}]
[null,null,5,{"$f":"A66+B66+C67","v":31},{"$f":"(A66+C67)/100*2500+B66/100*0.4*2500/1.2","v":408.33333333333337},null,1417.2666666666669,null,2208.166666666667,null,3168.0666666666671,null,3601.65,null,4377.541666666667,null,5318,null,6250.1833333333334,null,7340.2416666666677,null,8419.4249999999993,null,9649.8583333333336,null,10864.816666666668,null,12222.375,null,13560.391666666668,null,15032.708333333336,null,16480.291666666668,null,null,null,null,null,null,null,null,null,null,null,null,null,null,null,null,null,null,null,null,null,null,null,null,null,null,null,null,null,null,null,null,null,null,null,null,null,null,null,null,null,null,null,null,10000000000,{"$f":"BZ66+CA66+CB67","v":30000000000},{"$f":"(BZ66+CB67)/100*2500+CA66/100*0.4*2500/1.2","v":583333333333.33337},null,{"$f":"IF($AZ$31=10000000000,10000000000,IF('SOLAI T2D SPA'!$C$25<=G67,G67,10000000000))","v":10000000000},null,{"$f":"IF($AZ$31=10000000000,10000000000,IF('SOLAI T2D SPA'!$C$25<=I67,I67,10000000000))","v":10000000000},null,{"$f":"IF($AZ$31=10000000000,10000000000,IF('SOLAI T2D SPA'!$C$25<=K67,K67,10000000000))","v":10000000000},null,{"$f":"IF($AZ$31=10000000000,10000000000,IF('SOLAI T2D SPA'!$C$25<=M67,M67,10000000000))","v":10000000000},null,{"$f":"IF($AZ$31=10000000000,10000000000,IF('SOLAI T2D SPA'!$C$25<=O67,O67,10000000000))","v":10000000000},null,{"$f":"IF($AZ$31=10000000000,10000000000,IF('SOLAI T2D SPA'!$C$25<=Q67,Q67,10000000000))","v":10000000000},null,{"$f":"IF($AZ$31=10000000000,10000000000,IF('SOLAI T2D SPA'!$C$25<=S67,S67,10000000000))","v":10000000000},null,{"$f":"IF($AZ$31=10000000000,10000000000,IF('SOLAI T2D SPA'!$C$25<=U67,U67,10000000000))","v":10000000000},null,{"$f":"IF($AZ$31=10000000000,10000000000,IF('SOLAI T2D SPA'!$C$25<=W67,W67,10000000000))","v":10000000000},null,{"$f":"IF($AZ$31=10000000000,10000000000,IF('SOLAI T2D SPA'!$C$25<=Y67,Y67,10000000000))","v":10000000000},null,{"$f":"IF($AZ$31=10000000000,10000000000,IF('SOLAI T2D SPA'!$C$25<=AA67,AA67,10000000000))","v":10000000000},null,{"$f":"IF($AZ$31=10000000000,10000000000,IF('SOLAI T2D SPA'!$C$25<=AC67,AC67,10000000000))","v":10000000000},null,{"$f":"IF($AZ$31=10000000000,10000000000,IF('SOLAI T2D SPA'!$C$25<=AE67,AE67,10000000000))","v":10000000000},null,{"$f":"IF($AZ$31=10000000000,10000000000,IF('SOLAI T2D SPA'!$C$25<=AG67,AG67,10000000000))","v":10000000000},null,{"$f":"IF($AZ$31=10000000000,10000000000,IF('SOLAI T2D SPA'!$C$25<=AI67,AI67,10000000000))","v":10000000000}]
[5,null,4,{"$f":"A68+B66+C68","v":31},{"$f":"(A68+C68)/100*2500+B66/100*0.4*2500/1.2","v":408.33333333333337},null,1417.2666666666669,null,2208.166666666667,null,3168.0666666666671,null,3601.65,null,4377.541666666667,null,5318,null,6250.1833333333334,null,7340.2416666666677,null,8419.4249999999993,null,9649.8583333333336,null,10864.816666666668,null,12222.375,null,13560.391666666668,null,15032.708333333336,null,16480.291666666668,null,null,null,null,null,null,null,null,null,null,null,null,null,null,null,null,null,null,null,null,null,null,null,null,null,null,null,null,null,null,null,null,null,null,null,null,null,null,null,null,null,null,{"$f":"AV32","v":10000000000},null,10000000000,{"$f":"BZ68+CA66+CB68","v":30000000000},{"$f":"(BZ68+CB68)/100*2500+CA66/100*0.4*2500/1.2","v":583333333333.33337},null,{"$f":"IF($AZ$32=10000000000,10000000000,IF('SOLAI T2D SPA'!$C$25<=G68,G68,10000000000))","v":10000000000},null,{"$f":"IF($AZ$32=10000000000,10000000000,IF('SOLAI T2D SPA'!$C$25<=I68,I68,10000000000))","v":10000000000},null,{"$f":"IF($AZ$32=10000000000,10000000000,IF('SOLAI T2D SPA'!$C$25<=K68,K68,10000000000))","v":10000000000},null,{"$f":"IF($AZ$32=10000000000,10000000000,IF('SOLAI T2D SPA'!$C$25<=M68,M68,10000000000))","v":10000000000},null,{"$f":"IF($AZ$32=10000000000,10000000000,IF('SOLAI T2D SPA'!$C$25<=O68,O68,10000000000))","v":10000000000},null,{"$f":"IF($AZ$32=10000000000,10000000000,IF('SOLAI T2D SPA'!$C$25<=Q68,Q68,10000000000))","v":10000000000},null,{"$f":"IF($AZ$32=10000000000,10000000000,IF('SOLAI T2D SPA'!$C$25<=S68,S68,10000000000))","v":10000000000},null,{"$f":"IF($AZ$32=10000000000,10000000000,IF('SOLAI T2D SPA'!$C$25<=U68,U68,10000000000))","v":10000000000},null,{"$f":"IF($AZ$32=10000000000,10000000000,IF('SOLAI T2D SPA'!$C$25<=W68,W68,10000000000))","v":10000000000},null,{"$f":"IF($AZ$32=10000000000,10000000000,IF('SOLAI T2D SPA'!$C$25<=Y68,Y68,10000000000))","v":10000000000},null,{"$f":"IF($AZ$32=10000000000,10000000000,IF('SOLAI T2D SPA'!$C$25<=AA68,AA68,10000000000))","v":10000000000},null,{"$f":"IF($AZ$32=10000000000,10000000000,IF('SOLAI T2D SPA'!$C$25<=AC68,AC68,10000000000))","v":10000000000},null,{"$f":"IF($AZ$32=10000000000,10000000000,IF('SOLAI T2D SPA'!$C$25<=AE68,AE68,10000000000))","v":10000000000},null,{"$f":"IF($AZ$32=10000000000,10000000000,IF('SOLAI T2D SPA'!$C$25<=AG68,AG68,10000000000))","v":10000000000},null,{"$f":"IF($AZ$32=10000000000,10000000000,IF('SOLAI T2D SPA'!$C$25<=AI68,AI68,10000000000))","v":10000000000}]
[null,null,5,{"$f":"A68+B66+C69","v":32},{"$f":"(A68+C69)/100*2500+B66/100*0.4*2500/1.2","v":433.33333333333337},null,1466.3916666666669,null,2284.9833333333336,null,3278.25,null,3727.4333333333338,null,4531.0249999999996,null,5505.7416666666677,null,6470.9583333333339,null,7601.9083333333338,null,8720.5083333333332,null,9997.125,null,11258.291666666668,null,12667.883333333335,null,14059.35,null,15589.591666666667,null,17094.849999999999,null,null,null,null,null,null,null,null,null,null,null,null,null,null,null,null,null,null,null,null,null,null,null,null,null,null,null,null,null,null,null,null,null,null,null,null,null,null,null,null,null,null,null,null,10000000000,{"$f":"BZ68+CA66+CB69","v":30000000000},{"$f":"(BZ68+CB69)/100*2500+CA66/100*0.4*2500/1.2","v":583333333333.33337},null,{"$f":"IF($AZ$33=10000000000,10000000000,IF('SOLAI T2D SPA'!$C$25<=G69,G69,10000000000))","v":10000000000},null,{"$f":"IF($AZ$33=10000000000,10000000000,IF('SOLAI T2D SPA'!$C$25<=I69,I69,10000000000))","v":10000000000},null,{"$f":"IF($AZ$33=10000000000,10000000000,IF('SOLAI T2D SPA'!$C$25<=K69,K69,10000000000))","v":10000000000},null,{"$f":"IF($AZ$33=10000000000,10000000000,IF('SOLAI T2D SPA'!$C$25<=M69,M69,10000000000))","v":10000000000},null,{"$f":"IF($AZ$33=10000000000,10000000000,IF('SOLAI T2D SPA'!$C$25<=O69,O69,10000000000))","v":10000000000},null,{"$f":"IF($AZ$33=10000000000,10000000000,IF('SOLAI T2D SPA'!$C$25<=Q69,Q69,10000000000))","v":10000000000},null,{"$f":"IF($AZ$33=10000000000,10000000000,IF('SOLAI T2D SPA'!$C$25<=S69,S69,10000000000))","v":10000000000},null,{"$f":"IF($AZ$33=10000000000,10000000000,IF('SOLAI T2D SPA'!$C$25<=U69,U69,10000000000))","v":10000000000},null,{"$f":"IF($AZ$33=10000000000,10000000000,IF('SOLAI T2D SPA'!$C$25<=W69,W69,10000000000))","v":10000000000},null,{"$f":"IF($AZ$33=10000000000,10000000000,IF('SOLAI T2D SPA'!$C$25<=Y69,Y69,10000000000))","v":10000000000},null,{"$f":"IF($AZ$33=10000000000,10000000000,IF('SOLAI T2D SPA'!$C$25<=AA69,AA69,10000000000))","v":10000000000},null,{"$f":"IF($AZ$33=10000000000,10000000000,IF('SOLAI T2D SPA'!$C$25<=AC69,AC69,10000000000))","v":10000000000},null,{"$f":"IF($AZ$33=10000000000,10000000000,IF('SOLAI T2D SPA'!$C$25<=AE69,AE69,10000000000))","v":10000000000},null,{"$f":"IF($AZ$33=10000000000,10000000000,IF('SOLAI T2D SPA'!$C$25<=AG69,AG69,10000000000))","v":10000000000},null,{"$f":"IF($AZ$33=10000000000,10000000000,IF('SOLAI T2D SPA'!$C$25<=AI69,AI69,10000000000))","v":10000000000}]
[4,24,4,{"$f":"A70+B70+C70","v":32},{"$f":"(A70+C70)/100*2500+B70/100*0.4*2500/1.2","v":400},null,1466.3916666666669,null,2284.9833333333336,null,3278.25,null,3727.4333333333338,null,4531.0249999999996,null,5505.7416666666677,null,6470.9583333333339,null,7601.9083333333338,null,8720.5083333333332,null,9997.125,null,11258.291666666668,null,12667.883333333335,null,14059.35,null,15589.591666666667,null,17094.849999999999,null,null,null,null,null,null,null,null,null,null,null,null,null,null,null,null,null,null,null,null,null,null,null,null,null,null,null,null,null,null,null,null,null,null,null,null,null,null,null,null,null,null,{"$f":"AV34","v":10000000000},{"$f":"AW34","v":10000000000},10000000000,{"$f":"BZ70+CA70+CB70","v":30000000000},{"$f":"(BZ70+CB70)/100*2500+CA70/100*0.4*2500/1.2","v":583333333333.33337},null,{"$f":"IF($AZ$34=10000000000,10000000000,IF('SOLAI T2D SPA'!$C$25<=G70,G70,10000000000))","v":10000000000},null,{"$f":"IF($AZ$34=10000000000,10000000000,IF('SOLAI T2D SPA'!$C$25<=I70,I70,10000000000))","v":10000000000},null,{"$f":"IF($AZ$34=10000000000,10000000000,IF('SOLAI T2D SPA'!$C$25<=K70,K70,10000000000))","v":10000000000},null,{"$f":"IF($AZ$34=10000000000,10000000000,IF('SOLAI T2D SPA'!$C$25<=M70,M70,10000000000))","v":10000000000},null,{"$f":"IF($AZ$34=10000000000,10000000000,IF('SOLAI T2D SPA'!$C$25<=O70,O70,10000000000))","v":10000000000},null,{"$f":"IF($AZ$34=10000000000,10000000000,IF('SOLAI T2D SPA'!$C$25<=Q70,Q70,10000000000))","v":10000000000},null,{"$f":"IF($AZ$34=10000000000,10000000000,IF('SOLAI T2D SPA'!$C$25<=S70,S70,10000000000))","v":10000000000},null,{"$f":"IF($AZ$34=10000000000,10000000000,IF('SOLAI T2D SPA'!$C$25<=U70,U70,10000000000))","v":10000000000},null,{"$f":"IF($AZ$34=10000000000,10000000000,IF('SOLAI T2D SPA'!$C$25<=W70,W70,10000000000))","v":10000000000},null,{"$f":"IF($AZ$34=10000000000,10000000000,IF('SOLAI T2D SPA'!$C$25<=Y70,Y70,10000000000))","v":10000000000},null,{"$f":"IF($AZ$34=10000000000,10000000000,IF('SOLAI T2D SPA'!$C$25<=AA70,AA70,10000000000))","v":10000000000},null,{"$f":"IF($AZ$34=10000000000,10000000000,IF('SOLAI T2D SPA'!$C$25<=AC70,AC70,10000000000))","v":10000000000},null,{"$f":"IF($AZ$34=10000000000,10000000000,IF('SOLAI T2D SPA'!$C$25<=AE70,AE70,10000000000))","v":10000000000},null,{"$f":"IF($AZ$34=10000000000,10000000000,IF('SOLAI T2D SPA'!$C$25<=AG70,AG70,10000000000))","v":10000000000},null,{"$f":"IF($AZ$34=10000000000,10000000000,IF('SOLAI T2D SPA'!$C$25<=AI70,AI70,10000000000))","v":10000000000}]
[null,null,5,{"$f":"A70+B70+C71","v":33},{"$f":"(A70+C71)/100*2500+B70/100*0.4*2500/1.2","v":425},null,1515.425,null,2361.6416666666669,null,3388.55,null,3852.875,null,4684.7083333333339,null,5693.2416666666677,null,6692.7,null,7863.3166666666675,null,9021.3833333333332,null,10344.283333333333,null,11651.8,null,13113.616666666667,null,14557.341666666667,null,16145.525,null,17710.633333333335,null,null,null,null,null,null,null,null,null,null,null,null,null,null,null,null,null,null,null,null,null,null,null,null,null,null,null,null,null,null,null,null,null,null,null,null,null,null,null,null,null,null,null,null,10000000000,{"$f":"BZ70+CA70+CB71","v":30000000000},{"$f":"(BZ70+CB71)/100*2500+CA70/100*0.4*2500/1.2","v":583333333333.33337},null,{"$f":"IF($AZ$35=10000000000,10000000000,IF('SOLAI T2D SPA'!$C$25<=G71,G71,10000000000))","v":10000000000},null,{"$f":"IF($AZ$35=10000000000,10000000000,IF('SOLAI T2D SPA'!$C$25<=I71,I71,10000000000))","v":10000000000},null,{"$f":"IF($AZ$35=10000000000,10000000000,IF('SOLAI T2D SPA'!$C$25<=K71,K71,10000000000))","v":10000000000},null,{"$f":"IF($AZ$35=10000000000,10000000000,IF('SOLAI T2D SPA'!$C$25<=M71,M71,10000000000))","v":10000000000},null,{"$f":"IF($AZ$35=10000000000,10000000000,IF('SOLAI T2D SPA'!$C$25<=O71,O71,10000000000))","v":10000000000},null,{"$f":"IF($AZ$35=10000000000,10000000000,IF('SOLAI T2D SPA'!$C$25<=Q71,Q71,10000000000))","v":10000000000},null,{"$f":"IF($AZ$35=10000000000,10000000000,IF('SOLAI T2D SPA'!$C$25<=S71,S71,10000000000))","v":10000000000},null,{"$f":"IF($AZ$35=10000000000,10000000000,IF('SOLAI T2D SPA'!$C$25<=U71,U71,10000000000))","v":10000000000},null,{"$f":"IF($AZ$35=10000000000,10000000000,IF('SOLAI T2D SPA'!$C$25<=W71,W71,10000000000))","v":10000000000},null,{"$f":"IF($AZ$35=10000000000,10000000000,IF('SOLAI T2D SPA'!$C$25<=Y71,Y71,10000000000))","v":10000000000},null,{"$f":"IF($AZ$35=10000000000,10000000000,IF('SOLAI T2D SPA'!$C$25<=AA71,AA71,10000000000))","v":10000000000},null,{"$f":"IF($AZ$35=10000000000,10000000000,IF('SOLAI T2D SPA'!$C$25<=AC71,AC71,10000000000))","v":10000000000},null,{"$f":"IF($AZ$35=10000000000,10000000000,IF('SOLAI T2D SPA'!$C$25<=AE71,AE71,10000000000))","v":10000000000},null,{"$f":"IF($AZ$35=10000000000,10000000000,IF('SOLAI T2D SPA'!$C$25<=AG71,AG71,10000000000))","v":10000000000},null,{"$f":"IF($AZ$35=10000000000,10000000000,IF('SOLAI T2D SPA'!$C$25<=AI71,AI71,10000000000))","v":10000000000}]
[5,null,4,{"$f":"A72+B70+C72","v":33},{"$f":"(A72+C72)/100*2500+B70/100*0.4*2500/1.2","v":425},null,1515.425,null,2361.6416666666669,null,3388.55,null,3852.875,null,4684.7083333333339,null,5693.2416666666677,null,6692.7,null,7863.3166666666675,null,9021.3833333333332,null,10344.283333333333,null,11651.8,null,13113.616666666667,null,14557.341666666667,null,16145.525,null,17710.633333333335,null,null,null,null,null,null,null,null,null,null,null,null,null,null,null,null,null,null,null,null,null,null,null,null,null,null,null,null,null,null,null,null,null,null,null,null,null,null,null,null,null,null,{"$f":"AV36","v":10000000000},null,10000000000,{"$f":"BZ72+CA70+CB72","v":30000000000},{"$f":"(BZ72+CB72)/100*2500+CA70/100*0.4*2500/1.2","v":583333333333.33337},null,{"$f":"IF($AZ$36=10000000000,10000000000,IF('SOLAI T2D SPA'!$C$25<=G72,G72,10000000000))","v":10000000000},null,{"$f":"IF($AZ$36=10000000000,10000000000,IF('SOLAI T2D SPA'!$C$25<=I72,I72,10000000000))","v":10000000000},null,{"$f":"IF($AZ$36=10000000000,10000000000,IF('SOLAI T2D SPA'!$C$25<=K72,K72,10000000000))","v":10000000000},null,{"$f":"IF($AZ$36=10000000000,10000000000,IF('SOLAI T2D SPA'!$C$25<=M72,M72,10000000000))","v":10000000000},null,{"$f":"IF($AZ$36=10000000000,10000000000,IF('SOLAI T2D SPA'!$C$25<=O72,O72,10000000000))","v":10000000000},null,{"$f":"IF($AZ$36=10000000000,10000000000,IF('SOLAI T2D SPA'!$C$25<=Q72,Q72,10000000000))","v":10000000000},null,{"$f":"IF($AZ$36=10000000000,10000000000,IF('SOLAI T2D SPA'!$C$25<=S72,S72,10000000000))","v":10000000000},null,{"$f":"IF($AZ$36=10000000000,10000000000,IF('SOLAI T2D SPA'!$C$25<=U72,U72,10000000000))","v":10000000000},null,{"$f":"IF($AZ$36=10000000000,10000000000,IF('SOLAI T2D SPA'!$C$25<=W72,W72,10000000000))","v":10000000000},null,{"$f":"IF($AZ$36=10000000000,10000000000,IF('SOLAI T2D SPA'!$C$25<=Y72,Y72,10000000000))","v":10000000000},null,{"$f":"IF($AZ$36=10000000000,10000000000,IF('SOLAI T2D SPA'!$C$25<=AA72,AA72,10000000000))","v":10000000000},null,{"$f":"IF($AZ$36=10000000000,10000000000,IF('SOLAI T2D SPA'!$C$25<=AC72,AC72,10000000000))","v":10000000000},null,{"$f":"IF($AZ$36=10000000000,10000000000,IF('SOLAI T2D SPA'!$C$25<=AE72,AE72,10000000000))","v":10000000000},null,{"$f":"IF($AZ$36=10000000000,10000000000,IF('SOLAI T2D SPA'!$C$25<=AG72,AG72,10000000000))","v":10000000000},null,{"$f":"IF($AZ$36=10000000000,10000000000,IF('SOLAI T2D SPA'!$C$25<=AI72,AI72,10000000000))","v":10000000000}]
[null,null,5,{"$f":"A72+B70+C73","v":34},{"$f":"(A72+C73)/100*2500+B70/100*0.4*2500/1.2","v":450},null,1564.4083333333335,null,2438.3166666666671,null,3498.9583333333339,null,3978.9250000000002,null,4837.9916666666668,null,5880.4333333333334,null,6913.4833333333336,null,8124.3833333333341,null,9322.9,null,10691.25,null,12045.233333333335,null,13559.45,null,15054.075000000001,null,16702.05,null,18325.383333333335,null,null,null,null,null,null,null,null,null,null,null,null,null,null,null,null,null,null,null,null,null,null,null,null,null,null,null,null,null,null,null,null,null,null,null,null,null,null,null,null,null,null,null,null,10000000000,{"$f":"BZ72+CA70+CB73","v":30000000000},{"$f":"(BZ72+CB73)/100*2500+CA70/100*0.4*2500/1.2","v":583333333333.33337},null,{"$f":"IF($AZ$37=10000000000,10000000000,IF('SOLAI T2D SPA'!$C$25<=G73,G73,10000000000))","v":10000000000},null,{"$f":"IF($AZ$37=10000000000,10000000000,IF('SOLAI T2D SPA'!$C$25<=I73,I73,10000000000))","v":10000000000},null,{"$f":"IF($AZ$37=10000000000,10000000000,IF('SOLAI T2D SPA'!$C$25<=K73,K73,10000000000))","v":10000000000},null,{"$f":"IF($AZ$37=10000000000,10000000000,IF('SOLAI T2D SPA'!$C$25<=M73,M73,10000000000))","v":10000000000},null,{"$f":"IF($AZ$37=10000000000,10000000000,IF('SOLAI T2D SPA'!$C$25<=O73,O73,10000000000))","v":10000000000},null,{"$f":"IF($AZ$37=10000000000,10000000000,IF('SOLAI T2D SPA'!$C$25<=Q73,Q73,10000000000))","v":10000000000},null,{"$f":"IF($AZ$37=10000000000,10000000000,IF('SOLAI T2D SPA'!$C$25<=S73,S73,10000000000))","v":10000000000},null,{"$f":"IF($AZ$37=10000000000,10000000000,IF('SOLAI T2D SPA'!$C$25<=U73,U73,10000000000))","v":10000000000},null,{"$f":"IF($AZ$37=10000000000,10000000000,IF('SOLAI T2D SPA'!$C$25<=W73,W73,10000000000))","v":10000000000},null,{"$f":"IF($AZ$37=10000000000,10000000000,IF('SOLAI T2D SPA'!$C$25<=Y73,Y73,10000000000))","v":10000000000},null,{"$f":"IF($AZ$37=10000000000,10000000000,IF('SOLAI T2D SPA'!$C$25<=AA73,AA73,10000000000))","v":10000000000},null,{"$f":"IF($AZ$37=10000000000,10000000000,IF('SOLAI T2D SPA'!$C$25<=AC73,AC73,10000000000))","v":10000000000},null,{"$f":"IF($AZ$37=10000000000,10000000000,IF('SOLAI T2D SPA'!$C$25<=AE73,AE73,10000000000))","v":10000000000},null,{"$f":"IF($AZ$37=10000000000,10000000000,IF('SOLAI T2D SPA'!$C$25<=AG73,AG73,10000000000))","v":10000000000},null,{"$f":"IF($AZ$37=10000000000,10000000000,IF('SOLAI T2D SPA'!$C$25<=AI73,AI73,10000000000))","v":10000000000}]
[4,30,4,{"$f":"A74+B74+C74","v":38},{"$f":"(A74+C74)/100*2500+B74/100*0.4*2500/1.2","v":450},null,1760.6833333333334,null,2744.6166666666668,null,3940.9583333333339,null,4481.8,null,5451.5,null,6629.2749999999996,null,7798.7916666666679,null,9168.6749999999993,null,10528.016666666668,null,12081.1,null,13618.674999999999,null,15342.583333333336,null,17046.991666666669,null,18926.266666666666,null,20782.566666666666,null,null,null,null,null,null,null,null,null,null,null,null,null,null,null,null,null,null,null,null,null,null,null,null,null,null,null,null,null,null,null,null,null,null,null,null,null,null,null,null,null,null,{"$f":"AV38","v":10000000000},{"$f":"AW38","v":10000000000},10000000000,{"$f":"BZ74+CA74+CB74","v":30000000000},{"$f":"(BZ74+CB74)/100*2500+CA74/100*0.4*2500/1.2","v":583333333333.33337},null,{"$f":"IF($AZ$38=10000000000,10000000000,IF('SOLAI T2D SPA'!$C$25<=G74,G74,10000000000))","v":10000000000},null,{"$f":"IF($AZ$38=10000000000,10000000000,IF('SOLAI T2D SPA'!$C$25<=I74,I74,10000000000))","v":10000000000},null,{"$f":"IF($AZ$38=10000000000,10000000000,IF('SOLAI T2D SPA'!$C$25<=K74,K74,10000000000))","v":10000000000},null,{"$f":"IF($AZ$38=10000000000,10000000000,IF('SOLAI T2D SPA'!$C$25<=M74,M74,10000000000))","v":10000000000},null,{"$f":"IF($AZ$38=10000000000,10000000000,IF('SOLAI T2D SPA'!$C$25<=O74,O74,10000000000))","v":10000000000},null,{"$f":"IF($AZ$38=10000000000,10000000000,IF('SOLAI T2D SPA'!$C$25<=Q74,Q74,10000000000))","v":10000000000},null,{"$f":"IF($AZ$38=10000000000,10000000000,IF('SOLAI T2D SPA'!$C$25<=S74,S74,10000000000))","v":10000000000},null,{"$f":"IF($AZ$38=10000000000,10000000000,IF('SOLAI T2D SPA'!$C$25<=U74,U74,10000000000))","v":10000000000},null,{"$f":"IF($AZ$38=10000000000,10000000000,IF('SOLAI T2D SPA'!$C$25<=W74,W74,10000000000))","v":10000000000},null,{"$f":"IF($AZ$38=10000000000,10000000000,IF('SOLAI T2D SPA'!$C$25<=Y74,Y74,10000000000))","v":10000000000},null,{"$f":"IF($AZ$38=10000000000,10000000000,IF('SOLAI T2D SPA'!$C$25<=AA74,AA74,10000000000))","v":10000000000},null,{"$f":"IF($AZ$38=10000000000,10000000000,IF('SOLAI T2D SPA'!$C$25<=AC74,AC74,10000000000))","v":10000000000},null,{"$f":"IF($AZ$38=10000000000,10000000000,IF('SOLAI T2D SPA'!$C$25<=AE74,AE74,10000000000))","v":10000000000},null,{"$f":"IF($AZ$38=10000000000,10000000000,IF('SOLAI T2D SPA'!$C$25<=AG74,AG74,10000000000))","v":10000000000},null,{"$f":"IF($AZ$38=10000000000,10000000000,IF('SOLAI T2D SPA'!$C$25<=AI74,AI74,10000000000))","v":10000000000}]
[null,null,5,{"$f":"A74+B74+C75","v":39},{"$f":"(A74+C75)/100*2500+B74/100*0.4*2500/1.2","v":475},null,1809.7083333333335,null,2821.0833333333339,null,4051.3249999999998,null,4607.8333333333339,null,5604.9166666666679,null,6816.5333333333338,null,8020.2416666666677,null,9430.0583333333343,null,10828.233333333335,null,12428.191666666668,null,14011.5,null,15786.858333333335,null,17544.508333333335,null,19482.966666666667,null,21398.741666666669,null,null,null,null,null,null,null,null,null,null,null,null,null,null,null,null,null,null,null,null,null,null,null,null,null,null,null,null,null,null,null,null,null,null,null,null,null,null,null,null,null,null,null,null,10000000000,{"$f":"BZ74+CA74+CB75","v":30000000000},{"$f":"(BZ74+CB75)/100*2500+CA74/100*0.4*2500/1.2","v":583333333333.33337},null,{"$f":"IF($AZ$39=10000000000,10000000000,IF('SOLAI T2D SPA'!$C$25<=G75,G75,10000000000))","v":10000000000},null,{"$f":"IF($AZ$39=10000000000,10000000000,IF('SOLAI T2D SPA'!$C$25<=I75,I75,10000000000))","v":10000000000},null,{"$f":"IF($AZ$39=10000000000,10000000000,IF('SOLAI T2D SPA'!$C$25<=K75,K75,10000000000))","v":10000000000},null,{"$f":"IF($AZ$39=10000000000,10000000000,IF('SOLAI T2D SPA'!$C$25<=M75,M75,10000000000))","v":10000000000},null,{"$f":"IF($AZ$39=10000000000,10000000000,IF('SOLAI T2D SPA'!$C$25<=O75,O75,10000000000))","v":10000000000},null,{"$f":"IF($AZ$39=10000000000,10000000000,IF('SOLAI T2D SPA'!$C$25<=Q75,Q75,10000000000))","v":10000000000},null,{"$f":"IF($AZ$39=10000000000,10000000000,IF('SOLAI T2D SPA'!$C$25<=S75,S75,10000000000))","v":10000000000},null,{"$f":"IF($AZ$39=10000000000,10000000000,IF('SOLAI T2D SPA'!$C$25<=U75,U75,10000000000))","v":10000000000},null,{"$f":"IF($AZ$39=10000000000,10000000000,IF('SOLAI T2D SPA'!$C$25<=W75,W75,10000000000))","v":10000000000},null,{"$f":"IF($AZ$39=10000000000,10000000000,IF('SOLAI T2D SPA'!$C$25<=Y75,Y75,10000000000))","v":10000000000},null,{"$f":"IF($AZ$39=10000000000,10000000000,IF('SOLAI T2D SPA'!$C$25<=AA75,AA75,10000000000))","v":10000000000},null,{"$f":"IF($AZ$39=10000000000,10000000000,IF('SOLAI T2D SPA'!$C$25<=AC75,AC75,10000000000))","v":10000000000},null,{"$f":"IF($AZ$39=10000000000,10000000000,IF('SOLAI T2D SPA'!$C$25<=AE75,AE75,10000000000))","v":10000000000},null,{"$f":"IF($AZ$39=10000000000,10000000000,IF('SOLAI T2D SPA'!$C$25<=AG75,AG75,10000000000))","v":10000000000},null,{"$f":"IF($AZ$39=10000000000,10000000000,IF('SOLAI T2D SPA'!$C$25<=AI75,AI75,10000000000))","v":10000000000}]
[5,null,4,{"$f":"A76+B74+C76","v":39},{"$f":"(A76+C76)/100*2500+B74/100*0.4*2500/1.2","v":475},null,1809.7083333333335,null,2821.0833333333339,null,4051.3249999999998,null,4607.8333333333339,null,5604.9166666666679,null,6816.5333333333338,null,8020.2416666666677,null,9430.0583333333343,null,10828.233333333335,null,12428.191666666668,null,14011.5,null,15786.858333333335,null,17544.508333333335,null,19482.966666666667,null,21398.741666666669,null,null,null,null,null,null,null,null,null,null,null,null,null,null,null,null,null,null,null,null,null,null,null,null,null,null,null,null,null,null,null,null,null,null,null,null,null,null,null,null,null,null,{"$f":"AV40","v":10000000000},null,10000000000,{"$f":"BZ76+CA74+CB76","v":30000000000},{"$f":"(BZ76+CB76)/100*2500+CA74/100*0.4*2500/1.2","v":583333333333.33337},null,{"$f":"IF($AZ$40=10000000000,10000000000,IF('SOLAI T2D SPA'!$C$25<=G76,G76,10000000000))","v":10000000000},null,{"$f":"IF($AZ$40=10000000000,10000000000,IF('SOLAI T2D SPA'!$C$25<=I76,I76,10000000000))","v":10000000000},null,{"$f":"IF($AZ$40=10000000000,10000000000,IF('SOLAI T2D SPA'!$C$25<=K76,K76,10000000000))","v":10000000000},null,{"$f":"IF($AZ$40=10000000000,10000000000,IF('SOLAI T2D SPA'!$C$25<=M76,M76,10000000000))","v":10000000000},null,{"$f":"IF($AZ$40=10000000000,10000000000,IF('SOLAI T2D SPA'!$C$25<=O76,O76,10000000000))","v":10000000000},null,{"$f":"IF($AZ$40=10000000000,10000000000,IF('SOLAI T2D SPA'!$C$25<=Q76,Q76,10000000000))","v":10000000000},null,{"$f":"IF($AZ$40=10000000000,10000000000,IF('SOLAI T2D SPA'!$C$25<=S76,S76,10000000000))","v":10000000000},null,{"$f":"IF($AZ$40=10000000000,10000000000,IF('SOLAI T2D SPA'!$C$25<=U76,U76,10000000000))","v":10000000000},null,{"$f":"IF($AZ$40=10000000000,10000000000,IF('SOLAI T2D SPA'!$C$25<=W76,W76,10000000000))","v":10000000000},null,{"$f":"IF($AZ$40=10000000000,10000000000,IF('SOLAI T2D SPA'!$C$25<=Y76,Y76,10000000000))","v":10000000000},null,{"$f":"IF($AZ$40=10000000000,10000000000,IF('SOLAI T2D SPA'!$C$25<=AA76,AA76,10000000000))","v":10000000000},null,{"$f":"IF($AZ$40=10000000000,10000000000,IF('SOLAI T2D SPA'!$C$25<=AC76,AC76,10000000000))","v":10000000000},null,{"$f":"IF($AZ$40=10000000000,10000000000,IF('SOLAI T2D SPA'!$C$25<=AE76,AE76,10000000000))","v":10000000000},null,{"$f":"IF($AZ$40=10000000000,10000000000,IF('SOLAI T2D SPA'!$C$25<=AG76,AG76,10000000000))","v":10000000000},null,{"$f":"IF($AZ$40=10000000000,10000000000,IF('SOLAI T2D SPA'!$C$25<=AI76,AI76,10000000000))","v":10000000000}]
[null,null,5,{"$f":"A76+B74+C77","v":40},{"$f":"(A76+C77)/100*2500+B74/100*0.4*2500/1.2","v":500},null,1858.75,null,2897.8583333333336,null,4161.7416666666668,null,4733.2833333333338,null,5758.3083333333334,null,7003.9833333333336,null,8241.1583333333328,null,9691.8416666666672,null,11129.941666666668,null,12774.625,null,14405.083333333336,null,16233.875,null,18041.45,null,20039.2,null,22012.2,null,null,null,null,null,null,null,null,null,null,null,null,null,null,null,null,null,null,null,null,null,null,null,null,null,null,null,null,null,null,null,null,null,null,null,null,null,null,null,null,null,null,null,null,10000000000,{"$f":"BZ76+CA74+CB77","v":30000000000},{"$f":"(BZ76+CB77)/100*2500+CA74/100*0.4*2500/1.2","v":583333333333.33337},null,{"$f":"IF($AZ$41=10000000000,10000000000,IF('SOLAI T2D SPA'!$C$25<=G77,G77,10000000000))","v":10000000000},null,{"$f":"IF($AZ$41=10000000000,10000000000,IF('SOLAI T2D SPA'!$C$25<=I77,I77,10000000000))","v":10000000000},null,{"$f":"IF($AZ$41=10000000000,10000000000,IF('SOLAI T2D SPA'!$C$25<=K77,K77,10000000000))","v":10000000000},null,{"$f":"IF($AZ$41=10000000000,10000000000,IF('SOLAI T2D SPA'!$C$25<=M77,M77,10000000000))","v":10000000000},null,{"$f":"IF($AZ$41=10000000000,10000000000,IF('SOLAI T2D SPA'!$C$25<=O77,O77,10000000000))","v":10000000000},null,{"$f":"IF($AZ$41=10000000000,10000000000,IF('SOLAI T2D SPA'!$C$25<=Q77,Q77,10000000000))","v":10000000000},null,{"$f":"IF($AZ$41=10000000000,10000000000,IF('SOLAI T2D SPA'!$C$25<=S77,S77,10000000000))","v":10000000000},null,{"$f":"IF($AZ$41=10000000000,10000000000,IF('SOLAI T2D SPA'!$C$25<=U77,U77,10000000000))","v":10000000000},null,{"$f":"IF($AZ$41=10000000000,10000000000,IF('SOLAI T2D SPA'!$C$25<=W77,W77,10000000000))","v":10000000000},null,{"$f":"IF($AZ$41=10000000000,10000000000,IF('SOLAI T2D SPA'!$C$25<=Y77,Y77,10000000000))","v":10000000000},null,{"$f":"IF($AZ$41=10000000000,10000000000,IF('SOLAI T2D SPA'!$C$25<=AA77,AA77,10000000000))","v":10000000000},null,{"$f":"IF($AZ$41=10000000000,10000000000,IF('SOLAI T2D SPA'!$C$25<=AC77,AC77,10000000000))","v":10000000000},null,{"$f":"IF($AZ$41=10000000000,10000000000,IF('SOLAI T2D SPA'!$C$25<=AE77,AE77,10000000000))","v":10000000000},null,{"$f":"IF($AZ$41=10000000000,10000000000,IF('SOLAI T2D SPA'!$C$25<=AG77,AG77,10000000000))","v":10000000000},null,{"$f":"IF($AZ$41=10000000000,10000000000,IF('SOLAI T2D SPA'!$C$25<=AI77,AI77,10000000000))","v":10000000000}]
[null,null,null,null,null,null,null,null,null,null,null,null,null,null,null,null,null,null,null,null,null,null,null,null,null,null,null,null,null,null,null,null,null,null,null,null,null,null,null,null,null,null,null,null,null,null,null,null,null,null,null,null,null,null,null,null,null,null,null,null,null,null,null,null,null,null,null,null,null,null,null,null,null,null,null,null,null,null,null,null,null,null,null,{"$f":"MIN(CF46:CG77)","v":10000000000},null,{"$f":"MIN(CH46:CI77)","v":10000000000},null,{"$f":"MIN(CJ46:CK77)","v":10000000000},null,{"$f":"MIN(CL46:CM77)","v":10000000000},null,{"$f":"MIN(CN46:CO77)","v":10000000000},null,{"$f":"MIN(CP46:CQ77)","v":10000000000},null,{"$f":"MIN(CR46:CS77)","v":10000000000},null,{"$f":"MIN(CT46:CU77)","v":10000000000},null,{"$f":"MIN(CV46:CW77)","v":10000000000},null,10000000000,null,10000000000,null,10000000000,null,10000000000,null,10000000000,null,10000000000,null,{"$f":"MIN(CF78:DI78)","v":10000000000},null,{"$f":"IF(AND(AR12=1,DJ78=10000000000),1,0)","v":0}]
[]
[]
[]
[]
[null,null,null,null,null,null,null,null,null,null,null,null,null,null,null,null,null,null,null,null,null,null,null,null,null,null,null,null,null,null,null,null,null,null,null,null,null,null,null,null,null,null,null,null,null,null,null,null,null,null,null,null,null,{"$f":"BB88&\"(\"&BB87&\")+\"&BC88&\"(\"&BC87&\")\"","v":"1f8(C)+(2*)1f8(L)"},null,{"$f":"BD88&\"(\"&BD87&\")+\"&BE88&\"(\"&BE87&\")\"","v":"1f10(C)+(2*)1f8(L)"},null,{"$f":"BF88&\"(\"&BF87&\")+\"&BG88&\"(\"&BG87&\")\"","v":"1f12(C)+(2*)1f10(L)"},null,{"$f":"BH88&\"(\"&BH87&\")+\"&BI88&\"(\"&BI87&\")\"","v":"2f10(C)+(2*)1f12(L)"},null,{"$f":"BJ88&\"(\"&BJ87&\")+\"&BK88&\"(\"&BK87&\")\"","v":"2f12(C)+(2*)2f10(L)"},null,{"$f":"BL88&\"(\"&BL87&\")+\"&BM88&\"(\"&BM87&\")\"","v":"2f14(C)+(2*)2f12(L)"},null,{"$f":"BN88&\"(\"&BN87&\")+\"&BO88&\"(\"&BO87&\")\"","v":"2f16(C)+(2*)2f14(L)"},null,{"$f":"BP88&\"(\"&BP87&\")+\"&BQ88&\"(\"&BQ87&\")\"","v":"2f18(C)+(2*)2f16(L)"},null,{"$f":"BR88&\"(\"&BR87&\")+\"&BS88&\"(\"&BS87&\")\"","v":"2f20(C)+(2*)2f18(L)"}]
[]
["INTERASSE 120 CM - NO REI - TRALICCIO INCLUSO NEL CALCOLO",null,null,null,null,null,null,null,null,null,null,null,null,null,null,null,null,null,null,null,null,null,null,null,null,null,null,null,null,null,null,null,null,null,null,null,null,null,null,null,null,null,null,null,null,null,null,null,null,null,null,null,null,{"$f":"IF(AND(BB123=$BT$123,BB123<800000000),BB83,\"\")","v":""},null,{"$f":"IF(AND(BD123=$BT$123,BD123<800000000),BD83,\"\")","v":""},null,{"$f":"IF(AND(BF123=$BT$123,BF123<800000000),BF83,\"\")","v":""},null,{"$f":"IF(AND(BH123=$BT$123,BH123<800000000),BH83,\"\")","v":""},null,{"$f":"IF(AND(BJ123=$BT$123,BJ123<800000000),BJ83,\"\")","v":""},null,{"$f":"IF(AND(BL123=$BT$123,BL123<800000000),BL83,\"\")","v":""},null,{"$f":"IF(AND(BN123=$BT$123,BN123<800000000),BN83,\"\")","v":""},null,{"$f":"IF(AND(BP123=$BT$123,BP123<800000000),BP83,\"\")","v":""},null,{"$f":"IF(AND(BR123=$BT$123,BR123<800000000),BR83,\"\")","v":""},null,null,{"$f":"BB85&BD85&BF85&BH85&BJ85&BL85&BN85&BP85&BR85","v":""}]
["MOMENTO POSITIVO",null,null,null,null,null,"Armatura ",null,null,null,null,null,null,null,null,null,null,null,null,null,null,null,null,null,"Taglio ultimo"]
[null,null,null,null,null,null,"CENTRALE","LATERALE","CENTRALE","LATERALE","CENTRALE","LATERALE","CENTRALE","LATERALE","CENTRALE","LATERALE","CENTRALE","LATERALE","CENTRALE","LATERALE","CENTRALE","LATERALE","CENTRALE","LATERALE",null,null,null,null,null,null,null,null,null,null,null,null,null,null,null,null,null,null,null,null,null,null,null,null,null,null,null,null,null,"C","L","C","L","C","L","C","L","C","L","C","L","C","L","C","L","C","L"]
[null,null,null,null,null,null,"1f8","(2*)1f8","1f10","(2*)1f8","1f12","(2*)1f10","2f10","(2*)1f12","2f12","(2*)2f10","2f14","(2*)2f12","2f16","(2*)2f14","2f18","(2*)2f16","2f20","(2*)2f18",null,null,null,null,null,null,null,null,null,null,null,null,null,null,null,null,null,null,null,null,null,null,null,null,null,null,null,null,null,"1f8","(2*)1f8","1f10","(2*)1f8","1f12","(2*)1f10","2f10","(2*)1f12","2f12","(2*)2f10","2f14","(2*)2f12","2f16","(2*)2f14","2f18","(2*)2f16","2f20","(2*)2f18"]
["Spessore lastra","Altezza polistirolo","Spessore soletta","Altezza solaio","Peso solaio","Volume cls getto in opera (l/mq)","Momenti ultimi riferiti ad una striscia di solaio larga 1,00 metro",null,null,null,null,null,null,null,null,null,null,null,null,null,null,null,null,null,null,null,null,null,null,null,null,null,null,null,null,null,null,null,"CALCOLO"]
["[cm]","[cm]","[cm]","[cm]","[daN/mq]","[l/mq]","[daNm]",null,"[daNm]",null,"[daNm]",null,"[daNm]",null,"[daNm]","[daNm]","[daNm]","[daNm]","[daNm]","[daNm]","[daNm]","[daNm]","[daNm]","[daNm]","[daN]",null,null,null,null,null,null,null,null,null,null,null,null,null,null,null,null,null,null,{"$f":"IF(AND('SOLAI T2D SPA'!C2=\"Lastre_predalles\",'SOLAI T2D SPA'!C4=\"Polistirolo_NOREI\"),1,0)","v":0},null,null,null,"[cm]","[cm]","[cm]","[cm]","[daN/mq]",null,"[daNm]",null,"[daNm]",null,"[daNm]",null,"[daNm]",null,"[daNm]","[daNm]","[daNm]","[daNm]","[daNm]","[daNm]","[daNm]","[daNm]","[daNm]","[daNm]",null,null,"[daN]"]
[4,12,4,{"$f":"A91+B91+C91","v":20},{"$f":"(A91+C91)/100*2500+B91/100*0.4*2500/1.2","v":300},null,1447.8083333333334,null,1588.2,null,2034.6583333333335,null,2577.875,null,3311.85,null,4299.4583333333339,null,5396.3333333333339,null,6582.5,null,7705,null,2964.166666666667,null,null,null,null,null,null,null,null,null,null,null,null,null,null,null,null,null,null,null,null,null,"Spessore_4",{"$f":"IF(AW91=10000000000,10000000000,IF('SOLAI T2D SPA'!$C$5=AU91,A91,10000000000))","v":10000000000},{"$f":"IF(AND($AR$90=1,'SOLAI T2D SPA'!$C$6=B91),B91,10000000000)","v":10000000000},{"$f":"IF(AW91=10000000000,10000000000,IF('SOLAI T2D SPA'!$C$7=C91,C91,10000000000))","v":10000000000},{"$f":"AV91+AW91+AX91","v":30000000000},{"$f":"IF(AY91>100000,10000000000,E91)","v":10000000000},null,{"$f":"IF($AZ$91=10000000000,10000000000,IF('SOLAI T2D SPA'!$C$20<=G91,G91,10000000000))","v":10000000000},null,{"$f":"IF($AZ$91=10000000000,10000000000,IF('SOLAI T2D SPA'!$C$20<=I91,I91,10000000000))","v":10000000000},null,{"$f":"IF($AZ$91=10000000000,10000000000,IF('SOLAI T2D SPA'!$C$20<=K91,K91,10000000000))","v":10000000000},null,{"$f":"IF($AZ$91=10000000000,10000000000,IF('SOLAI T2D SPA'!$C$20<=M91,M91,10000000000))","v":10000000000},null,{"$f":"IF($AZ$91=10000000000,10000000000,IF('SOLAI T2D SPA'!$C$20<=O91,O91,10000000000))","v":10000000000},null,{"$f":"IF($AZ$91=10000000000,10000000000,IF('SOLAI T2D SPA'!$C$20<=Q91,Q91,10000000000))","v":10000000000},null,{"$f":"IF($AZ$91=10000000000,10000000000,IF('SOLAI T2D SPA'!$C$20<=S91,S91,10000000000))","v":10000000000},null,{"$f":"IF($AZ$91=10000000000,10000000000,IF('SOLAI T2D SPA'!$C$20<=U91,U91,10000000000))","v":10000000000},null,{"$f":"IF($AZ$91=10000000000,10000000000,IF('SOLAI T2D SPA'!$C$20<=W91,W91,10000000000))","v":10000000000},null,null,null,2964.166666666667]
[null,null,5,{"$f":"A91+B91+C92","v":21},{"$f":"(A91+C92)/100*2500+B91/100*0.4*2500/1.2","v":325},null,1541.8916666666669,null,1693.2583333333334,null,2175.7416666666668,null,2765.6083333333336,null,3568.9083333333338,null,4660.3916666666664,null,5892.3833333333341,null,7240.7333333333336,null,8679.1666666666679,null,3128.3333333333335,null,null,null,null,null,null,null,null,null,null,null,null,null,null,null,null,null,null,null,null,null,null,null,null,{"$f":"IF(AW91=10000000000,10000000000,IF('SOLAI T2D SPA'!$C$7=C92,C92,10000000000))","v":10000000000},{"$f":"AV91+AW91+AX92","v":30000000000},{"$f":"IF(AY92>100000,10000000000,E92)","v":10000000000},null,{"$f":"IF($AZ$92=10000000000,10000000000,IF('SOLAI T2D SPA'!$C$20<=G92,G92,10000000000))","v":10000000000},null,{"$f":"IF($AZ$92=10000000000,10000000000,IF('SOLAI T2D SPA'!$C$20<=I92,I92,10000000000))","v":10000000000},null,{"$f":"IF($AZ$92=10000000000,10000000000,IF('SOLAI T2D SPA'!$C$20<=K92,K92,10000000000))","v":10000000000},null,{"$f":"IF($AZ$92=10000000000,10000000000,IF('SOLAI T2D SPA'!$C$20<=M92,M92,10000000000))","v":10000000000},null,{"$f":"IF($AZ$92=10000000000,10000000000,IF('SOLAI T2D SPA'!$C$20<=O92,O92,10000000000))","v":10000000000},null,{"$f":"IF($AZ$92=10000000000,10000000000,IF('SOLAI T2D SPA'!$C$20<=Q92,Q92,10000000000))","v":10000000000},null,{"$f":"IF($AZ$92=10000000000,10000000000,IF('SOLAI T2D SPA'!$C$20<=S92,S92,10000000000))","v":10000000000},null,{"$f":"IF($AZ$92=10000000000,10000000000,IF('SOLAI T2D SPA'!$C$20<=U92,U92,10000000000))","v":10000000000},null,{"$f":"IF($AZ$92=10000000000,10000000000,IF('SOLAI T2D SPA'!$C$20<=W92,W92,10000000000))","v":10000000000},null,null,null,3128.3333333333335]
[5,null,4,{"$f":"A93+B91+C93","v":21},{"$f":"(A93+C93)/100*2500+B91/100*0.4*2500/1.2","v":325},null,1486.25,null,1626.6166666666668,null,2073.1166666666668,null,2616.0583333333334,null,3350.4833333333336,null,4337.4583333333339,null,5434.8583333333336,null,6620.8333333333339,null,7743.3333333333339,null,3128.3333333333335,null,null,null,null,null,null,null,null,null,null,null,null,null,null,null,null,null,null,null,null,null,"Spessore_5",{"$f":"IF(AW91=10000000000,10000000000,IF('SOLAI T2D SPA'!$C$5=AU93,A93,10000000000))","v":10000000000},null,{"$f":"IF(AW91=10000000000,10000000000,IF('SOLAI T2D SPA'!$C$7=C93,C93,10000000000))","v":10000000000},{"$f":"AV93+AW91+AX93","v":30000000000},10000000000,null,{"$f":"IF($AZ$93=10000000000,10000000000,IF('SOLAI T2D SPA'!$C$20<=G93,G93,10000000000))","v":10000000000},null,{"$f":"IF($AZ$93=10000000000,10000000000,IF('SOLAI T2D SPA'!$C$20<=I93,I93,10000000000))","v":10000000000},null,{"$f":"IF($AZ$93=10000000000,10000000000,IF('SOLAI T2D SPA'!$C$20<=K93,K93,10000000000))","v":10000000000},null,{"$f":"IF($AZ$93=10000000000,10000000000,IF('SOLAI T2D SPA'!$C$20<=M93,M93,10000000000))","v":10000000000},null,{"$f":"IF($AZ$93=10000000000,10000000000,IF('SOLAI T2D SPA'!$C$20<=O93,O93,10000000000))","v":10000000000},null,{"$f":"IF($AZ$93=10000000000,10000000000,IF('SOLAI T2D SPA'!$C$20<=Q93,Q93,10000000000))","v":10000000000},null,{"$f":"IF($AZ$93=10000000000,10000000000,IF('SOLAI T2D SPA'!$C$20<=S93,S93,10000000000))","v":10000000000},null,{"$f":"IF($AZ$93=10000000000,10000000000,IF('SOLAI T2D SPA'!$C$20<=U93,U93,10000000000))","v":10000000000},null,{"$f":"IF($AZ$93=10000000000,10000000000,IF('SOLAI T2D SPA'!$C$20<=W93,W93,10000000000))","v":10000000000},null,null,null,3128.3333333333335]
[null,null,5,{"$f":"A93+B91+C94","v":22},{"$f":"(A93+C94)/100*2500+B91/100*0.4*2500/1.2","v":350},null,1580.1833333333334,null,1731.2583333333334,null,2214.3583333333336,null,2803.8,null,3606.5749999999998,null,4698.6000000000004,null,5930.6166666666677,null,7279.7916666666679,null,8718.0416666666679,null,3293.3333333333335,null,null,null,null,null,null,null,null,null,null,null,null,null,null,null,null,null,null,null,null,null,null,null,null,{"$f":"IF(AW91=10000000000,10000000000,IF('SOLAI T2D SPA'!$C$7=C94,C94,10000000000))","v":10000000000},{"$f":"AV93+AW91+AX94","v":30000000000},10000000000,null,{"$f":"IF($AZ$94=10000000000,10000000000,IF('SOLAI T2D SPA'!$C$20<=G94,G94,10000000000))","v":10000000000},null,{"$f":"IF($AZ$94=10000000000,10000000000,IF('SOLAI T2D SPA'!$C$20<=I94,I94,10000000000))","v":10000000000},null,{"$f":"IF($AZ$94=10000000000,10000000000,IF('SOLAI T2D SPA'!$C$20<=K94,K94,10000000000))","v":10000000000},null,{"$f":"IF($AZ$94=10000000000,10000000000,IF('SOLAI T2D SPA'!$C$20<=M94,M94,10000000000))","v":10000000000},null,{"$f":"IF($AZ$94=10000000000,10000000000,IF('SOLAI T2D SPA'!$C$20<=O94,O94,10000000000))","v":10000000000},null,{"$f":"IF($AZ$94=10000000000,10000000000,IF('SOLAI T2D SPA'!$C$20<=Q94,Q94,10000000000))","v":10000000000},null,{"$f":"IF($AZ$94=10000000000,10000000000,IF('SOLAI T2D SPA'!$C$20<=S94,S94,10000000000))","v":10000000000},null,{"$f":"IF($AZ$94=10000000000,10000000000,IF('SOLAI T2D SPA'!$C$20<=U94,U94,10000000000))","v":10000000000},null,{"$f":"IF($AZ$94=10000000000,10000000000,IF('SOLAI T2D SPA'!$C$20<=W94,W94,10000000000))","v":10000000000},null,null,null,3293.3333333333335]
[4,14,4,{"$f":"A95+B95+C95","v":22},{"$f":"(A95+C95)/100*2500+B95/100*0.4*2500/1.2","v":316.66666666666669},null,1622.875,null,1781.6916666666668,null,2287.6583333333333,null,2904.916666666667,null,3741.041666666667,null,4872.1583333333338,null,6137.7666666666673,null,7515.8333333333339,null,8855.8333333333339,null,3293.3333333333335,null,null,null,null,null,null,null,null,null,null,null,null,null,null,null,null,null,null,null,null,null,"Spessore_4",{"$f":"IF(AW95=10000000000,10000000000,IF('SOLAI T2D SPA'!$C$5=AU95,A95,10000000000))","v":10000000000},{"$f":"IF(AND($AR$90=1,'SOLAI T2D SPA'!$C$6=B95),B95,10000000000)","v":10000000000},{"$f":"IF(AW95=10000000000,10000000000,IF('SOLAI T2D SPA'!$C$7=C95,C95,10000000000))","v":10000000000},{"$f":"AV95+AW95+AX95","v":30000000000},10000000000,null,{"$f":"IF($AZ$95=10000000000,10000000000,IF('SOLAI T2D SPA'!$C$20<=G95,G95,10000000000))","v":10000000000},null,{"$f":"IF($AZ$95=10000000000,10000000000,IF('SOLAI T2D SPA'!$C$20<=I95,I95,10000000000))","v":10000000000},null,{"$f":"IF($AZ$95=10000000000,10000000000,IF('SOLAI T2D SPA'!$C$20<=K95,K95,10000000000))","v":10000000000},null,{"$f":"IF($AZ$95=10000000000,10000000000,IF('SOLAI T2D SPA'!$C$20<=M95,M95,10000000000))","v":10000000000},null,{"$f":"IF($AZ$95=10000000000,10000000000,IF('SOLAI T2D SPA'!$C$20<=O95,O95,10000000000))","v":10000000000},null,{"$f":"IF($AZ$95=10000000000,10000000000,IF('SOLAI T2D SPA'!$C$20<=Q95,Q95,10000000000))","v":10000000000},null,{"$f":"IF($AZ$95=10000000000,10000000000,IF('SOLAI T2D SPA'!$C$20<=S95,S95,10000000000))","v":10000000000},null,{"$f":"IF($AZ$95=10000000000,10000000000,IF('SOLAI T2D SPA'!$C$20<=U95,U95,10000000000))","v":10000000000},null,{"$f":"IF($AZ$95=10000000000,10000000000,IF('SOLAI T2D SPA'!$C$20<=W95,W95,10000000000))","v":10000000000},null,null,null,3293.3333333333335]
[null,null,5,{"$f":"A95+B95+C96","v":23},{"$f":"(A95+C96)/100*2500+B95/100*0.4*2500/1.2","v":341.66666666666669},null,1716.6583333333335,null,1886.375,null,2428.791666666667,null,3092.5333333333338,null,3997.7583333333337,null,5233.2333333333336,null,6632.4833333333336,null,8173.9083333333338,null,9830.0249999999996,null,3395.8333333333335,null,null,null,null,null,null,null,null,null,null,null,null,null,null,null,null,null,null,null,null,null,null,null,null,{"$f":"IF(AW95=10000000000,10000000000,IF('SOLAI T2D SPA'!$C$7=C96,C96,10000000000))","v":10000000000},{"$f":"AV95+AW95+AX96","v":30000000000},10000000000,null,{"$f":"IF($AZ$96=10000000000,10000000000,IF('SOLAI T2D SPA'!$C$20<=G96,G96,10000000000))","v":10000000000},null,{"$f":"IF($AZ$96=10000000000,10000000000,IF('SOLAI T2D SPA'!$C$20<=I96,I96,10000000000))","v":10000000000},null,{"$f":"IF($AZ$96=10000000000,10000000000,IF('SOLAI T2D SPA'!$C$20<=K96,K96,10000000000))","v":10000000000},null,{"$f":"IF($AZ$96=10000000000,10000000000,IF('SOLAI T2D SPA'!$C$20<=M96,M96,10000000000))","v":10000000000},null,{"$f":"IF($AZ$96=10000000000,10000000000,IF('SOLAI T2D SPA'!$C$20<=O96,O96,10000000000))","v":10000000000},null,{"$f":"IF($AZ$96=10000000000,10000000000,IF('SOLAI T2D SPA'!$C$20<=Q96,Q96,10000000000))","v":10000000000},null,{"$f":"IF($AZ$96=10000000000,10000000000,IF('SOLAI T2D SPA'!$C$20<=S96,S96,10000000000))","v":10000000000},null,{"$f":"IF($AZ$96=10000000000,10000000000,IF('SOLAI T2D SPA'!$C$20<=U96,U96,10000000000))","v":10000000000},null,{"$f":"IF($AZ$96=10000000000,10000000000,IF('SOLAI T2D SPA'!$C$20<=W96,W96,10000000000))","v":10000000000},null,null,null,3395.8333333333335]
[5,null,4,{"$f":"A97+B95+C97","v":23},{"$f":"(A97+C97)/100*2500+B95/100*0.4*2500/1.2","v":341.66666666666669},null,1660.9916666666668,null,1819.9666666666669,null,2326.2583333333332,null,2943.2166666666667,null,3779.5250000000001,null,4910.3166666666666,null,6175.8833333333341,null,7554.1666666666679,null,8895,null,3395.8333333333335,null,null,null,null,null,null,null,null,null,null,null,null,null,null,null,null,null,null,null,null,null,"Spessore_5",{"$f":"IF(AW95=10000000000,10000000000,IF('SOLAI T2D SPA'!$C$5=AU97,A97,10000000000))","v":10000000000},null,{"$f":"IF(AW95=10000000000,10000000000,IF('SOLAI T2D SPA'!$C$7=C97,C97,10000000000))","v":10000000000},{"$f":"AV97+AW95+AX97","v":30000000000},10000000000,null,{"$f":"IF($AZ$97=10000000000,10000000000,IF('SOLAI T2D SPA'!$C$20<=G97,G97,10000000000))","v":10000000000},null,{"$f":"IF($AZ$97=10000000000,10000000000,IF('SOLAI T2D SPA'!$C$20<=I97,I97,10000000000))","v":10000000000},null,{"$f":"IF($AZ$97=10000000000,10000000000,IF('SOLAI T2D SPA'!$C$20<=K97,K97,10000000000))","v":10000000000},null,{"$f":"IF($AZ$97=10000000000,10000000000,IF('SOLAI T2D SPA'!$C$20<=M97,M97,10000000000))","v":10000000000},null,{"$f":"IF($AZ$97=10000000000,10000000000,IF('SOLAI T2D SPA'!$C$20<=O97,O97,10000000000))","v":10000000000},null,{"$f":"IF($AZ$97=10000000000,10000000000,IF('SOLAI T2D SPA'!$C$20<=Q97,Q97,10000000000))","v":10000000000},null,{"$f":"IF($AZ$97=10000000000,10000000000,IF('SOLAI T2D SPA'!$C$20<=S97,S97,10000000000))","v":10000000000},null,{"$f":"IF($AZ$97=10000000000,10000000000,IF('SOLAI T2D SPA'!$C$20<=U97,U97,10000000000))","v":10000000000},null,{"$f":"IF($AZ$97=10000000000,10000000000,IF('SOLAI T2D SPA'!$C$20<=W97,W97,10000000000))","v":10000000000},null,null,null,3395.8333333333335]
[null,null,5,{"$f":"A97+B95+C98","v":24},{"$f":"(A97+C98)/100*2500+B95/100*0.4*2500/1.2","v":366.66666666666669},null,1754.9833333333333,null,1924.4833333333333,null,2467.1833333333334,null,3130.9083333333338,null,4036.1166666666668,null,5271.2166666666672,null,6670.7416666666677,null,8211.6083333333336,null,9868.2999999999993,null,3496.666666666667,null,null,null,null,null,null,null,null,null,null,null,null,null,null,null,null,null,null,null,null,null,null,null,null,{"$f":"IF(AW95=10000000000,10000000000,IF('SOLAI T2D SPA'!$C$7=C98,C98,10000000000))","v":10000000000},{"$f":"AV97+AW95+AX98","v":30000000000},10000000000,null,{"$f":"IF($AZ$98=10000000000,10000000000,IF('SOLAI T2D SPA'!$C$20<=G98,G98,10000000000))","v":10000000000},null,{"$f":"IF($AZ$98=10000000000,10000000000,IF('SOLAI T2D SPA'!$C$20<=I98,I98,10000000000))","v":10000000000},null,{"$f":"IF($AZ$98=10000000000,10000000000,IF('SOLAI T2D SPA'!$C$20<=K98,K98,10000000000))","v":10000000000},null,{"$f":"IF($AZ$98=10000000000,10000000000,IF('SOLAI T2D SPA'!$C$20<=M98,M98,10000000000))","v":10000000000},null,{"$f":"IF($AZ$98=10000000000,10000000000,IF('SOLAI T2D SPA'!$C$20<=O98,O98,10000000000))","v":10000000000},null,{"$f":"IF($AZ$98=10000000000,10000000000,IF('SOLAI T2D SPA'!$C$20<=Q98,Q98,10000000000))","v":10000000000},null,{"$f":"IF($AZ$98=10000000000,10000000000,IF('SOLAI T2D SPA'!$C$20<=S98,S98,10000000000))","v":10000000000},null,{"$f":"IF($AZ$98=10000000000,10000000000,IF('SOLAI T2D SPA'!$C$20<=U98,U98,10000000000))","v":10000000000},null,{"$f":"IF($AZ$98=10000000000,10000000000,IF('SOLAI T2D SPA'!$C$20<=W98,W98,10000000000))","v":10000000000},null,null,null,3496.666666666667]
[4,16,4,{"$f":"A99+B99+C99","v":24},{"$f":"(A99+C99)/100*2500+B99/100*0.4*2500/1.2","v":333.33333333333337},null,1797.75,null,1974.9333333333334,null,2540.65,null,3231.4749999999999,null,4170.6499999999996,null,5445.0083333333341,null,6877.8249999999998,null,8449.2333333333336,null,10006.666666666668,null,3496.666666666667,null,null,null,null,null,null,null,null,null,null,null,null,null,null,null,null,null,null,null,null,null,"Spessore_4",{"$f":"IF(AW99=10000000000,10000000000,IF('SOLAI T2D SPA'!$C$5=AU99,A99,10000000000))","v":10000000000},{"$f":"IF(AND($AR$90=1,'SOLAI T2D SPA'!$C$6=B99),B99,10000000000)","v":10000000000},{"$f":"IF(AW99=10000000000,10000000000,IF('SOLAI T2D SPA'!$C$7=C99,C99,10000000000))","v":10000000000},{"$f":"AV99+AW99+AX99","v":30000000000},10000000000,null,{"$f":"IF($AZ$99=10000000000,10000000000,IF('SOLAI T2D SPA'!$C$20<=G99,G99,10000000000))","v":10000000000},null,{"$f":"IF($AZ$99=10000000000,10000000000,IF('SOLAI T2D SPA'!$C$20<=I99,I99,10000000000))","v":10000000000},null,{"$f":"IF($AZ$99=10000000000,10000000000,IF('SOLAI T2D SPA'!$C$20<=K99,K99,10000000000))","v":10000000000},null,{"$f":"IF($AZ$99=10000000000,10000000000,IF('SOLAI T2D SPA'!$C$20<=M99,M99,10000000000))","v":10000000000},null,{"$f":"IF($AZ$99=10000000000,10000000000,IF('SOLAI T2D SPA'!$C$20<=O99,O99,10000000000))","v":10000000000},null,{"$f":"IF($AZ$99=10000000000,10000000000,IF('SOLAI T2D SPA'!$C$20<=Q99,Q99,10000000000))","v":10000000000},null,{"$f":"IF($AZ$99=10000000000,10000000000,IF('SOLAI T2D SPA'!$C$20<=S99,S99,10000000000))","v":10000000000},null,{"$f":"IF($AZ$99=10000000000,10000000000,IF('SOLAI T2D SPA'!$C$20<=U99,U99,10000000000))","v":10000000000},null,{"$f":"IF($AZ$99=10000000000,10000000000,IF('SOLAI T2D SPA'!$C$20<=W99,W99,10000000000))","v":10000000000},null,null,null,3496.666666666667]
[null,null,5,{"$f":"A99+B99+C100","v":25},{"$f":"(A99+C100)/100*2500+B99/100*0.4*2500/1.2","v":358.33333333333337},null,1891.75,null,2079.5250000000001,null,2681.4250000000002,null,3419.2583333333337,null,4427.0916666666672,null,5805.5916666666672,null,7373.1750000000002,null,9106.9083333333328,null,10981.241666666667,null,3597.5,null,null,null,null,null,null,null,null,null,null,null,null,null,null,null,null,null,null,null,null,null,null,null,null,{"$f":"IF(AW99=10000000000,10000000000,IF('SOLAI T2D SPA'!$C$7=C100,C100,10000000000))","v":10000000000},{"$f":"AV99+AW99+AX100","v":30000000000},10000000000,null,{"$f":"IF($AZ$100=10000000000,10000000000,IF('SOLAI T2D SPA'!$C$20<=G100,G100,10000000000))","v":10000000000},null,{"$f":"IF($AZ$100=10000000000,10000000000,IF('SOLAI T2D SPA'!$C$20<=I100,I100,10000000000))","v":10000000000},null,{"$f":"IF($AZ$100=10000000000,10000000000,IF('SOLAI T2D SPA'!$C$20<=K100,K100,10000000000))","v":10000000000},null,{"$f":"IF($AZ$100=10000000000,10000000000,IF('SOLAI T2D SPA'!$C$20<=M100,M100,10000000000))","v":10000000000},null,{"$f":"IF($AZ$100=10000000000,10000000000,IF('SOLAI T2D SPA'!$C$20<=O100,O100,10000000000))","v":10000000000},null,{"$f":"IF($AZ$100=10000000000,10000000000,IF('SOLAI T2D SPA'!$C$20<=Q100,Q100,10000000000))","v":10000000000},null,{"$f":"IF($AZ$100=10000000000,10000000000,IF('SOLAI T2D SPA'!$C$20<=S100,S100,10000000000))","v":10000000000},null,{"$f":"IF($AZ$100=10000000000,10000000000,IF('SOLAI T2D SPA'!$C$20<=U100,U100,10000000000))","v":10000000000},null,{"$f":"IF($AZ$100=10000000000,10000000000,IF('SOLAI T2D SPA'!$C$20<=W100,W100,10000000000))","v":10000000000},null,null,null,3597.5]
[5,null,4,{"$f":"A101+B99+C101","v":25},{"$f":"(A101+C101)/100*2500+B99/100*0.4*2500/1.2","v":358.33333333333337},null,1836.075,null,2013.3166666666668,null,2579.1583333333333,null,3269.9,null,4208.8333333333339,null,5483.5249999999996,null,6916.7833333333338,null,8487.8083333333343,null,10045,null,3597.5,null,null,null,null,null,null,null,null,null,null,null,null,null,null,null,null,null,null,null,null,null,"Spessore_5",{"$f":"IF(AW99=10000000000,10000000000,IF('SOLAI T2D SPA'!$C$5=AU101,A101,10000000000))","v":10000000000},null,{"$f":"IF(AW99=10000000000,10000000000,IF('SOLAI T2D SPA'!$C$7=C101,C101,10000000000))","v":10000000000},{"$f":"AV101+AW99+AX101","v":30000000000},10000000000,null,{"$f":"IF($AZ$101=10000000000,10000000000,IF('SOLAI T2D SPA'!$C$20<=G101,G101,10000000000))","v":10000000000},null,{"$f":"IF($AZ$101=10000000000,10000000000,IF('SOLAI T2D SPA'!$C$20<=I101,I101,10000000000))","v":10000000000},null,{"$f":"IF($AZ$101=10000000000,10000000000,IF('SOLAI T2D SPA'!$C$20<=K101,K101,10000000000))","v":10000000000},null,{"$f":"IF($AZ$101=10000000000,10000000000,IF('SOLAI T2D SPA'!$C$20<=M101,M101,10000000000))","v":10000000000},null,{"$f":"IF($AZ$101=10000000000,10000000000,IF('SOLAI T2D SPA'!$C$20<=O101,O101,10000000000))","v":10000000000},null,{"$f":"IF($AZ$101=10000000000,10000000000,IF('SOLAI T2D SPA'!$C$20<=Q101,Q101,10000000000))","v":10000000000},null,{"$f":"IF($AZ$101=10000000000,10000000000,IF('SOLAI T2D SPA'!$C$20<=S101,S101,10000000000))","v":10000000000},null,{"$f":"IF($AZ$101=10000000000,10000000000,IF('SOLAI T2D SPA'!$C$20<=U101,U101,10000000000))","v":10000000000},null,{"$f":"IF($AZ$101=10000000000,10000000000,IF('SOLAI T2D SPA'!$C$20<=W101,W101,10000000000))","v":10000000000},null,null,null,3597.5]
[null,null,5,{"$f":"A101+B99+C102","v":26},{"$f":"(A101+C102)/100*2500+B99/100*0.4*2500/1.2","v":383.33333333333337},null,1930.0583333333334,null,2117.8916666666669,null,2719.6750000000002,null,3457.625,null,4465.2333333333336,null,5843.9,null,7411.9333333333334,null,9145.5,null,11019.8,null,3696.666666666667,null,null,null,null,null,null,null,null,null,null,null,null,null,null,null,null,null,null,null,null,null,null,null,null,{"$f":"IF(AW99=10000000000,10000000000,IF('SOLAI T2D SPA'!$C$7=C102,C102,10000000000))","v":10000000000},{"$f":"AV101+AW99+AX102","v":30000000000},10000000000,null,{"$f":"IF($AZ$102=10000000000,10000000000,IF('SOLAI T2D SPA'!$C$20<=G102,G102,10000000000))","v":10000000000},null,{"$f":"IF($AZ$102=10000000000,10000000000,IF('SOLAI T2D SPA'!$C$20<=I102,I102,10000000000))","v":10000000000},null,{"$f":"IF($AZ$102=10000000000,10000000000,IF('SOLAI T2D SPA'!$C$20<=K102,K102,10000000000))","v":10000000000},null,{"$f":"IF($AZ$102=10000000000,10000000000,IF('SOLAI T2D SPA'!$C$20<=M102,M102,10000000000))","v":10000000000},null,{"$f":"IF($AZ$102=10000000000,10000000000,IF('SOLAI T2D SPA'!$C$20<=O102,O102,10000000000))","v":10000000000},null,{"$f":"IF($AZ$102=10000000000,10000000000,IF('SOLAI T2D SPA'!$C$20<=Q102,Q102,10000000000))","v":10000000000},null,{"$f":"IF($AZ$102=10000000000,10000000000,IF('SOLAI T2D SPA'!$C$20<=S102,S102,10000000000))","v":10000000000},null,{"$f":"IF($AZ$102=10000000000,10000000000,IF('SOLAI T2D SPA'!$C$20<=U102,U102,10000000000))","v":10000000000},null,{"$f":"IF($AZ$102=10000000000,10000000000,IF('SOLAI T2D SPA'!$C$20<=W102,W102,10000000000))","v":10000000000},null,null,null,3696.666666666667]
[4,18,4,{"$f":"A103+B103+C103","v":26},{"$f":"(A103+C103)/100*2500+B103/100*0.4*2500/1.2","v":350},null,1972.6333333333334,null,2168.375,null,2793.8416666666667,null,3558.3583333333336,null,4599.666666666667,null,6017.2416666666677,null,7618.5166666666673,null,9382.65,null,11157.5,null,3696.666666666667,null,null,null,null,null,null,null,null,null,null,null,null,null,null,null,null,null,null,null,null,null,"Spessore_4",{"$f":"IF(AW103=10000000000,10000000000,IF('SOLAI T2D SPA'!$C$5=AU103,A103,10000000000))","v":10000000000},{"$f":"IF(AND($AR$90=1,'SOLAI T2D SPA'!$C$6=B103),B103,10000000000)","v":10000000000},{"$f":"IF(AW103=10000000000,10000000000,IF('SOLAI T2D SPA'!$C$7=C103,C103,10000000000))","v":10000000000},{"$f":"AV103+AW103+AX103","v":30000000000},10000000000,null,{"$f":"IF($AZ$103=10000000000,10000000000,IF('SOLAI T2D SPA'!$C$20<=G103,G103,10000000000))","v":10000000000},null,{"$f":"IF($AZ$103=10000000000,10000000000,IF('SOLAI T2D SPA'!$C$20<=I103,I103,10000000000))","v":10000000000},null,{"$f":"IF($AZ$103=10000000000,10000000000,IF('SOLAI T2D SPA'!$C$20<=K103,K103,10000000000))","v":10000000000},null,{"$f":"IF($AZ$103=10000000000,10000000000,IF('SOLAI T2D SPA'!$C$20<=M103,M103,10000000000))","v":10000000000},null,{"$f":"IF($AZ$103=10000000000,10000000000,IF('SOLAI T2D SPA'!$C$20<=O103,O103,10000000000))","v":10000000000},null,{"$f":"IF($AZ$103=10000000000,10000000000,IF('SOLAI T2D SPA'!$C$20<=Q103,Q103,10000000000))","v":10000000000},null,{"$f":"IF($AZ$103=10000000000,10000000000,IF('SOLAI T2D SPA'!$C$20<=S103,S103,10000000000))","v":10000000000},null,{"$f":"IF($AZ$103=10000000000,10000000000,IF('SOLAI T2D SPA'!$C$20<=U103,U103,10000000000))","v":10000000000},null,{"$f":"IF($AZ$103=10000000000,10000000000,IF('SOLAI T2D SPA'!$C$20<=W103,W103,10000000000))","v":10000000000},null,null,null,3696.666666666667]
[null,null,5,{"$f":"A103+B103+C104","v":27},{"$f":"(A103+C104)/100*2500+B103/100*0.4*2500/1.2","v":375},null,2066.6,null,2272.9,null,2934.291666666667,null,3745.8666666666668,null,4856.3999999999996,null,6378.3583333333336,null,8113.55,null,10039.766666666668,null,12131.9,null,3795,null,null,null,null,null,null,null,null,null,null,null,null,null,null,null,null,null,null,null,null,null,null,null,null,{"$f":"IF(AW103=10000000000,10000000000,IF('SOLAI T2D SPA'!$C$7=C104,C104,10000000000))","v":10000000000},{"$f":"AV103+AW103+AX104","v":30000000000},10000000000,null,{"$f":"IF($AZ$104=10000000000,10000000000,IF('SOLAI T2D SPA'!$C$20<=G104,G104,10000000000))","v":10000000000},null,{"$f":"IF($AZ$104=10000000000,10000000000,IF('SOLAI T2D SPA'!$C$20<=I104,I104,10000000000))","v":10000000000},null,{"$f":"IF($AZ$104=10000000000,10000000000,IF('SOLAI T2D SPA'!$C$20<=K104,K104,10000000000))","v":10000000000},null,{"$f":"IF($AZ$104=10000000000,10000000000,IF('SOLAI T2D SPA'!$C$20<=M104,M104,10000000000))","v":10000000000},null,{"$f":"IF($AZ$104=10000000000,10000000000,IF('SOLAI T2D SPA'!$C$20<=O104,O104,10000000000))","v":10000000000},null,{"$f":"IF($AZ$104=10000000000,10000000000,IF('SOLAI T2D SPA'!$C$20<=Q104,Q104,10000000000))","v":10000000000},null,{"$f":"IF($AZ$104=10000000000,10000000000,IF('SOLAI T2D SPA'!$C$20<=S104,S104,10000000000))","v":10000000000},null,{"$f":"IF($AZ$104=10000000000,10000000000,IF('SOLAI T2D SPA'!$C$20<=U104,U104,10000000000))","v":10000000000},null,{"$f":"IF($AZ$104=10000000000,10000000000,IF('SOLAI T2D SPA'!$C$20<=W104,W104,10000000000))","v":10000000000},null,null,null,3795]
[5,null,4,{"$f":"A105+B103+C105","v":27},{"$f":"(A105+C105)/100*2500+B103/100*0.4*2500/1.2","v":375},null,2010.9666666666669,null,2206.8083333333334,null,2832.25,null,3596.8666666666668,null,4638.2666666666664,null,6055.6750000000002,null,7657.5833333333339,null,9421.25,null,11195,null,3795,null,null,null,null,null,null,null,null,null,null,null,null,null,null,null,null,null,null,null,null,null,"Spessore_5",{"$f":"IF(AW103=10000000000,10000000000,IF('SOLAI T2D SPA'!$C$5=AU105,A105,10000000000))","v":10000000000},null,{"$f":"IF(AW103=10000000000,10000000000,IF('SOLAI T2D SPA'!$C$7=C105,C105,10000000000))","v":10000000000},{"$f":"AV105+AW103+AX105","v":30000000000},10000000000,null,{"$f":"IF($AZ$105=10000000000,10000000000,IF('SOLAI T2D SPA'!$C$20<=G105,G105,10000000000))","v":10000000000},null,{"$f":"IF($AZ$105=10000000000,10000000000,IF('SOLAI T2D SPA'!$C$20<=I105,I105,10000000000))","v":10000000000},null,{"$f":"IF($AZ$105=10000000000,10000000000,IF('SOLAI T2D SPA'!$C$20<=K105,K105,10000000000))","v":10000000000},null,{"$f":"IF($AZ$105=10000000000,10000000000,IF('SOLAI T2D SPA'!$C$20<=M105,M105,10000000000))","v":10000000000},null,{"$f":"IF($AZ$105=10000000000,10000000000,IF('SOLAI T2D SPA'!$C$20<=O105,O105,10000000000))","v":10000000000},null,{"$f":"IF($AZ$105=10000000000,10000000000,IF('SOLAI T2D SPA'!$C$20<=Q105,Q105,10000000000))","v":10000000000},null,{"$f":"IF($AZ$105=10000000000,10000000000,IF('SOLAI T2D SPA'!$C$20<=S105,S105,10000000000))","v":10000000000},null,{"$f":"IF($AZ$105=10000000000,10000000000,IF('SOLAI T2D SPA'!$C$20<=U105,U105,10000000000))","v":10000000000},null,{"$f":"IF($AZ$105=10000000000,10000000000,IF('SOLAI T2D SPA'!$C$20<=W105,W105,10000000000))","v":10000000000},null,null,null,3795]
[null,null,5,{"$f":"A105+B103+C106","v":28},{"$f":"(A105+C106)/100*2500+B103/100*0.4*2500/1.2","v":400},null,2104.6083333333336,null,2311.2166666666667,null,2972.541666666667,null,3784.4250000000002,null,4894.5333333333338,null,6416.4666666666672,null,8151.9166666666679,null,10078.991666666667,null,12169.833333333336,null,3892.5,null,null,null,null,null,null,null,null,null,null,null,null,null,null,null,null,null,null,null,null,null,null,null,null,{"$f":"IF(AW103=10000000000,10000000000,IF('SOLAI T2D SPA'!$C$7=C106,C106,10000000000))","v":10000000000},{"$f":"AV105+AW103+AX106","v":30000000000},10000000000,null,{"$f":"IF($AZ$106=10000000000,10000000000,IF('SOLAI T2D SPA'!$C$20<=G106,G106,10000000000))","v":10000000000},null,{"$f":"IF($AZ$106=10000000000,10000000000,IF('SOLAI T2D SPA'!$C$20<=I106,I106,10000000000))","v":10000000000},null,{"$f":"IF($AZ$106=10000000000,10000000000,IF('SOLAI T2D SPA'!$C$20<=K106,K106,10000000000))","v":10000000000},null,{"$f":"IF($AZ$106=10000000000,10000000000,IF('SOLAI T2D SPA'!$C$20<=M106,M106,10000000000))","v":10000000000},null,{"$f":"IF($AZ$106=10000000000,10000000000,IF('SOLAI T2D SPA'!$C$20<=O106,O106,10000000000))","v":10000000000},null,{"$f":"IF($AZ$106=10000000000,10000000000,IF('SOLAI T2D SPA'!$C$20<=Q106,Q106,10000000000))","v":10000000000},null,{"$f":"IF($AZ$106=10000000000,10000000000,IF('SOLAI T2D SPA'!$C$20<=S106,S106,10000000000))","v":10000000000},null,{"$f":"IF($AZ$106=10000000000,10000000000,IF('SOLAI T2D SPA'!$C$20<=U106,U106,10000000000))","v":10000000000},null,{"$f":"IF($AZ$106=10000000000,10000000000,IF('SOLAI T2D SPA'!$C$20<=W106,W106,10000000000))","v":10000000000},null,null,null,3892.5]
[4,20,4,{"$f":"A107+B107+C107","v":28},{"$f":"(A107+C107)/100*2500+B107/100*0.4*2500/1.2","v":366.66666666666669},null,2147.5,null,2361.8666666666668,null,3046.7416666666668,null,3885.3083333333338,null,5028.875,null,6590.3666666666677,null,8359.7000000000007,null,10316.216666666667,null,12307.5,null,3892.5,null,null,null,null,null,null,null,null,null,null,null,null,null,null,null,null,null,null,null,null,null,"Spessore_4",{"$f":"IF(AW107=10000000000,10000000000,IF('SOLAI T2D SPA'!$C$5=AU107,A107,10000000000))","v":10000000000},{"$f":"IF(AND($AR$90=1,'SOLAI T2D SPA'!$C$6=B107),B107,10000000000)","v":10000000000},{"$f":"IF(AW107=10000000000,10000000000,IF('SOLAI T2D SPA'!$C$7=C107,C107,10000000000))","v":10000000000},{"$f":"AV107+AW107+AX107","v":30000000000},10000000000,null,{"$f":"IF($AZ$107=10000000000,10000000000,IF('SOLAI T2D SPA'!$C$20<=G107,G107,10000000000))","v":10000000000},null,{"$f":"IF($AZ$107=10000000000,10000000000,IF('SOLAI T2D SPA'!$C$20<=I107,I107,10000000000))","v":10000000000},null,{"$f":"IF($AZ$107=10000000000,10000000000,IF('SOLAI T2D SPA'!$C$20<=K107,K107,10000000000))","v":10000000000},null,{"$f":"IF($AZ$107=10000000000,10000000000,IF('SOLAI T2D SPA'!$C$20<=M107,M107,10000000000))","v":10000000000},null,{"$f":"IF($AZ$107=10000000000,10000000000,IF('SOLAI T2D SPA'!$C$20<=O107,O107,10000000000))","v":10000000000},null,{"$f":"IF($AZ$107=10000000000,10000000000,IF('SOLAI T2D SPA'!$C$20<=Q107,Q107,10000000000))","v":10000000000},null,{"$f":"IF($AZ$107=10000000000,10000000000,IF('SOLAI T2D SPA'!$C$20<=S107,S107,10000000000))","v":10000000000},null,{"$f":"IF($AZ$107=10000000000,10000000000,IF('SOLAI T2D SPA'!$C$20<=U107,U107,10000000000))","v":10000000000},null,{"$f":"IF($AZ$107=10000000000,10000000000,IF('SOLAI T2D SPA'!$C$20<=W107,W107,10000000000))","v":10000000000},null,null,null,3892.5]
[null,null,5,{"$f":"A107+B107+C108","v":29},{"$f":"(A107+C108)/100*2500+B107/100*0.4*2500/1.2","v":391.66666666666669},null,2241.35,null,2466.4,null,3187.0250000000001,null,4072.8083333333338,null,5285.6083333333336,null,6951.2749999999996,null,8854.5583333333343,null,10973.208333333336,null,13281.808333333334,null,3989.166666666667,null,null,null,null,null,null,null,null,null,null,null,null,null,null,null,null,null,null,null,null,null,null,null,null,{"$f":"IF(AW107=10000000000,10000000000,IF('SOLAI T2D SPA'!$C$7=C108,C108,10000000000))","v":10000000000},{"$f":"AV107+AW107+AX108","v":30000000000},10000000000,null,{"$f":"IF($AZ$108=10000000000,10000000000,IF('SOLAI T2D SPA'!$C$20<=G108,G108,10000000000))","v":10000000000},null,{"$f":"IF($AZ$108=10000000000,10000000000,IF('SOLAI T2D SPA'!$C$20<=I108,I108,10000000000))","v":10000000000},null,{"$f":"IF($AZ$108=10000000000,10000000000,IF('SOLAI T2D SPA'!$C$20<=K108,K108,10000000000))","v":10000000000},null,{"$f":"IF($AZ$108=10000000000,10000000000,IF('SOLAI T2D SPA'!$C$20<=M108,M108,10000000000))","v":10000000000},null,{"$f":"IF($AZ$108=10000000000,10000000000,IF('SOLAI T2D SPA'!$C$20<=O108,O108,10000000000))","v":10000000000},null,{"$f":"IF($AZ$108=10000000000,10000000000,IF('SOLAI T2D SPA'!$C$20<=Q108,Q108,10000000000))","v":10000000000},null,{"$f":"IF($AZ$108=10000000000,10000000000,IF('SOLAI T2D SPA'!$C$20<=S108,S108,10000000000))","v":10000000000},null,{"$f":"IF($AZ$108=10000000000,10000000000,IF('SOLAI T2D SPA'!$C$20<=U108,U108,10000000000))","v":10000000000},null,{"$f":"IF($AZ$108=10000000000,10000000000,IF('SOLAI T2D SPA'!$C$20<=W108,W108,10000000000))","v":10000000000},null,null,null,3989.166666666667]
[5,null,4,{"$f":"A109+B107+C109","v":29},{"$f":"(A109+C109)/100*2500+B107/100*0.4*2500/1.2","v":391.66666666666669},null,2185.7833333333333,null,2399.9749999999999,null,3085.3583333333336,null,3923.7,null,5067.1083333333336,null,6628.85,null,8397.85,null,10354.5,null,12345,null,3989.166666666667,null,null,null,null,null,null,null,null,null,null,null,null,null,null,null,null,null,null,null,null,null,"Spessore_5",{"$f":"IF(AW107=10000000000,10000000000,IF('SOLAI T2D SPA'!$C$5=AU109,A109,10000000000))","v":10000000000},null,{"$f":"IF(AW107=10000000000,10000000000,IF('SOLAI T2D SPA'!$C$7=C109,C109,10000000000))","v":10000000000},{"$f":"AV109+AW107+AX109","v":30000000000},10000000000,null,{"$f":"IF($AZ$109=10000000000,10000000000,IF('SOLAI T2D SPA'!$C$20<=G109,G109,10000000000))","v":10000000000},null,{"$f":"IF($AZ$109=10000000000,10000000000,IF('SOLAI T2D SPA'!$C$20<=I109,I109,10000000000))","v":10000000000},null,{"$f":"IF($AZ$109=10000000000,10000000000,IF('SOLAI T2D SPA'!$C$20<=K109,K109,10000000000))","v":10000000000},null,{"$f":"IF($AZ$109=10000000000,10000000000,IF('SOLAI T2D SPA'!$C$20<=M109,M109,10000000000))","v":10000000000},null,{"$f":"IF($AZ$109=10000000000,10000000000,IF('SOLAI T2D SPA'!$C$20<=O109,O109,10000000000))","v":10000000000},null,{"$f":"IF($AZ$109=10000000000,10000000000,IF('SOLAI T2D SPA'!$C$20<=Q109,Q109,10000000000))","v":10000000000},null,{"$f":"IF($AZ$109=10000000000,10000000000,IF('SOLAI T2D SPA'!$C$20<=S109,S109,10000000000))","v":10000000000},null,{"$f":"IF($AZ$109=10000000000,10000000000,IF('SOLAI T2D SPA'!$C$20<=U109,U109,10000000000))","v":10000000000},null,{"$f":"IF($AZ$109=10000000000,10000000000,IF('SOLAI T2D SPA'!$C$20<=W109,W109,10000000000))","v":10000000000},null,null,null,3989.166666666667]
[null,null,5,{"$f":"A109+B107+C110","v":30},{"$f":"(A109+C110)/100*2500+B107/100*0.4*2500/1.2","v":416.66666666666669},null,2279.541666666667,null,2504.5083333333332,null,3225.3666666666668,null,4111.166666666667,null,5324.1333333333341,null,6989.5,null,8892.75,null,11011.891666666668,null,13320.308333333334,null,4085.8333333333335,null,null,null,null,null,null,null,null,null,null,null,null,null,null,null,null,null,null,null,null,null,null,null,null,{"$f":"IF(AW107=10000000000,10000000000,IF('SOLAI T2D SPA'!$C$7=C110,C110,10000000000))","v":10000000000},{"$f":"AV109+AW107+AX110","v":30000000000},10000000000,null,{"$f":"IF($AZ$110=10000000000,10000000000,IF('SOLAI T2D SPA'!$C$20<=G110,G110,10000000000))","v":10000000000},null,{"$f":"IF($AZ$110=10000000000,10000000000,IF('SOLAI T2D SPA'!$C$20<=I110,I110,10000000000))","v":10000000000},null,{"$f":"IF($AZ$110=10000000000,10000000000,IF('SOLAI T2D SPA'!$C$20<=K110,K110,10000000000))","v":10000000000},null,{"$f":"IF($AZ$110=10000000000,10000000000,IF('SOLAI T2D SPA'!$C$20<=M110,M110,10000000000))","v":10000000000},null,{"$f":"IF($AZ$110=10000000000,10000000000,IF('SOLAI T2D SPA'!$C$20<=O110,O110,10000000000))","v":10000000000},null,{"$f":"IF($AZ$110=10000000000,10000000000,IF('SOLAI T2D SPA'!$C$20<=Q110,Q110,10000000000))","v":10000000000},null,{"$f":"IF($AZ$110=10000000000,10000000000,IF('SOLAI T2D SPA'!$C$20<=S110,S110,10000000000))","v":10000000000},null,{"$f":"IF($AZ$110=10000000000,10000000000,IF('SOLAI T2D SPA'!$C$20<=U110,U110,10000000000))","v":10000000000},null,{"$f":"IF($AZ$110=10000000000,10000000000,IF('SOLAI T2D SPA'!$C$20<=W110,W110,10000000000))","v":10000000000},null,null,null,4085.8333333333335]
[4,22,4,{"$f":"A111+B111+C111","v":30},{"$f":"(A111+C111)/100*2500+B111/100*0.4*2500/1.2","v":383.33333333333337},null,2322.4916666666668,null,2555.2583333333332,null,3299.45,null,4211.8999999999996,null,5458.25,null,7162.6,null,9100.4666666666672,null,11249.391666666668,null,13458.333333333336,null,4085.8333333333335,null,null,null,null,null,null,null,null,null,null,null,null,null,null,null,null,null,null,null,null,null,"Spessore_4",{"$f":"IF(AW111=10000000000,10000000000,IF('SOLAI T2D SPA'!$C$5=AU111,A111,10000000000))","v":10000000000},{"$f":"IF(AND($AR$90=1,'SOLAI T2D SPA'!$C$6=B111),B111,10000000000)","v":10000000000},{"$f":"IF(AW111=10000000000,10000000000,IF('SOLAI T2D SPA'!$C$7=C111,C111,10000000000))","v":10000000000},{"$f":"AV111+AW111+AX111","v":30000000000},10000000000,null,{"$f":"IF($AZ$111=10000000000,10000000000,IF('SOLAI T2D SPA'!$C$20<=G111,G111,10000000000))","v":10000000000},null,{"$f":"IF($AZ$111=10000000000,10000000000,IF('SOLAI T2D SPA'!$C$20<=I111,I111,10000000000))","v":10000000000},null,{"$f":"IF($AZ$111=10000000000,10000000000,IF('SOLAI T2D SPA'!$C$20<=K111,K111,10000000000))","v":10000000000},null,{"$f":"IF($AZ$111=10000000000,10000000000,IF('SOLAI T2D SPA'!$C$20<=M111,M111,10000000000))","v":10000000000},null,{"$f":"IF($AZ$111=10000000000,10000000000,IF('SOLAI T2D SPA'!$C$20<=O111,O111,10000000000))","v":10000000000},null,{"$f":"IF($AZ$111=10000000000,10000000000,IF('SOLAI T2D SPA'!$C$20<=Q111,Q111,10000000000))","v":10000000000},null,{"$f":"IF($AZ$111=10000000000,10000000000,IF('SOLAI T2D SPA'!$C$20<=S111,S111,10000000000))","v":10000000000},null,{"$f":"IF($AZ$111=10000000000,10000000000,IF('SOLAI T2D SPA'!$C$20<=U111,U111,10000000000))","v":10000000000},null,{"$f":"IF($AZ$111=10000000000,10000000000,IF('SOLAI T2D SPA'!$C$20<=W111,W111,10000000000))","v":10000000000},null,null,null,4085.8333333333335]
[null,null,5,{"$f":"A111+B111+C112","v":31},{"$f":"(A111+C112)/100*2500+B111/100*0.4*2500/1.2","v":408.33333333333337},null,2416.1416666666669,null,2659.3666666666668,null,3439.6083333333336,null,4399.166666666667,null,5714.8333333333339,null,7523.45,null,9594.9333333333343,null,11906.308333333334,null,14432.174999999999,null,4180.8333333333339,null,null,null,null,null,null,null,null,null,null,null,null,null,null,null,null,null,null,null,null,null,null,null,null,{"$f":"IF(AW111=10000000000,10000000000,IF('SOLAI T2D SPA'!$C$7=C112,C112,10000000000))","v":10000000000},{"$f":"AV111+AW111+AX112","v":30000000000},10000000000,null,{"$f":"IF($AZ$112=10000000000,10000000000,IF('SOLAI T2D SPA'!$C$20<=G112,G112,10000000000))","v":10000000000},null,{"$f":"IF($AZ$112=10000000000,10000000000,IF('SOLAI T2D SPA'!$C$20<=I112,I112,10000000000))","v":10000000000},null,{"$f":"IF($AZ$112=10000000000,10000000000,IF('SOLAI T2D SPA'!$C$20<=K112,K112,10000000000))","v":10000000000},null,{"$f":"IF($AZ$112=10000000000,10000000000,IF('SOLAI T2D SPA'!$C$20<=M112,M112,10000000000))","v":10000000000},null,{"$f":"IF($AZ$112=10000000000,10000000000,IF('SOLAI T2D SPA'!$C$20<=O112,O112,10000000000))","v":10000000000},null,{"$f":"IF($AZ$112=10000000000,10000000000,IF('SOLAI T2D SPA'!$C$20<=Q112,Q112,10000000000))","v":10000000000},null,{"$f":"IF($AZ$112=10000000000,10000000000,IF('SOLAI T2D SPA'!$C$20<=S112,S112,10000000000))","v":10000000000},null,{"$f":"IF($AZ$112=10000000000,10000000000,IF('SOLAI T2D SPA'!$C$20<=U112,U112,10000000000))","v":10000000000},null,{"$f":"IF($AZ$112=10000000000,10000000000,IF('SOLAI T2D SPA'!$C$20<=W112,W112,10000000000))","v":10000000000},null,null,null,4180.8333333333339]
[5,null,4,{"$f":"A113+B111+C113","v":31},{"$f":"(A113+C113)/100*2500+B111/100*0.4*2500/1.2","v":408.33333333333337},null,2360.8833333333332,null,2593.2833333333333,null,3337.9916666666668,null,4250.4666666666672,null,5496.3583333333336,null,7201.4166666666679,null,9138.7583333333332,null,11287.916666666668,null,13495.833333333336,null,4180.8333333333339,null,null,null,null,null,null,null,null,null,null,null,null,null,null,null,null,null,null,null,null,null,"Spessore_5",{"$f":"IF(AW111=10000000000,10000000000,IF('SOLAI T2D SPA'!$C$5=AU113,A113,10000000000))","v":10000000000},null,{"$f":"IF(AW111=10000000000,10000000000,IF('SOLAI T2D SPA'!$C$7=C113,C113,10000000000))","v":10000000000},{"$f":"AV113+AW111+AX113","v":30000000000},10000000000,null,{"$f":"IF($AZ$113=10000000000,10000000000,IF('SOLAI T2D SPA'!$C$20<=G113,G113,10000000000))","v":10000000000},null,{"$f":"IF($AZ$113=10000000000,10000000000,IF('SOLAI T2D SPA'!$C$20<=I113,I113,10000000000))","v":10000000000},null,{"$f":"IF($AZ$113=10000000000,10000000000,IF('SOLAI T2D SPA'!$C$20<=K113,K113,10000000000))","v":10000000000},null,{"$f":"IF($AZ$113=10000000000,10000000000,IF('SOLAI T2D SPA'!$C$20<=M113,M113,10000000000))","v":10000000000},null,{"$f":"IF($AZ$113=10000000000,10000000000,IF('SOLAI T2D SPA'!$C$20<=O113,O113,10000000000))","v":10000000000},null,{"$f":"IF($AZ$113=10000000000,10000000000,IF('SOLAI T2D SPA'!$C$20<=Q113,Q113,10000000000))","v":10000000000},null,{"$f":"IF($AZ$113=10000000000,10000000000,IF('SOLAI T2D SPA'!$C$20<=S113,S113,10000000000))","v":10000000000},null,{"$f":"IF($AZ$113=10000000000,10000000000,IF('SOLAI T2D SPA'!$C$20<=U113,U113,10000000000))","v":10000000000},null,{"$f":"IF($AZ$113=10000000000,10000000000,IF('SOLAI T2D SPA'!$C$20<=W113,W113,10000000000))","v":10000000000},null,null,null,4180.8333333333339]
[null,null,5,{"$f":"A113+B111+C114","v":32},{"$f":"(A113+C114)/100*2500+B111/100*0.4*2500/1.2","v":433.33333333333337},null,2454.1916666666671,null,2697.541666666667,null,3477.8083333333338,null,4437.4083333333338,null,5752.8583333333336,null,7562.2916666666679,null,9633.3666666666668,null,11944.8,null,14469.883333333335,null,4275.8333333333339,null,null,null,null,null,null,null,null,null,null,null,null,null,null,null,null,null,null,null,null,null,null,null,null,{"$f":"IF(AW111=10000000000,10000000000,IF('SOLAI T2D SPA'!$C$7=C114,C114,10000000000))","v":10000000000},{"$f":"AV113+AW111+AX114","v":30000000000},10000000000,null,{"$f":"IF($AZ$114=10000000000,10000000000,IF('SOLAI T2D SPA'!$C$20<=G114,G114,10000000000))","v":10000000000},null,{"$f":"IF($AZ$114=10000000000,10000000000,IF('SOLAI T2D SPA'!$C$20<=I114,I114,10000000000))","v":10000000000},null,{"$f":"IF($AZ$114=10000000000,10000000000,IF('SOLAI T2D SPA'!$C$20<=K114,K114,10000000000))","v":10000000000},null,{"$f":"IF($AZ$114=10000000000,10000000000,IF('SOLAI T2D SPA'!$C$20<=M114,M114,10000000000))","v":10000000000},null,{"$f":"IF($AZ$114=10000000000,10000000000,IF('SOLAI T2D SPA'!$C$20<=O114,O114,10000000000))","v":10000000000},null,{"$f":"IF($AZ$114=10000000000,10000000000,IF('SOLAI T2D SPA'!$C$20<=Q114,Q114,10000000000))","v":10000000000},null,{"$f":"IF($AZ$114=10000000000,10000000000,IF('SOLAI T2D SPA'!$C$20<=S114,S114,10000000000))","v":10000000000},null,{"$f":"IF($AZ$114=10000000000,10000000000,IF('SOLAI T2D SPA'!$C$20<=U114,U114,10000000000))","v":10000000000},null,{"$f":"IF($AZ$114=10000000000,10000000000,IF('SOLAI T2D SPA'!$C$20<=W114,W114,10000000000))","v":10000000000},null,null,null,4275.8333333333339]
[4,24,4,{"$f":"A115+B115+C115","v":32},{"$f":"(A115+C115)/100*2500+B115/100*0.4*2500/1.2","v":400},null,2497.2750000000001,null,2748.4583333333339,null,3552.4583333333339,null,4538.7833333333338,null,5887.3,null,7735.2833333333338,null,9841.2250000000004,null,12182.758333333335,null,14607.5,null,4275.8333333333339,null,null,null,null,null,null,null,null,null,null,null,null,null,null,null,null,null,null,null,null,null,"Spessore_4",{"$f":"IF(AW115=10000000000,10000000000,IF('SOLAI T2D SPA'!$C$5=AU115,A115,10000000000))","v":10000000000},{"$f":"IF(AND($AR$90=1,'SOLAI T2D SPA'!$C$6=B115),B115,10000000000)","v":10000000000},{"$f":"IF(AW115=10000000000,10000000000,IF('SOLAI T2D SPA'!$C$7=C115,C115,10000000000))","v":10000000000},{"$f":"AV115+AW115+AX115","v":30000000000},10000000000,null,{"$f":"IF($AZ$115=10000000000,10000000000,IF('SOLAI T2D SPA'!$C$20<=G115,G115,10000000000))","v":10000000000},null,{"$f":"IF($AZ$115=10000000000,10000000000,IF('SOLAI T2D SPA'!$C$20<=I115,I115,10000000000))","v":10000000000},null,{"$f":"IF($AZ$115=10000000000,10000000000,IF('SOLAI T2D SPA'!$C$20<=K115,K115,10000000000))","v":10000000000},null,{"$f":"IF($AZ$115=10000000000,10000000000,IF('SOLAI T2D SPA'!$C$20<=M115,M115,10000000000))","v":10000000000},null,{"$f":"IF($AZ$115=10000000000,10000000000,IF('SOLAI T2D SPA'!$C$20<=O115,O115,10000000000))","v":10000000000},null,{"$f":"IF($AZ$115=10000000000,10000000000,IF('SOLAI T2D SPA'!$C$20<=Q115,Q115,10000000000))","v":10000000000},null,{"$f":"IF($AZ$115=10000000000,10000000000,IF('SOLAI T2D SPA'!$C$20<=S115,S115,10000000000))","v":10000000000},null,{"$f":"IF($AZ$115=10000000000,10000000000,IF('SOLAI T2D SPA'!$C$20<=U115,U115,10000000000))","v":10000000000},null,{"$f":"IF($AZ$115=10000000000,10000000000,IF('SOLAI T2D SPA'!$C$20<=W115,W115,10000000000))","v":10000000000},null,null,null,4275.8333333333339]
[null,null,5,{"$f":"A115+B115+C116","v":33},{"$f":"(A115+C116)/100*2500+B115/100*0.4*2500/1.2","v":425},null,2590.916666666667,null,2852.5833333333339,null,3692.3416666666667,null,4725.666666666667,null,6143.6583333333338,null,8096.75,null,10335.591666666667,null,12840.05,null,15582.033333333335,null,4370,null,null,null,null,null,null,null,null,null,null,null,null,null,null,null,null,null,null,null,null,null,null,null,null,{"$f":"IF(AW115=10000000000,10000000000,IF('SOLAI T2D SPA'!$C$7=C116,C116,10000000000))","v":10000000000},{"$f":"AV115+AW115+AX116","v":30000000000},10000000000,null,{"$f":"IF($AZ$116=10000000000,10000000000,IF('SOLAI T2D SPA'!$C$20<=G116,G116,10000000000))","v":10000000000},null,{"$f":"IF($AZ$116=10000000000,10000000000,IF('SOLAI T2D SPA'!$C$20<=I116,I116,10000000000))","v":10000000000},null,{"$f":"IF($AZ$116=10000000000,10000000000,IF('SOLAI T2D SPA'!$C$20<=K116,K116,10000000000))","v":10000000000},null,{"$f":"IF($AZ$116=10000000000,10000000000,IF('SOLAI T2D SPA'!$C$20<=M116,M116,10000000000))","v":10000000000},null,{"$f":"IF($AZ$116=10000000000,10000000000,IF('SOLAI T2D SPA'!$C$20<=O116,O116,10000000000))","v":10000000000},null,{"$f":"IF($AZ$116=10000000000,10000000000,IF('SOLAI T2D SPA'!$C$20<=Q116,Q116,10000000000))","v":10000000000},null,{"$f":"IF($AZ$116=10000000000,10000000000,IF('SOLAI T2D SPA'!$C$20<=S116,S116,10000000000))","v":10000000000},null,{"$f":"IF($AZ$116=10000000000,10000000000,IF('SOLAI T2D SPA'!$C$20<=U116,U116,10000000000))","v":10000000000},null,{"$f":"IF($AZ$116=10000000000,10000000000,IF('SOLAI T2D SPA'!$C$20<=W116,W116,10000000000))","v":10000000000},null,null,null,4370]
[5,null,4,{"$f":"A117+B115+C117","v":33},{"$f":"(A117+C117)/100*2500+B115/100*0.4*2500/1.2","v":425},null,2535.416666666667,null,2786.9,null,3590.4416666666671,null,4576.8666666666668,null,5925.6666666666679,null,7774.1,null,9879.0249999999996,null,12220.941666666668,null,14646.666666666668,null,4370,null,null,null,null,null,null,null,null,null,null,null,null,null,null,null,null,null,null,null,null,null,"Spessore_5",{"$f":"IF(AW115=10000000000,10000000000,IF('SOLAI T2D SPA'!$C$5=AU117,A117,10000000000))","v":10000000000},null,{"$f":"IF(AW115=10000000000,10000000000,IF('SOLAI T2D SPA'!$C$7=C117,C117,10000000000))","v":10000000000},{"$f":"AV117+AW115+AX117","v":30000000000},10000000000,null,{"$f":"IF($AZ$117=10000000000,10000000000,IF('SOLAI T2D SPA'!$C$20<=G117,G117,10000000000))","v":10000000000},null,{"$f":"IF($AZ$117=10000000000,10000000000,IF('SOLAI T2D SPA'!$C$20<=I117,I117,10000000000))","v":10000000000},null,{"$f":"IF($AZ$117=10000000000,10000000000,IF('SOLAI T2D SPA'!$C$20<=K117,K117,10000000000))","v":10000000000},null,{"$f":"IF($AZ$117=10000000000,10000000000,IF('SOLAI T2D SPA'!$C$20<=M117,M117,10000000000))","v":10000000000},null,{"$f":"IF($AZ$117=10000000000,10000000000,IF('SOLAI T2D SPA'!$C$20<=O117,O117,10000000000))","v":10000000000},null,{"$f":"IF($AZ$117=10000000000,10000000000,IF('SOLAI T2D SPA'!$C$20<=Q117,Q117,10000000000))","v":10000000000},null,{"$f":"IF($AZ$117=10000000000,10000000000,IF('SOLAI T2D SPA'!$C$20<=S117,S117,10000000000))","v":10000000000},null,{"$f":"IF($AZ$117=10000000000,10000000000,IF('SOLAI T2D SPA'!$C$20<=U117,U117,10000000000))","v":10000000000},null,{"$f":"IF($AZ$117=10000000000,10000000000,IF('SOLAI T2D SPA'!$C$20<=W117,W117,10000000000))","v":10000000000},null,null,null,4370]
[null,null,5,{"$f":"A117+B115+C118","v":34},{"$f":"(A117+C118)/100*2500+B115/100*0.4*2500/1.2","v":450},null,2629.0749999999998,null,2890.916666666667,null,3730.3333333333339,null,4764.0833333333339,null,6182.45,null,8135.0916666666672,null,10373.85,null,12879.083333333336,null,15621.275,null,4463.3333333333339,null,null,null,null,null,null,null,null,null,null,null,null,null,null,null,null,null,null,null,null,null,null,null,null,{"$f":"IF(AW115=10000000000,10000000000,IF('SOLAI T2D SPA'!$C$7=C118,C118,10000000000))","v":10000000000},{"$f":"AV117+AW115+AX118","v":30000000000},10000000000,null,{"$f":"IF($AZ$118=10000000000,10000000000,IF('SOLAI T2D SPA'!$C$20<=G118,G118,10000000000))","v":10000000000},null,{"$f":"IF($AZ$118=10000000000,10000000000,IF('SOLAI T2D SPA'!$C$20<=I118,I118,10000000000))","v":10000000000},null,{"$f":"IF($AZ$118=10000000000,10000000000,IF('SOLAI T2D SPA'!$C$20<=K118,K118,10000000000))","v":10000000000},null,{"$f":"IF($AZ$118=10000000000,10000000000,IF('SOLAI T2D SPA'!$C$20<=M118,M118,10000000000))","v":10000000000},null,{"$f":"IF($AZ$118=10000000000,10000000000,IF('SOLAI T2D SPA'!$C$20<=O118,O118,10000000000))","v":10000000000},null,{"$f":"IF($AZ$118=10000000000,10000000000,IF('SOLAI T2D SPA'!$C$20<=Q118,Q118,10000000000))","v":10000000000},null,{"$f":"IF($AZ$118=10000000000,10000000000,IF('SOLAI T2D SPA'!$C$20<=S118,S118,10000000000))","v":10000000000},null,{"$f":"IF($AZ$118=10000000000,10000000000,IF('SOLAI T2D SPA'!$C$20<=U118,U118,10000000000))","v":10000000000},null,{"$f":"IF($AZ$118=10000000000,10000000000,IF('SOLAI T2D SPA'!$C$20<=W118,W118,10000000000))","v":10000000000},null,null,null,4463.3333333333339]
[4,30,4,{"$f":"A119+B119+C119","v":38},{"$f":"(A119+C119)/100*2500+B119/100*0.4*2500/1.2","v":450},null,3021.9,null,3328.3833333333337,null,4310.6333333333341,null,5518.8333333333339,null,7174.9416666666675,null,9453.3166666666675,null,12062.241666666667,null,14981.991666666667,null,18059.108333333334,null,4832.5,null,null,null,null,null,null,null,null,null,null,null,null,null,null,null,null,null,null,null,null,null,"Spessore_4",{"$f":"IF(AW119=10000000000,10000000000,IF('SOLAI T2D SPA'!$C$5=AU119,A119,10000000000))","v":10000000000},{"$f":"IF(AND($AR$90=1,'SOLAI T2D SPA'!$C$6=B119),B119,10000000000)","v":10000000000},{"$f":"IF(AW119=10000000000,10000000000,IF('SOLAI T2D SPA'!$C$7=C119,C119,10000000000))","v":10000000000},{"$f":"AV119+AW119+AX119","v":30000000000},10000000000,null,{"$f":"IF($AZ$119=10000000000,10000000000,IF('SOLAI T2D SPA'!$C$20<=G119,G119,10000000000))","v":10000000000},null,{"$f":"IF($AZ$119=10000000000,10000000000,IF('SOLAI T2D SPA'!$C$20<=I119,I119,10000000000))","v":10000000000},null,{"$f":"IF($AZ$119=10000000000,10000000000,IF('SOLAI T2D SPA'!$C$20<=K119,K119,10000000000))","v":10000000000},null,{"$f":"IF($AZ$119=10000000000,10000000000,IF('SOLAI T2D SPA'!$C$20<=M119,M119,10000000000))","v":10000000000},null,{"$f":"IF($AZ$119=10000000000,10000000000,IF('SOLAI T2D SPA'!$C$20<=O119,O119,10000000000))","v":10000000000},null,{"$f":"IF($AZ$119=10000000000,10000000000,IF('SOLAI T2D SPA'!$C$20<=Q119,Q119,10000000000))","v":10000000000},null,{"$f":"IF($AZ$119=10000000000,10000000000,IF('SOLAI T2D SPA'!$C$20<=S119,S119,10000000000))","v":10000000000},null,{"$f":"IF($AZ$119=10000000000,10000000000,IF('SOLAI T2D SPA'!$C$20<=U119,U119,10000000000))","v":10000000000},null,{"$f":"IF($AZ$119=10000000000,10000000000,IF('SOLAI T2D SPA'!$C$20<=W119,W119,10000000000))","v":10000000000},null,null,null,4832.5]
[null,null,5,{"$f":"A119+B119+C120","v":39},{"$f":"(A119+C120)/100*2500+B119/100*0.4*2500/1.2","v":475},null,3115.0916666666667,null,3432.3833333333337,null,4449.8,null,5704.7416666666677,null,7431.4166666666679,null,9814.3833333333332,null,12557.316666666668,null,15639.45,null,19034.099999999999,null,4923.3333333333339,null,null,null,null,null,null,null,null,null,null,null,null,null,null,null,null,null,null,null,null,null,null,null,null,{"$f":"IF(AW119=10000000000,10000000000,IF('SOLAI T2D SPA'!$C$7=C120,C120,10000000000))","v":10000000000},{"$f":"AV119+AW119+AX120","v":30000000000},10000000000,null,{"$f":"IF($AZ$120=10000000000,10000000000,IF('SOLAI T2D SPA'!$C$20<=G120,G120,10000000000))","v":10000000000},null,{"$f":"IF($AZ$120=10000000000,10000000000,IF('SOLAI T2D SPA'!$C$20<=I120,I120,10000000000))","v":10000000000},null,{"$f":"IF($AZ$120=10000000000,10000000000,IF('SOLAI T2D SPA'!$C$20<=K120,K120,10000000000))","v":10000000000},null,{"$f":"IF($AZ$120=10000000000,10000000000,IF('SOLAI T2D SPA'!$C$20<=M120,M120,10000000000))","v":10000000000},null,{"$f":"IF($AZ$120=10000000000,10000000000,IF('SOLAI T2D SPA'!$C$20<=O120,O120,10000000000))","v":10000000000},null,{"$f":"IF($AZ$120=10000000000,10000000000,IF('SOLAI T2D SPA'!$C$20<=Q120,Q120,10000000000))","v":10000000000},null,{"$f":"IF($AZ$120=10000000000,10000000000,IF('SOLAI T2D SPA'!$C$20<=S120,S120,10000000000))","v":10000000000},null,{"$f":"IF($AZ$120=10000000000,10000000000,IF('SOLAI T2D SPA'!$C$20<=U120,U120,10000000000))","v":10000000000},null,{"$f":"IF($AZ$120=10000000000,10000000000,IF('SOLAI T2D SPA'!$C$20<=W120,W120,10000000000))","v":10000000000},null,null,null,4923.3333333333339]
[5,null,4,{"$f":"A121+B119+C121","v":39},{"$f":"(A121+C121)/100*2500+B119/100*0.4*2500/1.2","v":475},null,3060.0916666666667,null,3366.4416666666671,null,4348.6416666666664,null,5556.85,null,7213.3249999999998,null,9491.2749999999996,null,12101.591666666667,null,15020.416666666668,null,18097.833333333336,null,4923.3333333333339,null,null,null,null,null,null,null,null,null,null,null,null,null,null,null,null,null,null,null,null,null,"Spessore_5",{"$f":"IF(AW119=10000000000,10000000000,IF('SOLAI T2D SPA'!$C$5=AU121,A121,10000000000))","v":10000000000},null,{"$f":"IF(AW119=10000000000,10000000000,IF('SOLAI T2D SPA'!$C$7=C121,C121,10000000000))","v":10000000000},{"$f":"AV121+AW119+AX121","v":30000000000},10000000000,null,{"$f":"IF($AZ$121=10000000000,10000000000,IF('SOLAI T2D SPA'!$C$20<=G121,G121,10000000000))","v":10000000000},null,{"$f":"IF($AZ$121=10000000000,10000000000,IF('SOLAI T2D SPA'!$C$20<=I121,I121,10000000000))","v":10000000000},null,{"$f":"IF($AZ$121=10000000000,10000000000,IF('SOLAI T2D SPA'!$C$20<=K121,K121,10000000000))","v":10000000000},null,{"$f":"IF($AZ$121=10000000000,10000000000,IF('SOLAI T2D SPA'!$C$20<=M121,M121,10000000000))","v":10000000000},null,{"$f":"IF($AZ$121=10000000000,10000000000,IF('SOLAI T2D SPA'!$C$20<=O121,O121,10000000000))","v":10000000000},null,{"$f":"IF($AZ$121=10000000000,10000000000,IF('SOLAI T2D SPA'!$C$20<=Q121,Q121,10000000000))","v":10000000000},null,{"$f":"IF($AZ$121=10000000000,10000000000,IF('SOLAI T2D SPA'!$C$20<=S121,S121,10000000000))","v":10000000000},null,{"$f":"IF($AZ$121=10000000000,10000000000,IF('SOLAI T2D SPA'!$C$20<=U121,U121,10000000000))","v":10000000000},null,{"$f":"IF($AZ$121=10000000000,10000000000,IF('SOLAI T2D SPA'!$C$20<=W121,W121,10000000000))","v":10000000000},null,null,null,4923.3333333333339,null,null,null,null,null,null,null,null,null,{"$f":"IF(AND(CF159=$DJ$159,CF159<800000000),CF124,\"\")","v":""},null,{"$f":"IF(AND(CH159=$DJ$159,CH159<800000000),CH124,\"\")","v":""},null,{"$f":"IF(AND(CJ159=$DJ$159,CJ159<800000000),CJ124,\"\")","v":""},null,{"$f":"IF(AND(CL159=$DJ$159,CL159<800000000),CL124,\"\")","v":""},null,{"$f":"IF(AND(CN159=$DJ$159,CN159<800000000),CN124,\"\")","v":""},null,{"$f":"IF(AND(CP159=$DJ$159,CP159<800000000),CP124,\"\")","v":""},null,{"$f":"IF(AND(CR159=$DJ$159,CR159<800000000),CR124,\"\")","v":""},null,{"$f":"IF(AND(CT159=$DJ$159,CT159<800000000),CT124,\"\")","v":""},null,{"$f":"IF(AND(CV159=$DJ$159,CV159<800000000),CV124,\"\")","v":""},null,{"$f":"IF(AND(CX159=$DJ$159,CX159<800000000),CX124,\"\")","v":""},null,{"$f":"IF(AND(CZ159=$DJ$159,CZ159<800000000),CZ124,\"\")","v":""},null,{"$f":"IF(AND(DB159=$DJ$159,DB159<800000000),DB124,\"\")","v":""},null,{"$f":"IF(AND(DD159=$DJ$159,DD159<800000000),DD124,\"\")","v":""},null,{"$f":"IF(AND(DF159=$DJ$159,DF159<800000000),DF124,\"\")","v":""},null,{"$f":"IF(AND(DH159=$DJ$159,DH159<800000000),DH124,\"\")","v":""},null,{"$f":"CF121&CH121&CJ121&CL121&CN121&CP121&CR121&CT121&CV121&CX121&CZ121&DB121&DD121&DF121&DH121","v":""}]
[null,null,5,{"$f":"A121+B119+C122","v":40},{"$f":"(A121+C122)/100*2500+B119/100*0.4*2500/1.2","v":500},null,3153.3666666666668,null,3470.2583333333337,null,4488.2250000000004,null,5742.8166666666675,null,7469.2666666666673,null,9852.6666666666679,null,12596.708333333336,null,15678.383333333335,null,19071.474999999999,null,5014.166666666667,null,null,null,null,null,null,null,null,null,null,null,null,null,null,null,null,null,null,null,null,null,null,null,null,{"$f":"IF(AW119=10000000000,10000000000,IF('SOLAI T2D SPA'!$C$7=C122,C122,10000000000))","v":10000000000},{"$f":"AV121+AW119+AX122","v":30000000000},10000000000,null,{"$f":"IF($AZ$122=10000000000,10000000000,IF('SOLAI T2D SPA'!$C$20<=G122,G122,10000000000))","v":10000000000},null,{"$f":"IF($AZ$122=10000000000,10000000000,IF('SOLAI T2D SPA'!$C$20<=I122,I122,10000000000))","v":10000000000},null,{"$f":"IF($AZ$122=10000000000,10000000000,IF('SOLAI T2D SPA'!$C$20<=K122,K122,10000000000))","v":10000000000},null,{"$f":"IF($AZ$122=10000000000,10000000000,IF('SOLAI T2D SPA'!$C$20<=M122,M122,10000000000))","v":10000000000},null,{"$f":"IF($AZ$122=10000000000,10000000000,IF('SOLAI T2D SPA'!$C$20<=O122,O122,10000000000))","v":10000000000},null,{"$f":"IF($AZ$122=10000000000,10000000000,IF('SOLAI T2D SPA'!$C$20<=Q122,Q122,10000000000))","v":10000000000},null,{"$f":"IF($AZ$122=10000000000,10000000000,IF('SOLAI T2D SPA'!$C$20<=S122,S122,10000000000))","v":10000000000},null,{"$f":"IF($AZ$122=10000000000,10000000000,IF('SOLAI T2D SPA'!$C$20<=U122,U122,10000000000))","v":10000000000},null,{"$f":"IF($AZ$122=10000000000,10000000000,IF('SOLAI T2D SPA'!$C$20<=W122,W122,10000000000))","v":10000000000},null,null,null,5014.166666666667]
[null,null,null,null,null,null,null,null,null,null,null,null,null,null,null,null,null,null,null,null,null,null,null,null,null,null,null,null,null,null,null,null,null,null,null,null,null,null,null,null,null,null,null,null,null,null,null,{"$f":"MIN(AV91:AV122)","v":10000000000},{"$f":"MIN(AW91:AW122)","v":10000000000},10000000000,30000000000,10000000000,null,{"$f":"MIN(BB91:BC122)","v":10000000000},null,{"$f":"MIN(BD91:BE122)","v":10000000000},null,{"$f":"MIN(BF91:BG122)","v":10000000000},null,{"$f":"MIN(BH91:BI122)","v":10000000000},null,{"$f":"MIN(BJ91:BK122)","v":10000000000},null,{"$f":"MIN(BL91:BM122)","v":10000000000},null,{"$f":"MIN(BN91:BO122)","v":10000000000},null,{"$f":"MIN(BP91:BQ122)","v":10000000000},null,{"$f":"MIN(BR91:BS122)","v":10000000000},null,{"$f":"MIN(BB123:BS123)","v":10000000000},{"$f":"IF(AND(AR90=1,BT123=10000000000),1,0)","v":0}]
["MOMENTO NEGATIVO",null,null,null,null,null,"3f8",null,"3f10",null,"3f12",null,"3f8 + 3f10",null,"6f10",null,"3f10 + 3f12",null,"6f12",null,"3f12 + 3f14",null,"6f14",null,"3f14 + 3f16",null,"6f16",null,"3f16 + 3f18",null,"6f18",null,"3f18 + 3f20",null,"6f20",null,null,null,null,null,null,null,null,null,null,null,null,null,null,null,null,null,null,null,null,null,null,null,null,null,null,null,null,null,null,null,null,null,null,null,null,null,null,null,null,null,null,"MOMENTO NEGATIVO",null,null,null,null,null,"3f8",null,"3f10",null,"3f12",null,"3f8 + 3f10",null,"6f10",null,"3f10 + 3f12",null,"6f12",null,"3f12 + 3f14",null,"6f14",null,"3f14 + 3f16",null,"6f16",null,"3f16 + 3f18",null,"6f18",null,"3f18 + 3f20",null,"6f20"]
["Spessore lastra","Altezza polistirolo","Spessore soletta","Altezza solaio","Peso solaio","Volume cls getto in opera (l/mq)","Momenti ultimi riferiti ad una striscia di solaio larga 1,00 metro",null,null,null,null,null,null,null,null,null,null,null,null,null,null,null,null,null,null,null,null,null,null,null,null,null,null,null,null,null,null,null,null,null,null,null,null,null,null,null,null,null,null,null,null,null,null,null,null,null,null,null,null,null,null,null,null,null,null,null,null,null,null,null,null,null,null,null,null,null,null,"Spessore lastra","Altezza polistirolo","Spessore soletta","Altezza solaio","Peso solaio",null,"Momenti ultimi riferiti ad una striscia di solaio larga 1,00 metro"]
["[cm]","[cm]","[cm]","[cm]","[daN/mq]","[l/mq]","[daNm]",null,"[daNm]",null,"[daNm]",null,"[daNm]",null,"[daNm]","[daNm]","[daNm]","[daNm]","[daNm]","[daNm]","[daNm]","[daNm]","[daNm]","[daNm]","[daNm]","[daNm]","[daNm]","[daNm]","[daNm]","[daNm]","[daNm]","[daNm]","[daNm]","[daNm]","[daNm]","[daNm]",null,null,null,null,null,null,null,null,null,null,null,null,null,null,null,null,null,null,null,null,null,null,null,null,null,null,null,null,null,null,null,null,null,null,null,null,null,null,null,null,null,"[cm]","[cm]","[cm]","[cm]","[daN/mq]",null,"[daNm]",null,"[daNm]",null,"[daNm]",null,"[daNm]",null,"[daNm]","[daNm]","[daNm]","[daNm]","[daNm]","[daNm]","[daNm]","[daNm]","[daNm]","[daNm]","[daNm]","[daNm]","[daNm]","[daNm]","[daNm]","[daNm]","[daNm]","[daNm]","[daNm]","[daNm]","[daNm]","[daNm]"]
[4,12,4,{"$f":"A127+B127+C127","v":20},{"$f":"(A127+C127)/100*2500+B127/100*0.4*2500/1.2","v":300},null,877.875,null,1364.8083333333334,null,1952.5,null,2216.5333333333333,null,2687.6166666666668,null,3256.166666666667,null,3815.8416666666667,null,4466.5833333333339,null,5106.7833333333338,null,5830.0749999999998,null,6537.875,null,7321.3666666666677,null,8085.3583333333336,null,8913.3333333333339,null,9719.1666666666679,null,null,null,null,null,null,null,null,null,null,null,null,null,null,null,null,null,null,null,null,null,null,null,null,null,null,null,null,null,null,null,null,null,null,null,null,null,null,null,null,null,null,{"$f":"AV91","v":10000000000},{"$f":"AW91","v":10000000000},{"$f":"AX91","v":10000000000},{"$f":"BZ127+CA127+CB127","v":30000000000},{"$f":"(BZ127+CB127)/100*2500+CA127/100*0.4*2500/1.2","v":583333333333.33337},null,{"$f":"IF($AZ$91=10000000000,10000000000,IF('SOLAI T2D SPA'!$C$25<=G127,G127,10000000000))","v":10000000000},null,{"$f":"IF($AZ$91=10000000000,10000000000,IF('SOLAI T2D SPA'!$C$25<=I127,I127,10000000000))","v":10000000000},null,{"$f":"IF($AZ$91=10000000000,10000000000,IF('SOLAI T2D SPA'!$C$25<=K127,K127,10000000000))","v":10000000000},null,{"$f":"IF($AZ$91=10000000000,10000000000,IF('SOLAI T2D SPA'!$C$25<=M127,M127,10000000000))","v":10000000000},null,{"$f":"IF($AZ$91=10000000000,10000000000,IF('SOLAI T2D SPA'!$C$25<=O127,O127,10000000000))","v":10000000000},null,{"$f":"IF($AZ$91=10000000000,10000000000,IF('SOLAI T2D SPA'!$C$25<=Q127,Q127,10000000000))","v":10000000000},null,{"$f":"IF($AZ$91=10000000000,10000000000,IF('SOLAI T2D SPA'!$C$25<=S127,S127,10000000000))","v":10000000000},null,{"$f":"IF($AZ$91=10000000000,10000000000,IF('SOLAI T2D SPA'!$C$25<=U127,U127,10000000000))","v":10000000000},null,{"$f":"IF($AZ$91=10000000000,10000000000,IF('SOLAI T2D SPA'!$C$25<=W127,W127,10000000000))","v":10000000000},null,{"$f":"IF($AZ$91=10000000000,10000000000,IF('SOLAI T2D SPA'!$C$25<=Y127,Y127,10000000000))","v":10000000000},null,{"$f":"IF($AZ$91=10000000000,10000000000,IF('SOLAI T2D SPA'!$C$25<=AA127,AA127,10000000000))","v":10000000000},null,{"$f":"IF($AZ$91=10000000000,10000000000,IF('SOLAI T2D SPA'!$C$25<=AC127,AC127,10000000000))","v":10000000000},null,{"$f":"IF($AZ$91=10000000000,10000000000,IF('SOLAI T2D SPA'!$C$25<=AE127,AE127,10000000000))","v":10000000000},null,{"$f":"IF($AZ$91=10000000000,10000000000,IF('SOLAI T2D SPA'!$C$25<=AG127,AG127,10000000000))","v":10000000000},null,{"$f":"IF($AZ$91=10000000000,10000000000,IF('SOLAI T2D SPA'!$C$25<=AI127,AI127,10000000000))","v":10000000000}]
[null,null,5,{"$f":"A127+B127+C128","v":21},{"$f":"(A127+C128)/100*2500+B127/100*0.4*2500/1.2","v":325},null,927,null,1441.5916666666669,null,2063.0833333333335,null,2342.416666666667,null,2841.416666666667,null,3443.35,null,4036.9333333333338,null,4728.5166666666664,null,5407.5333333333338,null,6176.3249999999998,null,6930.9083333333338,null,7767.0416666666679,null,8581.9500000000007,null,9470.25,null,10334.166666666668,null,null,null,null,null,null,null,null,null,null,null,null,null,null,null,null,null,null,null,null,null,null,null,null,null,null,null,null,null,null,null,null,null,null,null,null,null,null,null,null,null,null,null,null,{"$f":"AX92","v":10000000000},{"$f":"BZ127+CA127+CB128","v":30000000000},{"$f":"(BZ127+CB128)/100*2500+CA127/100*0.4*2500/1.2","v":583333333333.33337},null,{"$f":"IF($AZ$92=10000000000,10000000000,IF('SOLAI T2D SPA'!$C$25<=G128,G128,10000000000))","v":10000000000},null,{"$f":"IF($AZ$92=10000000000,10000000000,IF('SOLAI T2D SPA'!$C$25<=I128,I128,10000000000))","v":10000000000},null,{"$f":"IF($AZ$92=10000000000,10000000000,IF('SOLAI T2D SPA'!$C$25<=K128,K128,10000000000))","v":10000000000},null,{"$f":"IF($AZ$92=10000000000,10000000000,IF('SOLAI T2D SPA'!$C$25<=M128,M128,10000000000))","v":10000000000},null,{"$f":"IF($AZ$92=10000000000,10000000000,IF('SOLAI T2D SPA'!$C$25<=O128,O128,10000000000))","v":10000000000},null,{"$f":"IF($AZ$92=10000000000,10000000000,IF('SOLAI T2D SPA'!$C$25<=Q128,Q128,10000000000))","v":10000000000},null,{"$f":"IF($AZ$92=10000000000,10000000000,IF('SOLAI T2D SPA'!$C$25<=S128,S128,10000000000))","v":10000000000},null,{"$f":"IF($AZ$92=10000000000,10000000000,IF('SOLAI T2D SPA'!$C$25<=U128,U128,10000000000))","v":10000000000},null,{"$f":"IF($AZ$92=10000000000,10000000000,IF('SOLAI T2D SPA'!$C$25<=W128,W128,10000000000))","v":10000000000},null,{"$f":"IF($AZ$92=10000000000,10000000000,IF('SOLAI T2D SPA'!$C$25<=Y128,Y128,10000000000))","v":10000000000},null,{"$f":"IF($AZ$92=10000000000,10000000000,IF('SOLAI T2D SPA'!$C$25<=AA128,AA128,10000000000))","v":10000000000},null,{"$f":"IF($AZ$92=10000000000,10000000000,IF('SOLAI T2D SPA'!$C$25<=AC128,AC128,10000000000))","v":10000000000},null,{"$f":"IF($AZ$92=10000000000,10000000000,IF('SOLAI T2D SPA'!$C$25<=AE128,AE128,10000000000))","v":10000000000},null,{"$f":"IF($AZ$92=10000000000,10000000000,IF('SOLAI T2D SPA'!$C$25<=AG128,AG128,10000000000))","v":10000000000},null,{"$f":"IF($AZ$92=10000000000,10000000000,IF('SOLAI T2D SPA'!$C$25<=AI128,AI128,10000000000))","v":10000000000}]
[5,null,4,{"$f":"A129+B127+C129","v":21},{"$f":"(A129+C129)/100*2500+B127/100*0.4*2500/1.2","v":325},null,927,null,1441.5916666666669,null,2063.0833333333335,null,2342.416666666667,null,2841.416666666667,null,3443.35,null,4036.9333333333338,null,4728.5166666666664,null,5407.5333333333338,null,6176.3249999999998,null,6930.9083333333338,null,7767.0416666666679,null,8581.9500000000007,null,9470.25,null,10334.166666666668,null,null,null,null,null,null,null,null,null,null,null,null,{"$f":"MIN(AV123,AV42)","v":10000000000},{"$f":"MIN(AW123,AW42)","v":10000000000},10000000000,30000000000,10000000000,null,null,null,null,null,null,null,null,null,null,null,null,null,null,null,null,null,null,null,{"$f":"MIN(BT123,BT42)","v":10000000000},null,null,null,null,null,{"$f":"AV93","v":10000000000},null,10000000000,{"$f":"BZ129+CA127+CB129","v":30000000000},{"$f":"(BZ129+CB129)/100*2500+CA127/100*0.4*2500/1.2","v":583333333333.33337},null,{"$f":"IF($AZ$93=10000000000,10000000000,IF('SOLAI T2D SPA'!$C$25<=G129,G129,10000000000))","v":10000000000},null,{"$f":"IF($AZ$93=10000000000,10000000000,IF('SOLAI T2D SPA'!$C$25<=I129,I129,10000000000))","v":10000000000},null,{"$f":"IF($AZ$93=10000000000,10000000000,IF('SOLAI T2D SPA'!$C$25<=K129,K129,10000000000))","v":10000000000},null,{"$f":"IF($AZ$93=10000000000,10000000000,IF('SOLAI T2D SPA'!$C$25<=M129,M129,10000000000))","v":10000000000},null,{"$f":"IF($AZ$93=10000000000,10000000000,IF('SOLAI T2D SPA'!$C$25<=O129,O129,10000000000))","v":10000000000},null,{"$f":"IF($AZ$93=10000000000,10000000000,IF('SOLAI T2D SPA'!$C$25<=Q129,Q129,10000000000))","v":10000000000},null,{"$f":"IF($AZ$93=10000000000,10000000000,IF('SOLAI T2D SPA'!$C$25<=S129,S129,10000000000))","v":10000000000},null,{"$f":"IF($AZ$93=10000000000,10000000000,IF('SOLAI T2D SPA'!$C$25<=U129,U129,10000000000))","v":10000000000},null,{"$f":"IF($AZ$93=10000000000,10000000000,IF('SOLAI T2D SPA'!$C$25<=W129,W129,10000000000))","v":10000000000},null,{"$f":"IF($AZ$93=10000000000,10000000000,IF('SOLAI T2D SPA'!$C$25<=Y129,Y129,10000000000))","v":10000000000},null,{"$f":"IF($AZ$93=10000000000,10000000000,IF('SOLAI T2D SPA'!$C$25<=AA129,AA129,10000000000))","v":10000000000},null,{"$f":"IF($AZ$93=10000000000,10000000000,IF('SOLAI T2D SPA'!$C$25<=AC129,AC129,10000000000))","v":10000000000},null,{"$f":"IF($AZ$93=10000000000,10000000000,IF('SOLAI T2D SPA'!$C$25<=AE129,AE129,10000000000))","v":10000000000},null,{"$f":"IF($AZ$93=10000000000,10000000000,IF('SOLAI T2D SPA'!$C$25<=AG129,AG129,10000000000))","v":10000000000},null,{"$f":"IF($AZ$93=10000000000,10000000000,IF('SOLAI T2D SPA'!$C$25<=AI129,AI129,10000000000))","v":10000000000}]
[null,null,5,{"$f":"A129+B127+C130","v":22},{"$f":"(A129+C130)/100*2500+B127/100*0.4*2500/1.2","v":350},null,976.01666666666677,null,1518.175,null,2173.5500000000002,null,2468.625,null,2995.125,null,3631.1416666666669,null,4258.1083333333336,null,4989.7749999999996,null,5708.85,null,6523.5083333333341,null,7323.95,null,8211.4166666666679,null,9079.4333333333343,null,10026.691666666668,null,10949.166666666668,null,null,null,null,null,null,null,null,null,null,null,null,null,null,null,null,null,null,null,null,null,null,null,null,null,null,null,null,null,null,null,null,null,null,null,null,null,null,null,null,null,null,null,null,10000000000,{"$f":"BZ129+CA127+CB130","v":30000000000},{"$f":"(BZ129+CB130)/100*2500+CA127/100*0.4*2500/1.2","v":583333333333.33337},null,{"$f":"IF($AZ$94=10000000000,10000000000,IF('SOLAI T2D SPA'!$C$25<=G130,G130,10000000000))","v":10000000000},null,{"$f":"IF($AZ$94=10000000000,10000000000,IF('SOLAI T2D SPA'!$C$25<=I130,I130,10000000000))","v":10000000000},null,{"$f":"IF($AZ$94=10000000000,10000000000,IF('SOLAI T2D SPA'!$C$25<=K130,K130,10000000000))","v":10000000000},null,{"$f":"IF($AZ$94=10000000000,10000000000,IF('SOLAI T2D SPA'!$C$25<=M130,M130,10000000000))","v":10000000000},null,{"$f":"IF($AZ$94=10000000000,10000000000,IF('SOLAI T2D SPA'!$C$25<=O130,O130,10000000000))","v":10000000000},null,{"$f":"IF($AZ$94=10000000000,10000000000,IF('SOLAI T2D SPA'!$C$25<=Q130,Q130,10000000000))","v":10000000000},null,{"$f":"IF($AZ$94=10000000000,10000000000,IF('SOLAI T2D SPA'!$C$25<=S130,S130,10000000000))","v":10000000000},null,{"$f":"IF($AZ$94=10000000000,10000000000,IF('SOLAI T2D SPA'!$C$25<=U130,U130,10000000000))","v":10000000000},null,{"$f":"IF($AZ$94=10000000000,10000000000,IF('SOLAI T2D SPA'!$C$25<=W130,W130,10000000000))","v":10000000000},null,{"$f":"IF($AZ$94=10000000000,10000000000,IF('SOLAI T2D SPA'!$C$25<=Y130,Y130,10000000000))","v":10000000000},null,{"$f":"IF($AZ$94=10000000000,10000000000,IF('SOLAI T2D SPA'!$C$25<=AA130,AA130,10000000000))","v":10000000000},null,{"$f":"IF($AZ$94=10000000000,10000000000,IF('SOLAI T2D SPA'!$C$25<=AC130,AC130,10000000000))","v":10000000000},null,{"$f":"IF($AZ$94=10000000000,10000000000,IF('SOLAI T2D SPA'!$C$25<=AE130,AE130,10000000000))","v":10000000000},null,{"$f":"IF($AZ$94=10000000000,10000000000,IF('SOLAI T2D SPA'!$C$25<=AG130,AG130,10000000000))","v":10000000000},null,{"$f":"IF($AZ$94=10000000000,10000000000,IF('SOLAI T2D SPA'!$C$25<=AI130,AI130,10000000000))","v":10000000000}]
[4,14,4,{"$f":"A131+B131+C131","v":22},{"$f":"(A131+C131)/100*2500+B131/100*0.4*2500/1.2","v":316.66666666666669},null,976.01666666666677,null,1518.175,null,2173.5500000000002,null,2468.625,null,2995.125,null,3631.1416666666669,null,4258.1083333333336,null,4989.7749999999996,null,5708.85,null,6523.5083333333341,null,7323.95,null,8211.4166666666679,null,9079.4333333333343,null,10026.691666666668,null,10949.166666666668,null,null,null,null,null,null,null,null,null,null,null,null,null,null,null,null,null,null,null,null,null,null,null,null,null,null,null,null,null,null,null,null,null,null,null,null,null,null,null,null,null,null,{"$f":"AV95","v":10000000000},10000000000,10000000000,{"$f":"BZ131+CA131+CB131","v":30000000000},{"$f":"(BZ131+CB131)/100*2500+CA131/100*0.4*2500/1.2","v":583333333333.33337},null,{"$f":"IF($AZ$95=10000000000,10000000000,IF('SOLAI T2D SPA'!$C$25<=G131,G131,10000000000))","v":10000000000},null,{"$f":"IF($AZ$95=10000000000,10000000000,IF('SOLAI T2D SPA'!$C$25<=I131,I131,10000000000))","v":10000000000},null,{"$f":"IF($AZ$95=10000000000,10000000000,IF('SOLAI T2D SPA'!$C$25<=K131,K131,10000000000))","v":10000000000},null,{"$f":"IF($AZ$95=10000000000,10000000000,IF('SOLAI T2D SPA'!$C$25<=M131,M131,10000000000))","v":10000000000},null,{"$f":"IF($AZ$95=10000000000,10000000000,IF('SOLAI T2D SPA'!$C$25<=O131,O131,10000000000))","v":10000000000},null,{"$f":"IF($AZ$95=10000000000,10000000000,IF('SOLAI T2D SPA'!$C$25<=Q131,Q131,10000000000))","v":10000000000},null,{"$f":"IF($AZ$95=10000000000,10000000000,IF('SOLAI T2D SPA'!$C$25<=S131,S131,10000000000))","v":10000000000},null,{"$f":"IF($AZ$95=10000000000,10000000000,IF('SOLAI T2D SPA'!$C$25<=U131,U131,10000000000))","v":10000000000},null,{"$f":"IF($AZ$95=10000000000,10000000000,IF('SOLAI T2D SPA'!$C$25<=W131,W131,10000000000))","v":10000000000},null,{"$f":"IF($AZ$95=10000000000,10000000000,IF('SOLAI T2D SPA'!$C$25<=Y131,Y131,10000000000))","v":10000000000},null,{"$f":"IF($AZ$95=10000000000,10000000000,IF('SOLAI T2D SPA'!$C$25<=AA131,AA131,10000000000))","v":10000000000},null,{"$f":"IF($AZ$95=10000000000,10000000000,IF('SOLAI T2D SPA'!$C$25<=AC131,AC131,10000000000))","v":10000000000},null,{"$f":"IF($AZ$95=10000000000,10000000000,IF('SOLAI T2D SPA'!$C$25<=AE131,AE131,10000000000))","v":10000000000},null,{"$f":"IF($AZ$95=10000000000,10000000000,IF('SOLAI T2D SPA'!$C$25<=AG131,AG131,10000000000))","v":10000000000},null,{"$f":"IF($AZ$95=10000000000,10000000000,IF('SOLAI T2D SPA'!$C$25<=AI131,AI131,10000000000))","v":10000000000}]
[null,null,5,{"$f":"A131+B131+C132","v":23},{"$f":"(A131+C132)/100*2500+B131/100*0.4*2500/1.2","v":341.66666666666669},null,1025.0083333333334,null,1594.916666666667,null,2284.125,null,2594.7249999999999,null,3148.7833333333338,null,3818.3,null,4479.8833333333341,null,5250.9,null,6009.6750000000002,null,6871.7666666666673,null,7717.7250000000004,null,8658.0333333333328,null,9577.9,null,10583.691666666668,null,11563.458333333336,null,null,null,null,null,null,null,null,null,null,null,null,null,null,null,null,null,null,null,null,null,null,null,null,null,null,null,null,null,null,null,null,null,null,null,null,null,null,null,null,null,null,null,null,10000000000,{"$f":"BZ131+CA131+CB132","v":30000000000},{"$f":"(BZ131+CB132)/100*2500+CA131/100*0.4*2500/1.2","v":583333333333.33337},null,{"$f":"IF($AZ$96=10000000000,10000000000,IF('SOLAI T2D SPA'!$C$25<=G132,G132,10000000000))","v":10000000000},null,{"$f":"IF($AZ$96=10000000000,10000000000,IF('SOLAI T2D SPA'!$C$25<=I132,I132,10000000000))","v":10000000000},null,{"$f":"IF($AZ$96=10000000000,10000000000,IF('SOLAI T2D SPA'!$C$25<=K132,K132,10000000000))","v":10000000000},null,{"$f":"IF($AZ$96=10000000000,10000000000,IF('SOLAI T2D SPA'!$C$25<=M132,M132,10000000000))","v":10000000000},null,{"$f":"IF($AZ$96=10000000000,10000000000,IF('SOLAI T2D SPA'!$C$25<=O132,O132,10000000000))","v":10000000000},null,{"$f":"IF($AZ$96=10000000000,10000000000,IF('SOLAI T2D SPA'!$C$25<=Q132,Q132,10000000000))","v":10000000000},null,{"$f":"IF($AZ$96=10000000000,10000000000,IF('SOLAI T2D SPA'!$C$25<=S132,S132,10000000000))","v":10000000000},null,{"$f":"IF($AZ$96=10000000000,10000000000,IF('SOLAI T2D SPA'!$C$25<=U132,U132,10000000000))","v":10000000000},null,{"$f":"IF($AZ$96=10000000000,10000000000,IF('SOLAI T2D SPA'!$C$25<=W132,W132,10000000000))","v":10000000000},null,{"$f":"IF($AZ$96=10000000000,10000000000,IF('SOLAI T2D SPA'!$C$25<=Y132,Y132,10000000000))","v":10000000000},null,{"$f":"IF($AZ$96=10000000000,10000000000,IF('SOLAI T2D SPA'!$C$25<=AA132,AA132,10000000000))","v":10000000000},null,{"$f":"IF($AZ$96=10000000000,10000000000,IF('SOLAI T2D SPA'!$C$25<=AC132,AC132,10000000000))","v":10000000000},null,{"$f":"IF($AZ$96=10000000000,10000000000,IF('SOLAI T2D SPA'!$C$25<=AE132,AE132,10000000000))","v":10000000000},null,{"$f":"IF($AZ$96=10000000000,10000000000,IF('SOLAI T2D SPA'!$C$25<=AG132,AG132,10000000000))","v":10000000000},null,{"$f":"IF($AZ$96=10000000000,10000000000,IF('SOLAI T2D SPA'!$C$25<=AI132,AI132,10000000000))","v":10000000000}]
[5,null,4,{"$f":"A133+B131+C133","v":23},{"$f":"(A133+C133)/100*2500+B131/100*0.4*2500/1.2","v":341.66666666666669},null,1025.0083333333334,null,1594.916666666667,null,2284.125,null,2594.7249999999999,null,3148.7833333333338,null,3818.3,null,4479.8833333333341,null,5250.9,null,6009.6750000000002,null,6871.7666666666673,null,7717.7250000000004,null,8658.0333333333328,null,9577.9,null,10583.691666666668,null,11563.458333333336,null,null,null,null,null,null,null,null,null,null,null,null,null,null,null,null,null,null,null,null,null,null,null,null,null,null,null,null,null,null,null,null,null,null,null,null,null,null,null,null,null,null,{"$f":"AV97","v":10000000000},null,10000000000,{"$f":"BZ133+CA131+CB133","v":30000000000},{"$f":"(BZ133+CB133)/100*2500+CA131/100*0.4*2500/1.2","v":583333333333.33337},null,{"$f":"IF($AZ$97=10000000000,10000000000,IF('SOLAI T2D SPA'!$C$25<=G133,G133,10000000000))","v":10000000000},null,{"$f":"IF($AZ$97=10000000000,10000000000,IF('SOLAI T2D SPA'!$C$25<=I133,I133,10000000000))","v":10000000000},null,{"$f":"IF($AZ$97=10000000000,10000000000,IF('SOLAI T2D SPA'!$C$25<=K133,K133,10000000000))","v":10000000000},null,{"$f":"IF($AZ$97=10000000000,10000000000,IF('SOLAI T2D SPA'!$C$25<=M133,M133,10000000000))","v":10000000000},null,{"$f":"IF($AZ$97=10000000000,10000000000,IF('SOLAI T2D SPA'!$C$25<=O133,O133,10000000000))","v":10000000000},null,{"$f":"IF($AZ$97=10000000000,10000000000,IF('SOLAI T2D SPA'!$C$25<=Q133,Q133,10000000000))","v":10000000000},null,{"$f":"IF($AZ$97=10000000000,10000000000,IF('SOLAI T2D SPA'!$C$25<=S133,S133,10000000000))","v":10000000000},null,{"$f":"IF($AZ$97=10000000000,10000000000,IF('SOLAI T2D SPA'!$C$25<=U133,U133,10000000000))","v":10000000000},null,{"$f":"IF($AZ$97=10000000000,10000000000,IF('SOLAI T2D SPA'!$C$25<=W133,W133,10000000000))","v":10000000000},null,{"$f":"IF($AZ$97=10000000000,10000000000,IF('SOLAI T2D SPA'!$C$25<=Y133,Y133,10000000000))","v":10000000000},null,{"$f":"IF($AZ$97=10000000000,10000000000,IF('SOLAI T2D SPA'!$C$25<=AA133,AA133,10000000000))","v":10000000000},null,{"$f":"IF($AZ$97=10000000000,10000000000,IF('SOLAI T2D SPA'!$C$25<=AC133,AC133,10000000000))","v":10000000000},null,{"$f":"IF($AZ$97=10000000000,10000000000,IF('SOLAI T2D SPA'!$C$25<=AE133,AE133,10000000000))","v":10000000000},null,{"$f":"IF($AZ$97=10000000000,10000000000,IF('SOLAI T2D SPA'!$C$25<=AG133,AG133,10000000000))","v":10000000000},null,{"$f":"IF($AZ$97=10000000000,10000000000,IF('SOLAI T2D SPA'!$C$25<=AI133,AI133,10000000000))","v":10000000000}]
[null,null,5,{"$f":"A133+B131+C134","v":24},{"$f":"(A133+C134)/100*2500+B131/100*0.4*2500/1.2","v":366.66666666666669},null,1074.0250000000001,null,1671.65,null,2394.4583333333335,null,2720.4250000000002,null,3302.3333333333339,null,4005.7583333333337,null,4700.8833333333341,null,5511.6916666666675,null,6310.95,null,7218.7583333333341,null,8111.1166666666677,null,9103.6333333333332,null,10075.65,null,11139.15,null,12177.883333333335,null,null,null,null,null,null,null,null,null,null,null,null,null,null,null,null,null,null,null,null,null,null,null,null,null,null,null,null,null,null,null,null,null,null,null,null,null,null,null,null,null,null,null,null,10000000000,{"$f":"BZ133+CA131+CB134","v":30000000000},{"$f":"(BZ133+CB134)/100*2500+CA131/100*0.4*2500/1.2","v":583333333333.33337},null,{"$f":"IF($AZ$98=10000000000,10000000000,IF('SOLAI T2D SPA'!$C$25<=G134,G134,10000000000))","v":10000000000},null,{"$f":"IF($AZ$98=10000000000,10000000000,IF('SOLAI T2D SPA'!$C$25<=I134,I134,10000000000))","v":10000000000},null,{"$f":"IF($AZ$98=10000000000,10000000000,IF('SOLAI T2D SPA'!$C$25<=K134,K134,10000000000))","v":10000000000},null,{"$f":"IF($AZ$98=10000000000,10000000000,IF('SOLAI T2D SPA'!$C$25<=M134,M134,10000000000))","v":10000000000},null,{"$f":"IF($AZ$98=10000000000,10000000000,IF('SOLAI T2D SPA'!$C$25<=O134,O134,10000000000))","v":10000000000},null,{"$f":"IF($AZ$98=10000000000,10000000000,IF('SOLAI T2D SPA'!$C$25<=Q134,Q134,10000000000))","v":10000000000},null,{"$f":"IF($AZ$98=10000000000,10000000000,IF('SOLAI T2D SPA'!$C$25<=S134,S134,10000000000))","v":10000000000},null,{"$f":"IF($AZ$98=10000000000,10000000000,IF('SOLAI T2D SPA'!$C$25<=U134,U134,10000000000))","v":10000000000},null,{"$f":"IF($AZ$98=10000000000,10000000000,IF('SOLAI T2D SPA'!$C$25<=W134,W134,10000000000))","v":10000000000},null,{"$f":"IF($AZ$98=10000000000,10000000000,IF('SOLAI T2D SPA'!$C$25<=Y134,Y134,10000000000))","v":10000000000},null,{"$f":"IF($AZ$98=10000000000,10000000000,IF('SOLAI T2D SPA'!$C$25<=AA134,AA134,10000000000))","v":10000000000},null,{"$f":"IF($AZ$98=10000000000,10000000000,IF('SOLAI T2D SPA'!$C$25<=AC134,AC134,10000000000))","v":10000000000},null,{"$f":"IF($AZ$98=10000000000,10000000000,IF('SOLAI T2D SPA'!$C$25<=AE134,AE134,10000000000))","v":10000000000},null,{"$f":"IF($AZ$98=10000000000,10000000000,IF('SOLAI T2D SPA'!$C$25<=AG134,AG134,10000000000))","v":10000000000},null,{"$f":"IF($AZ$98=10000000000,10000000000,IF('SOLAI T2D SPA'!$C$25<=AI134,AI134,10000000000))","v":10000000000}]
[4,16,4,{"$f":"A135+B135+C135","v":24},{"$f":"(A135+C135)/100*2500+B135/100*0.4*2500/1.2","v":333.33333333333337},null,1074.0250000000001,null,1671.65,null,2394.4583333333335,null,2720.4250000000002,null,3302.3333333333339,null,4005.7583333333337,null,4700.8833333333341,null,5511.6916666666675,null,6310.95,null,7218.7583333333341,null,8111.1166666666677,null,9103.6333333333332,null,10075.65,null,11139.15,null,12177.883333333335,null,null,null,null,null,null,null,null,null,null,null,null,null,null,null,null,null,null,null,null,null,null,null,null,null,null,null,null,null,null,null,null,null,null,null,null,null,null,null,null,null,null,{"$f":"AV99","v":10000000000},10000000000,10000000000,{"$f":"BZ135+CA135+CB135","v":30000000000},{"$f":"(BZ135+CB135)/100*2500+CA135/100*0.4*2500/1.2","v":583333333333.33337},null,{"$f":"IF($AZ$99=10000000000,10000000000,IF('SOLAI T2D SPA'!$C$25<=G135,G135,10000000000))","v":10000000000},null,{"$f":"IF($AZ$99=10000000000,10000000000,IF('SOLAI T2D SPA'!$C$25<=I135,I135,10000000000))","v":10000000000},null,{"$f":"IF($AZ$99=10000000000,10000000000,IF('SOLAI T2D SPA'!$C$25<=K135,K135,10000000000))","v":10000000000},null,{"$f":"IF($AZ$99=10000000000,10000000000,IF('SOLAI T2D SPA'!$C$25<=M135,M135,10000000000))","v":10000000000},null,{"$f":"IF($AZ$99=10000000000,10000000000,IF('SOLAI T2D SPA'!$C$25<=O135,O135,10000000000))","v":10000000000},null,{"$f":"IF($AZ$99=10000000000,10000000000,IF('SOLAI T2D SPA'!$C$25<=Q135,Q135,10000000000))","v":10000000000},null,{"$f":"IF($AZ$99=10000000000,10000000000,IF('SOLAI T2D SPA'!$C$25<=S135,S135,10000000000))","v":10000000000},null,{"$f":"IF($AZ$99=10000000000,10000000000,IF('SOLAI T2D SPA'!$C$25<=U135,U135,10000000000))","v":10000000000},null,{"$f":"IF($AZ$99=10000000000,10000000000,IF('SOLAI T2D SPA'!$C$25<=W135,W135,10000000000))","v":10000000000},null,{"$f":"IF($AZ$99=10000000000,10000000000,IF('SOLAI T2D SPA'!$C$25<=Y135,Y135,10000000000))","v":10000000000},null,{"$f":"IF($AZ$99=10000000000,10000000000,IF('SOLAI T2D SPA'!$C$25<=AA135,AA135,10000000000))","v":10000000000},null,{"$f":"IF($AZ$99=10000000000,10000000000,IF('SOLAI T2D SPA'!$C$25<=AC135,AC135,10000000000))","v":10000000000},null,{"$f":"IF($AZ$99=10000000000,10000000000,IF('SOLAI T2D SPA'!$C$25<=AE135,AE135,10000000000))","v":10000000000},null,{"$f":"IF($AZ$99=10000000000,10000000000,IF('SOLAI T2D SPA'!$C$25<=AG135,AG135,10000000000))","v":10000000000},null,{"$f":"IF($AZ$99=10000000000,10000000000,IF('SOLAI T2D SPA'!$C$25<=AI135,AI135,10000000000))","v":10000000000}]
[null,null,5,{"$f":"A135+B135+C136","v":25},{"$f":"(A135+C136)/100*2500+B135/100*0.4*2500/1.2","v":358.33333333333337},null,1123.0916666666667,null,1748.2583333333334,null,2504.9833333333336,null,2846.3833333333337,null,3456.1750000000002,null,4193.3,null,4922.541666666667,null,5772.9,null,6612.2333333333336,null,7565.9583333333339,null,8504.1749999999993,null,9549.1833333333343,null,10573.725,null,11695.5,null,12792.441666666668,null,null,null,null,null,null,null,null,null,null,null,null,null,null,null,null,null,null,null,null,null,null,null,null,null,null,null,null,null,null,null,null,null,null,null,null,null,null,null,null,null,null,null,null,10000000000,{"$f":"BZ135+CA135+CB136","v":30000000000},{"$f":"(BZ135+CB136)/100*2500+CA135/100*0.4*2500/1.2","v":583333333333.33337},null,{"$f":"IF($AZ$100=10000000000,10000000000,IF('SOLAI T2D SPA'!$C$25<=G136,G136,10000000000))","v":10000000000},null,{"$f":"IF($AZ$100=10000000000,10000000000,IF('SOLAI T2D SPA'!$C$25<=I136,I136,10000000000))","v":10000000000},null,{"$f":"IF($AZ$100=10000000000,10000000000,IF('SOLAI T2D SPA'!$C$25<=K136,K136,10000000000))","v":10000000000},null,{"$f":"IF($AZ$100=10000000000,10000000000,IF('SOLAI T2D SPA'!$C$25<=M136,M136,10000000000))","v":10000000000},null,{"$f":"IF($AZ$100=10000000000,10000000000,IF('SOLAI T2D SPA'!$C$25<=O136,O136,10000000000))","v":10000000000},null,{"$f":"IF($AZ$100=10000000000,10000000000,IF('SOLAI T2D SPA'!$C$25<=Q136,Q136,10000000000))","v":10000000000},null,{"$f":"IF($AZ$100=10000000000,10000000000,IF('SOLAI T2D SPA'!$C$25<=S136,S136,10000000000))","v":10000000000},null,{"$f":"IF($AZ$100=10000000000,10000000000,IF('SOLAI T2D SPA'!$C$25<=U136,U136,10000000000))","v":10000000000},null,{"$f":"IF($AZ$100=10000000000,10000000000,IF('SOLAI T2D SPA'!$C$25<=W136,W136,10000000000))","v":10000000000},null,{"$f":"IF($AZ$100=10000000000,10000000000,IF('SOLAI T2D SPA'!$C$25<=Y136,Y136,10000000000))","v":10000000000},null,{"$f":"IF($AZ$100=10000000000,10000000000,IF('SOLAI T2D SPA'!$C$25<=AA136,AA136,10000000000))","v":10000000000},null,{"$f":"IF($AZ$100=10000000000,10000000000,IF('SOLAI T2D SPA'!$C$25<=AC136,AC136,10000000000))","v":10000000000},null,{"$f":"IF($AZ$100=10000000000,10000000000,IF('SOLAI T2D SPA'!$C$25<=AE136,AE136,10000000000))","v":10000000000},null,{"$f":"IF($AZ$100=10000000000,10000000000,IF('SOLAI T2D SPA'!$C$25<=AG136,AG136,10000000000))","v":10000000000},null,{"$f":"IF($AZ$100=10000000000,10000000000,IF('SOLAI T2D SPA'!$C$25<=AI136,AI136,10000000000))","v":10000000000}]
[5,null,4,{"$f":"A137+B135+C137","v":25},{"$f":"(A137+C137)/100*2500+B135/100*0.4*2500/1.2","v":358.33333333333337},null,1123.0916666666667,null,1748.2583333333334,null,2504.9833333333336,null,2846.3833333333337,null,3456.1750000000002,null,4193.3,null,4922.541666666667,null,5772.9,null,6612.2333333333336,null,7565.9583333333339,null,8504.1749999999993,null,9549.1833333333343,null,10573.725,null,11695.5,null,12792.441666666668,null,null,null,null,null,null,null,null,null,null,null,null,null,null,null,null,null,null,null,null,null,null,null,null,null,null,null,null,null,null,null,null,null,null,null,null,null,null,null,null,null,null,{"$f":"AV101","v":10000000000},null,10000000000,{"$f":"BZ137+CA135+CB137","v":30000000000},{"$f":"(BZ137+CB137)/100*2500+CA135/100*0.4*2500/1.2","v":583333333333.33337},null,{"$f":"IF($AZ$101=10000000000,10000000000,IF('SOLAI T2D SPA'!$C$25<=G137,G137,10000000000))","v":10000000000},null,{"$f":"IF($AZ$101=10000000000,10000000000,IF('SOLAI T2D SPA'!$C$25<=I137,I137,10000000000))","v":10000000000},null,{"$f":"IF($AZ$101=10000000000,10000000000,IF('SOLAI T2D SPA'!$C$25<=K137,K137,10000000000))","v":10000000000},null,{"$f":"IF($AZ$101=10000000000,10000000000,IF('SOLAI T2D SPA'!$C$25<=M137,M137,10000000000))","v":10000000000},null,{"$f":"IF($AZ$101=10000000000,10000000000,IF('SOLAI T2D SPA'!$C$25<=O137,O137,10000000000))","v":10000000000},null,{"$f":"IF($AZ$101=10000000000,10000000000,IF('SOLAI T2D SPA'!$C$25<=Q137,Q137,10000000000))","v":10000000000},null,{"$f":"IF($AZ$101=10000000000,10000000000,IF('SOLAI T2D SPA'!$C$25<=S137,S137,10000000000))","v":10000000000},null,{"$f":"IF($AZ$101=10000000000,10000000000,IF('SOLAI T2D SPA'!$C$25<=U137,U137,10000000000))","v":10000000000},null,{"$f":"IF($AZ$101=10000000000,10000000000,IF('SOLAI T2D SPA'!$C$25<=W137,W137,10000000000))","v":10000000000},null,{"$f":"IF($AZ$101=10000000000,10000000000,IF('SOLAI T2D SPA'!$C$25<=Y137,Y137,10000000000))","v":10000000000},null,{"$f":"IF($AZ$101=10000000000,10000000000,IF('SOLAI T2D SPA'!$C$25<=AA137,AA137,10000000000))","v":10000000000},null,{"$f":"IF($AZ$101=10000000000,10000000000,IF('SOLAI T2D SPA'!$C$25<=AC137,AC137,10000000000))","v":10000000000},null,{"$f":"IF($AZ$101=10000000000,10000000000,IF('SOLAI T2D SPA'!$C$25<=AE137,AE137,10000000000))","v":10000000000},null,{"$f":"IF($AZ$101=10000000000,10000000000,IF('SOLAI T2D SPA'!$C$25<=AG137,AG137,10000000000))","v":10000000000},null,{"$f":"IF($AZ$101=10000000000,10000000000,IF('SOLAI T2D SPA'!$C$25<=AI137,AI137,10000000000))","v":10000000000}]
[null,null,5,{"$f":"A137+B135+C138","v":26},{"$f":"(A137+C138)/100*2500+B135/100*0.4*2500/1.2","v":383.33333333333337},null,1172.0583333333334,null,1824.9583333333335,null,2615.6750000000002,null,2972.2166666666667,null,3609.666666666667,null,4380.8833333333341,null,5143.3666666666668,null,6034.4583333333339,null,6913.3416666666672,null,7913.15,null,8897.4583333333339,null,9994.2833333333328,null,11071.716666666667,null,12252.208333333336,null,13407.9,null,null,null,null,null,null,null,null,null,null,null,null,null,null,null,null,null,null,null,null,null,null,null,null,null,null,null,null,null,null,null,null,null,null,null,null,null,null,null,null,null,null,null,null,10000000000,{"$f":"BZ137+CA135+CB138","v":30000000000},{"$f":"(BZ137+CB138)/100*2500+CA135/100*0.4*2500/1.2","v":583333333333.33337},null,{"$f":"IF($AZ$102=10000000000,10000000000,IF('SOLAI T2D SPA'!$C$25<=G138,G138,10000000000))","v":10000000000},null,{"$f":"IF($AZ$102=10000000000,10000000000,IF('SOLAI T2D SPA'!$C$25<=I138,I138,10000000000))","v":10000000000},null,{"$f":"IF($AZ$102=10000000000,10000000000,IF('SOLAI T2D SPA'!$C$25<=K138,K138,10000000000))","v":10000000000},null,{"$f":"IF($AZ$102=10000000000,10000000000,IF('SOLAI T2D SPA'!$C$25<=M138,M138,10000000000))","v":10000000000},null,{"$f":"IF($AZ$102=10000000000,10000000000,IF('SOLAI T2D SPA'!$C$25<=O138,O138,10000000000))","v":10000000000},null,{"$f":"IF($AZ$102=10000000000,10000000000,IF('SOLAI T2D SPA'!$C$25<=Q138,Q138,10000000000))","v":10000000000},null,{"$f":"IF($AZ$102=10000000000,10000000000,IF('SOLAI T2D SPA'!$C$25<=S138,S138,10000000000))","v":10000000000},null,{"$f":"IF($AZ$102=10000000000,10000000000,IF('SOLAI T2D SPA'!$C$25<=U138,U138,10000000000))","v":10000000000},null,{"$f":"IF($AZ$102=10000000000,10000000000,IF('SOLAI T2D SPA'!$C$25<=W138,W138,10000000000))","v":10000000000},null,{"$f":"IF($AZ$102=10000000000,10000000000,IF('SOLAI T2D SPA'!$C$25<=Y138,Y138,10000000000))","v":10000000000},null,{"$f":"IF($AZ$102=10000000000,10000000000,IF('SOLAI T2D SPA'!$C$25<=AA138,AA138,10000000000))","v":10000000000},null,{"$f":"IF($AZ$102=10000000000,10000000000,IF('SOLAI T2D SPA'!$C$25<=AC138,AC138,10000000000))","v":10000000000},null,{"$f":"IF($AZ$102=10000000000,10000000000,IF('SOLAI T2D SPA'!$C$25<=AE138,AE138,10000000000))","v":10000000000},null,{"$f":"IF($AZ$102=10000000000,10000000000,IF('SOLAI T2D SPA'!$C$25<=AG138,AG138,10000000000))","v":10000000000},null,{"$f":"IF($AZ$102=10000000000,10000000000,IF('SOLAI T2D SPA'!$C$25<=AI138,AI138,10000000000))","v":10000000000}]
[4,18,4,{"$f":"A139+B139+C139","v":26},{"$f":"(A139+C139)/100*2500+B139/100*0.4*2500/1.2","v":350},null,1172.0583333333334,null,1824.9583333333335,null,2615.6750000000002,null,2972.2166666666667,null,3609.666666666667,null,4380.8833333333341,null,5143.3666666666668,null,6034.4583333333339,null,6913.3416666666672,null,7913.15,null,8897.4583333333339,null,9994.2833333333328,null,11071.716666666667,null,12252.208333333336,null,13407.9,null,null,null,null,null,null,null,null,null,null,null,null,null,null,null,null,null,null,null,null,null,null,null,null,null,null,null,null,null,null,null,null,null,null,null,null,null,null,null,null,null,null,{"$f":"AV103","v":10000000000},10000000000,10000000000,{"$f":"BZ139+CA139+CB139","v":30000000000},{"$f":"(BZ139+CB139)/100*2500+CA139/100*0.4*2500/1.2","v":583333333333.33337},null,{"$f":"IF($AZ$103=10000000000,10000000000,IF('SOLAI T2D SPA'!$C$25<=G139,G139,10000000000))","v":10000000000},null,{"$f":"IF($AZ$103=10000000000,10000000000,IF('SOLAI T2D SPA'!$C$25<=I139,I139,10000000000))","v":10000000000},null,{"$f":"IF($AZ$103=10000000000,10000000000,IF('SOLAI T2D SPA'!$C$25<=K139,K139,10000000000))","v":10000000000},null,{"$f":"IF($AZ$103=10000000000,10000000000,IF('SOLAI T2D SPA'!$C$25<=M139,M139,10000000000))","v":10000000000},null,{"$f":"IF($AZ$103=10000000000,10000000000,IF('SOLAI T2D SPA'!$C$25<=O139,O139,10000000000))","v":10000000000},null,{"$f":"IF($AZ$103=10000000000,10000000000,IF('SOLAI T2D SPA'!$C$25<=Q139,Q139,10000000000))","v":10000000000},null,{"$f":"IF($AZ$103=10000000000,10000000000,IF('SOLAI T2D SPA'!$C$25<=S139,S139,10000000000))","v":10000000000},null,{"$f":"IF($AZ$103=10000000000,10000000000,IF('SOLAI T2D SPA'!$C$25<=U139,U139,10000000000))","v":10000000000},null,{"$f":"IF($AZ$103=10000000000,10000000000,IF('SOLAI T2D SPA'!$C$25<=W139,W139,10000000000))","v":10000000000},null,{"$f":"IF($AZ$103=10000000000,10000000000,IF('SOLAI T2D SPA'!$C$25<=Y139,Y139,10000000000))","v":10000000000},null,{"$f":"IF($AZ$103=10000000000,10000000000,IF('SOLAI T2D SPA'!$C$25<=AA139,AA139,10000000000))","v":10000000000},null,{"$f":"IF($AZ$103=10000000000,10000000000,IF('SOLAI T2D SPA'!$C$25<=AC139,AC139,10000000000))","v":10000000000},null,{"$f":"IF($AZ$103=10000000000,10000000000,IF('SOLAI T2D SPA'!$C$25<=AE139,AE139,10000000000))","v":10000000000},null,{"$f":"IF($AZ$103=10000000000,10000000000,IF('SOLAI T2D SPA'!$C$25<=AG139,AG139,10000000000))","v":10000000000},null,{"$f":"IF($AZ$103=10000000000,10000000000,IF('SOLAI T2D SPA'!$C$25<=AI139,AI139,10000000000))","v":10000000000}]
[null,null,5,{"$f":"A139+B139+C140","v":27},{"$f":"(A139+C140)/100*2500+B139/100*0.4*2500/1.2","v":375},null,1221.0666666666666,null,1901.5166666666669,null,2725.9083333333338,null,3098.2249999999999,null,3763.4083333333338,null,4568.4416666666666,null,5364.7333333333336,null,6295.5583333333334,null,7214.8249999999998,null,8260.15,null,9290.7416666666668,null,10439.65,null,11569.183333333334,null,12808.733333333335,null,14022.066666666668,null,null,null,null,null,null,null,null,null,null,null,null,null,null,null,null,null,null,null,null,null,null,null,null,null,null,null,null,null,null,null,null,null,null,null,null,null,null,null,null,null,null,null,null,10000000000,{"$f":"BZ139+CA139+CB140","v":30000000000},{"$f":"(BZ139+CB140)/100*2500+CA139/100*0.4*2500/1.2","v":583333333333.33337},null,{"$f":"IF($AZ$104=10000000000,10000000000,IF('SOLAI T2D SPA'!$C$25<=G140,G140,10000000000))","v":10000000000},null,{"$f":"IF($AZ$104=10000000000,10000000000,IF('SOLAI T2D SPA'!$C$25<=I140,I140,10000000000))","v":10000000000},null,{"$f":"IF($AZ$104=10000000000,10000000000,IF('SOLAI T2D SPA'!$C$25<=K140,K140,10000000000))","v":10000000000},null,{"$f":"IF($AZ$104=10000000000,10000000000,IF('SOLAI T2D SPA'!$C$25<=M140,M140,10000000000))","v":10000000000},null,{"$f":"IF($AZ$104=10000000000,10000000000,IF('SOLAI T2D SPA'!$C$25<=O140,O140,10000000000))","v":10000000000},null,{"$f":"IF($AZ$104=10000000000,10000000000,IF('SOLAI T2D SPA'!$C$25<=Q140,Q140,10000000000))","v":10000000000},null,{"$f":"IF($AZ$104=10000000000,10000000000,IF('SOLAI T2D SPA'!$C$25<=S140,S140,10000000000))","v":10000000000},null,{"$f":"IF($AZ$104=10000000000,10000000000,IF('SOLAI T2D SPA'!$C$25<=U140,U140,10000000000))","v":10000000000},null,{"$f":"IF($AZ$104=10000000000,10000000000,IF('SOLAI T2D SPA'!$C$25<=W140,W140,10000000000))","v":10000000000},null,{"$f":"IF($AZ$104=10000000000,10000000000,IF('SOLAI T2D SPA'!$C$25<=Y140,Y140,10000000000))","v":10000000000},null,{"$f":"IF($AZ$104=10000000000,10000000000,IF('SOLAI T2D SPA'!$C$25<=AA140,AA140,10000000000))","v":10000000000},null,{"$f":"IF($AZ$104=10000000000,10000000000,IF('SOLAI T2D SPA'!$C$25<=AC140,AC140,10000000000))","v":10000000000},null,{"$f":"IF($AZ$104=10000000000,10000000000,IF('SOLAI T2D SPA'!$C$25<=AE140,AE140,10000000000))","v":10000000000},null,{"$f":"IF($AZ$104=10000000000,10000000000,IF('SOLAI T2D SPA'!$C$25<=AG140,AG140,10000000000))","v":10000000000},null,{"$f":"IF($AZ$104=10000000000,10000000000,IF('SOLAI T2D SPA'!$C$25<=AI140,AI140,10000000000))","v":10000000000}]
[5,null,4,{"$f":"A141+B139+C141","v":27},{"$f":"(A141+C141)/100*2500+B139/100*0.4*2500/1.2","v":375},null,1221.0666666666666,null,1901.5166666666669,null,2725.9083333333338,null,3098.2249999999999,null,3763.4083333333338,null,4568.4416666666666,null,5364.7333333333336,null,6295.5583333333334,null,7214.8249999999998,null,8260.15,null,9290.7416666666668,null,10439.65,null,11569.183333333334,null,12808.733333333335,null,14022.066666666668,null,null,null,null,null,null,null,null,null,null,null,null,null,null,null,null,null,null,null,null,null,null,null,null,null,null,null,null,null,null,null,null,null,null,null,null,null,null,null,null,null,null,{"$f":"AV105","v":10000000000},null,10000000000,{"$f":"BZ141+CA139+CB141","v":30000000000},{"$f":"(BZ141+CB141)/100*2500+CA139/100*0.4*2500/1.2","v":583333333333.33337},null,{"$f":"IF($AZ$105=10000000000,10000000000,IF('SOLAI T2D SPA'!$C$25<=G141,G141,10000000000))","v":10000000000},null,{"$f":"IF($AZ$105=10000000000,10000000000,IF('SOLAI T2D SPA'!$C$25<=I141,I141,10000000000))","v":10000000000},null,{"$f":"IF($AZ$105=10000000000,10000000000,IF('SOLAI T2D SPA'!$C$25<=K141,K141,10000000000))","v":10000000000},null,{"$f":"IF($AZ$105=10000000000,10000000000,IF('SOLAI T2D SPA'!$C$25<=M141,M141,10000000000))","v":10000000000},null,{"$f":"IF($AZ$105=10000000000,10000000000,IF('SOLAI T2D SPA'!$C$25<=O141,O141,10000000000))","v":10000000000},null,{"$f":"IF($AZ$105=10000000000,10000000000,IF('SOLAI T2D SPA'!$C$25<=Q141,Q141,10000000000))","v":10000000000},null,{"$f":"IF($AZ$105=10000000000,10000000000,IF('SOLAI T2D SPA'!$C$25<=S141,S141,10000000000))","v":10000000000},null,{"$f":"IF($AZ$105=10000000000,10000000000,IF('SOLAI T2D SPA'!$C$25<=U141,U141,10000000000))","v":10000000000},null,{"$f":"IF($AZ$105=10000000000,10000000000,IF('SOLAI T2D SPA'!$C$25<=W141,W141,10000000000))","v":10000000000},null,{"$f":"IF($AZ$105=10000000000,10000000000,IF('SOLAI T2D SPA'!$C$25<=Y141,Y141,10000000000))","v":10000000000},null,{"$f":"IF($AZ$105=10000000000,10000000000,IF('SOLAI T2D SPA'!$C$25<=AA141,AA141,10000000000))","v":10000000000},null,{"$f":"IF($AZ$105=10000000000,10000000000,IF('SOLAI T2D SPA'!$C$25<=AC141,AC141,10000000000))","v":10000000000},null,{"$f":"IF($AZ$105=10000000000,10000000000,IF('SOLAI T2D SPA'!$C$25<=AE141,AE141,10000000000))","v":10000000000},null,{"$f":"IF($AZ$105=10000000000,10000000000,IF('SOLAI T2D SPA'!$C$25<=AG141,AG141,10000000000))","v":10000000000},null,{"$f":"IF($AZ$105=10000000000,10000000000,IF('SOLAI T2D SPA'!$C$25<=AI141,AI141,10000000000))","v":10000000000}]
[null,null,5,{"$f":"A141+B139+C142","v":28},{"$f":"(A141+C142)/100*2500+B139/100*0.4*2500/1.2","v":400},null,1270.1083333333333,null,1978.15,null,2836.5666666666671,null,3224.0583333333338,null,3917.0333333333338,null,4755.9333333333334,null,5586.1,null,6556.7666666666673,null,7515.8416666666672,null,8607.6083333333336,null,9684.7833333333328,null,10886.216666666667,null,12066.916666666668,null,13364.55,null,14635.85,null,null,null,null,null,null,null,null,null,null,null,null,null,null,null,null,null,null,null,null,null,null,null,null,null,null,null,null,null,null,null,null,null,null,null,null,null,null,null,null,null,null,null,null,10000000000,{"$f":"BZ141+CA139+CB142","v":30000000000},{"$f":"(BZ141+CB142)/100*2500+CA139/100*0.4*2500/1.2","v":583333333333.33337},null,{"$f":"IF($AZ$106=10000000000,10000000000,IF('SOLAI T2D SPA'!$C$25<=G142,G142,10000000000))","v":10000000000},null,{"$f":"IF($AZ$106=10000000000,10000000000,IF('SOLAI T2D SPA'!$C$25<=I142,I142,10000000000))","v":10000000000},null,{"$f":"IF($AZ$106=10000000000,10000000000,IF('SOLAI T2D SPA'!$C$25<=K142,K142,10000000000))","v":10000000000},null,{"$f":"IF($AZ$106=10000000000,10000000000,IF('SOLAI T2D SPA'!$C$25<=M142,M142,10000000000))","v":10000000000},null,{"$f":"IF($AZ$106=10000000000,10000000000,IF('SOLAI T2D SPA'!$C$25<=O142,O142,10000000000))","v":10000000000},null,{"$f":"IF($AZ$106=10000000000,10000000000,IF('SOLAI T2D SPA'!$C$25<=Q142,Q142,10000000000))","v":10000000000},null,{"$f":"IF($AZ$106=10000000000,10000000000,IF('SOLAI T2D SPA'!$C$25<=S142,S142,10000000000))","v":10000000000},null,{"$f":"IF($AZ$106=10000000000,10000000000,IF('SOLAI T2D SPA'!$C$25<=U142,U142,10000000000))","v":10000000000},null,{"$f":"IF($AZ$106=10000000000,10000000000,IF('SOLAI T2D SPA'!$C$25<=W142,W142,10000000000))","v":10000000000},null,{"$f":"IF($AZ$106=10000000000,10000000000,IF('SOLAI T2D SPA'!$C$25<=Y142,Y142,10000000000))","v":10000000000},null,{"$f":"IF($AZ$106=10000000000,10000000000,IF('SOLAI T2D SPA'!$C$25<=AA142,AA142,10000000000))","v":10000000000},null,{"$f":"IF($AZ$106=10000000000,10000000000,IF('SOLAI T2D SPA'!$C$25<=AC142,AC142,10000000000))","v":10000000000},null,{"$f":"IF($AZ$106=10000000000,10000000000,IF('SOLAI T2D SPA'!$C$25<=AE142,AE142,10000000000))","v":10000000000},null,{"$f":"IF($AZ$106=10000000000,10000000000,IF('SOLAI T2D SPA'!$C$25<=AG142,AG142,10000000000))","v":10000000000},null,{"$f":"IF($AZ$106=10000000000,10000000000,IF('SOLAI T2D SPA'!$C$25<=AI142,AI142,10000000000))","v":10000000000}]
[4,20,4,{"$f":"A143+B143+C143","v":28},{"$f":"(A143+C143)/100*2500+B143/100*0.4*2500/1.2","v":366.66666666666669},null,1270.1083333333333,null,1978.15,null,2836.5666666666671,null,3224.0583333333338,null,3917.0333333333338,null,4755.9333333333334,null,5586.1,null,6556.7666666666673,null,7515.8416666666672,null,8607.6083333333336,null,9684.7833333333328,null,10886.216666666667,null,12066.916666666668,null,13364.55,null,14635.85,null,null,null,null,null,null,null,null,null,null,null,null,null,null,null,null,null,null,null,null,null,null,null,null,null,null,null,null,null,null,null,null,null,null,null,null,null,null,null,null,null,null,{"$f":"AV107","v":10000000000},10000000000,10000000000,{"$f":"BZ143+CA143+CB143","v":30000000000},{"$f":"(BZ143+CB143)/100*2500+CA143/100*0.4*2500/1.2","v":583333333333.33337},null,{"$f":"IF($AZ$107=10000000000,10000000000,IF('SOLAI T2D SPA'!$C$25<=G143,G143,10000000000))","v":10000000000},null,{"$f":"IF($AZ$107=10000000000,10000000000,IF('SOLAI T2D SPA'!$C$25<=I143,I143,10000000000))","v":10000000000},null,{"$f":"IF($AZ$107=10000000000,10000000000,IF('SOLAI T2D SPA'!$C$25<=K143,K143,10000000000))","v":10000000000},null,{"$f":"IF($AZ$107=10000000000,10000000000,IF('SOLAI T2D SPA'!$C$25<=M143,M143,10000000000))","v":10000000000},null,{"$f":"IF($AZ$107=10000000000,10000000000,IF('SOLAI T2D SPA'!$C$25<=O143,O143,10000000000))","v":10000000000},null,{"$f":"IF($AZ$107=10000000000,10000000000,IF('SOLAI T2D SPA'!$C$25<=Q143,Q143,10000000000))","v":10000000000},null,{"$f":"IF($AZ$107=10000000000,10000000000,IF('SOLAI T2D SPA'!$C$25<=S143,S143,10000000000))","v":10000000000},null,{"$f":"IF($AZ$107=10000000000,10000000000,IF('SOLAI T2D SPA'!$C$25<=U143,U143,10000000000))","v":10000000000},null,{"$f":"IF($AZ$107=10000000000,10000000000,IF('SOLAI T2D SPA'!$C$25<=W143,W143,10000000000))","v":10000000000},null,{"$f":"IF($AZ$107=10000000000,10000000000,IF('SOLAI T2D SPA'!$C$25<=Y143,Y143,10000000000))","v":10000000000},null,{"$f":"IF($AZ$107=10000000000,10000000000,IF('SOLAI T2D SPA'!$C$25<=AA143,AA143,10000000000))","v":10000000000},null,{"$f":"IF($AZ$107=10000000000,10000000000,IF('SOLAI T2D SPA'!$C$25<=AC143,AC143,10000000000))","v":10000000000},null,{"$f":"IF($AZ$107=10000000000,10000000000,IF('SOLAI T2D SPA'!$C$25<=AE143,AE143,10000000000))","v":10000000000},null,{"$f":"IF($AZ$107=10000000000,10000000000,IF('SOLAI T2D SPA'!$C$25<=AG143,AG143,10000000000))","v":10000000000},null,{"$f":"IF($AZ$107=10000000000,10000000000,IF('SOLAI T2D SPA'!$C$25<=AI143,AI143,10000000000))","v":10000000000}]
[null,null,5,{"$f":"A143+B143+C144","v":29},{"$f":"(A143+C144)/100*2500+B143/100*0.4*2500/1.2","v":391.66666666666669},null,1319.175,null,2054.8416666666667,null,2947.0333333333338,null,3349.6083333333336,null,4070.5833333333339,null,4943.3166666666666,null,5807.4083333333338,null,6818.0083333333341,null,7817.0083333333341,null,8955.4333333333343,null,10077.424999999999,null,11331.358333333335,null,12565.958333333336,null,13920.716666666667,null,15252.15,null,null,null,null,null,null,null,null,null,null,null,null,null,null,null,null,null,null,null,null,null,null,null,null,null,null,null,null,null,null,null,null,null,null,null,null,null,null,null,null,null,null,null,null,10000000000,{"$f":"BZ143+CA143+CB144","v":30000000000},{"$f":"(BZ143+CB144)/100*2500+CA143/100*0.4*2500/1.2","v":583333333333.33337},null,{"$f":"IF($AZ$108=10000000000,10000000000,IF('SOLAI T2D SPA'!$C$25<=G144,G144,10000000000))","v":10000000000},null,{"$f":"IF($AZ$108=10000000000,10000000000,IF('SOLAI T2D SPA'!$C$25<=I144,I144,10000000000))","v":10000000000},null,{"$f":"IF($AZ$108=10000000000,10000000000,IF('SOLAI T2D SPA'!$C$25<=K144,K144,10000000000))","v":10000000000},null,{"$f":"IF($AZ$108=10000000000,10000000000,IF('SOLAI T2D SPA'!$C$25<=M144,M144,10000000000))","v":10000000000},null,{"$f":"IF($AZ$108=10000000000,10000000000,IF('SOLAI T2D SPA'!$C$25<=O144,O144,10000000000))","v":10000000000},null,{"$f":"IF($AZ$108=10000000000,10000000000,IF('SOLAI T2D SPA'!$C$25<=Q144,Q144,10000000000))","v":10000000000},null,{"$f":"IF($AZ$108=10000000000,10000000000,IF('SOLAI T2D SPA'!$C$25<=S144,S144,10000000000))","v":10000000000},null,{"$f":"IF($AZ$108=10000000000,10000000000,IF('SOLAI T2D SPA'!$C$25<=U144,U144,10000000000))","v":10000000000},null,{"$f":"IF($AZ$108=10000000000,10000000000,IF('SOLAI T2D SPA'!$C$25<=W144,W144,10000000000))","v":10000000000},null,{"$f":"IF($AZ$108=10000000000,10000000000,IF('SOLAI T2D SPA'!$C$25<=Y144,Y144,10000000000))","v":10000000000},null,{"$f":"IF($AZ$108=10000000000,10000000000,IF('SOLAI T2D SPA'!$C$25<=AA144,AA144,10000000000))","v":10000000000},null,{"$f":"IF($AZ$108=10000000000,10000000000,IF('SOLAI T2D SPA'!$C$25<=AC144,AC144,10000000000))","v":10000000000},null,{"$f":"IF($AZ$108=10000000000,10000000000,IF('SOLAI T2D SPA'!$C$25<=AE144,AE144,10000000000))","v":10000000000},null,{"$f":"IF($AZ$108=10000000000,10000000000,IF('SOLAI T2D SPA'!$C$25<=AG144,AG144,10000000000))","v":10000000000},null,{"$f":"IF($AZ$108=10000000000,10000000000,IF('SOLAI T2D SPA'!$C$25<=AI144,AI144,10000000000))","v":10000000000}]
[5,null,4,{"$f":"A145+B143+C145","v":29},{"$f":"(A145+C145)/100*2500+B143/100*0.4*2500/1.2","v":391.66666666666669},null,1319.175,null,2054.8416666666667,null,2947.0333333333338,null,3349.6083333333336,null,4070.5833333333339,null,4943.3166666666666,null,5807.4083333333338,null,6818.0083333333341,null,7817.0083333333341,null,8955.4333333333343,null,10077.424999999999,null,11331.358333333335,null,12565.958333333336,null,13920.716666666667,null,15252.15,null,null,null,null,null,null,null,null,null,null,null,null,null,null,null,null,null,null,null,null,null,null,null,null,null,null,null,null,null,null,null,null,null,null,null,null,null,null,null,null,null,null,{"$f":"AV109","v":10000000000},null,10000000000,{"$f":"BZ145+CA143+CB145","v":30000000000},{"$f":"(BZ145+CB145)/100*2500+CA143/100*0.4*2500/1.2","v":583333333333.33337},null,{"$f":"IF($AZ$109=10000000000,10000000000,IF('SOLAI T2D SPA'!$C$25<=G145,G145,10000000000))","v":10000000000},null,{"$f":"IF($AZ$109=10000000000,10000000000,IF('SOLAI T2D SPA'!$C$25<=I145,I145,10000000000))","v":10000000000},null,{"$f":"IF($AZ$109=10000000000,10000000000,IF('SOLAI T2D SPA'!$C$25<=K145,K145,10000000000))","v":10000000000},null,{"$f":"IF($AZ$109=10000000000,10000000000,IF('SOLAI T2D SPA'!$C$25<=M145,M145,10000000000))","v":10000000000},null,{"$f":"IF($AZ$109=10000000000,10000000000,IF('SOLAI T2D SPA'!$C$25<=O145,O145,10000000000))","v":10000000000},null,{"$f":"IF($AZ$109=10000000000,10000000000,IF('SOLAI T2D SPA'!$C$25<=Q145,Q145,10000000000))","v":10000000000},null,{"$f":"IF($AZ$109=10000000000,10000000000,IF('SOLAI T2D SPA'!$C$25<=S145,S145,10000000000))","v":10000000000},null,{"$f":"IF($AZ$109=10000000000,10000000000,IF('SOLAI T2D SPA'!$C$25<=U145,U145,10000000000))","v":10000000000},null,{"$f":"IF($AZ$109=10000000000,10000000000,IF('SOLAI T2D SPA'!$C$25<=W145,W145,10000000000))","v":10000000000},null,{"$f":"IF($AZ$109=10000000000,10000000000,IF('SOLAI T2D SPA'!$C$25<=Y145,Y145,10000000000))","v":10000000000},null,{"$f":"IF($AZ$109=10000000000,10000000000,IF('SOLAI T2D SPA'!$C$25<=AA145,AA145,10000000000))","v":10000000000},null,{"$f":"IF($AZ$109=10000000000,10000000000,IF('SOLAI T2D SPA'!$C$25<=AC145,AC145,10000000000))","v":10000000000},null,{"$f":"IF($AZ$109=10000000000,10000000000,IF('SOLAI T2D SPA'!$C$25<=AE145,AE145,10000000000))","v":10000000000},null,{"$f":"IF($AZ$109=10000000000,10000000000,IF('SOLAI T2D SPA'!$C$25<=AG145,AG145,10000000000))","v":10000000000},null,{"$f":"IF($AZ$109=10000000000,10000000000,IF('SOLAI T2D SPA'!$C$25<=AI145,AI145,10000000000))","v":10000000000}]
[null,null,5,{"$f":"A145+B143+C146","v":30},{"$f":"(A145+C146)/100*2500+B143/100*0.4*2500/1.2","v":416.66666666666669},null,1368.2666666666669,null,2131.5833333333335,null,3057.5749999999998,null,3475.541666666667,null,4224.3083333333334,null,5130.5249999999996,null,6028.5916666666672,null,7079.1916666666675,null,8118.2333333333336,null,9302.6,null,10471.5,null,11777.233333333335,null,13063.475,null,14476.891666666668,null,15865.35,null,null,null,null,null,null,null,null,null,null,null,null,null,null,null,null,null,null,null,null,null,null,null,null,null,null,null,null,null,null,null,null,null,null,null,null,null,null,null,null,null,null,null,null,10000000000,{"$f":"BZ145+CA143+CB146","v":30000000000},{"$f":"(BZ145+CB146)/100*2500+CA143/100*0.4*2500/1.2","v":583333333333.33337},null,{"$f":"IF($AZ$110=10000000000,10000000000,IF('SOLAI T2D SPA'!$C$25<=G146,G146,10000000000))","v":10000000000},null,{"$f":"IF($AZ$110=10000000000,10000000000,IF('SOLAI T2D SPA'!$C$25<=I146,I146,10000000000))","v":10000000000},null,{"$f":"IF($AZ$110=10000000000,10000000000,IF('SOLAI T2D SPA'!$C$25<=K146,K146,10000000000))","v":10000000000},null,{"$f":"IF($AZ$110=10000000000,10000000000,IF('SOLAI T2D SPA'!$C$25<=M146,M146,10000000000))","v":10000000000},null,{"$f":"IF($AZ$110=10000000000,10000000000,IF('SOLAI T2D SPA'!$C$25<=O146,O146,10000000000))","v":10000000000},null,{"$f":"IF($AZ$110=10000000000,10000000000,IF('SOLAI T2D SPA'!$C$25<=Q146,Q146,10000000000))","v":10000000000},null,{"$f":"IF($AZ$110=10000000000,10000000000,IF('SOLAI T2D SPA'!$C$25<=S146,S146,10000000000))","v":10000000000},null,{"$f":"IF($AZ$110=10000000000,10000000000,IF('SOLAI T2D SPA'!$C$25<=U146,U146,10000000000))","v":10000000000},null,{"$f":"IF($AZ$110=10000000000,10000000000,IF('SOLAI T2D SPA'!$C$25<=W146,W146,10000000000))","v":10000000000},null,{"$f":"IF($AZ$110=10000000000,10000000000,IF('SOLAI T2D SPA'!$C$25<=Y146,Y146,10000000000))","v":10000000000},null,{"$f":"IF($AZ$110=10000000000,10000000000,IF('SOLAI T2D SPA'!$C$25<=AA146,AA146,10000000000))","v":10000000000},null,{"$f":"IF($AZ$110=10000000000,10000000000,IF('SOLAI T2D SPA'!$C$25<=AC146,AC146,10000000000))","v":10000000000},null,{"$f":"IF($AZ$110=10000000000,10000000000,IF('SOLAI T2D SPA'!$C$25<=AE146,AE146,10000000000))","v":10000000000},null,{"$f":"IF($AZ$110=10000000000,10000000000,IF('SOLAI T2D SPA'!$C$25<=AG146,AG146,10000000000))","v":10000000000},null,{"$f":"IF($AZ$110=10000000000,10000000000,IF('SOLAI T2D SPA'!$C$25<=AI146,AI146,10000000000))","v":10000000000}]
[4,22,4,{"$f":"A147+B147+C147","v":30},{"$f":"(A147+C147)/100*2500+B147/100*0.4*2500/1.2","v":383.33333333333337},null,1368.2666666666669,null,2131.5833333333335,null,3057.5749999999998,null,3475.541666666667,null,4224.3083333333334,null,5130.5249999999996,null,6028.5916666666672,null,7079.1916666666675,null,8118.2333333333336,null,9302.6,null,10471.5,null,11777.233333333335,null,13063.475,null,14476.891666666668,null,15865.35,null,null,null,null,null,null,null,null,null,null,null,null,null,null,null,null,null,null,null,null,null,null,null,null,null,null,null,null,null,null,null,null,null,null,null,null,null,null,null,null,null,null,{"$f":"AV111","v":10000000000},10000000000,10000000000,{"$f":"BZ147+CA147+CB147","v":30000000000},{"$f":"(BZ147+CB147)/100*2500+CA147/100*0.4*2500/1.2","v":583333333333.33337},null,{"$f":"IF($AZ$111=10000000000,10000000000,IF('SOLAI T2D SPA'!$C$25<=G147,G147,10000000000))","v":10000000000},null,{"$f":"IF($AZ$111=10000000000,10000000000,IF('SOLAI T2D SPA'!$C$25<=I147,I147,10000000000))","v":10000000000},null,{"$f":"IF($AZ$111=10000000000,10000000000,IF('SOLAI T2D SPA'!$C$25<=K147,K147,10000000000))","v":10000000000},null,{"$f":"IF($AZ$111=10000000000,10000000000,IF('SOLAI T2D SPA'!$C$25<=M147,M147,10000000000))","v":10000000000},null,{"$f":"IF($AZ$111=10000000000,10000000000,IF('SOLAI T2D SPA'!$C$25<=O147,O147,10000000000))","v":10000000000},null,{"$f":"IF($AZ$111=10000000000,10000000000,IF('SOLAI T2D SPA'!$C$25<=Q147,Q147,10000000000))","v":10000000000},null,{"$f":"IF($AZ$111=10000000000,10000000000,IF('SOLAI T2D SPA'!$C$25<=S147,S147,10000000000))","v":10000000000},null,{"$f":"IF($AZ$111=10000000000,10000000000,IF('SOLAI T2D SPA'!$C$25<=U147,U147,10000000000))","v":10000000000},null,{"$f":"IF($AZ$111=10000000000,10000000000,IF('SOLAI T2D SPA'!$C$25<=W147,W147,10000000000))","v":10000000000},null,{"$f":"IF($AZ$111=10000000000,10000000000,IF('SOLAI T2D SPA'!$C$25<=Y147,Y147,10000000000))","v":10000000000},null,{"$f":"IF($AZ$111=10000000000,10000000000,IF('SOLAI T2D SPA'!$C$25<=AA147,AA147,10000000000))","v":10000000000},null,{"$f":"IF($AZ$111=10000000000,10000000000,IF('SOLAI T2D SPA'!$C$25<=AC147,AC147,10000000000))","v":10000000000},null,{"$f":"IF($AZ$111=10000000000,10000000000,IF('SOLAI T2D SPA'!$C$25<=AE147,AE147,10000000000))","v":10000000000},null,{"$f":"IF($AZ$111=10000000000,10000000000,IF('SOLAI T2D SPA'!$C$25<=AG147,AG147,10000000000))","v":10000000000},null,{"$f":"IF($AZ$111=10000000000,10000000000,IF('SOLAI T2D SPA'!$C$25<=AI147,AI147,10000000000))","v":10000000000}]
[null,null,5,{"$f":"A147+B147+C148","v":31},{"$f":"(A147+C148)/100*2500+B147/100*0.4*2500/1.2","v":408.33333333333337},null,1417.2666666666669,null,2208.166666666667,null,3168.0666666666671,null,3601.65,null,4377.541666666667,null,5318,null,6250.1833333333334,null,7340.2416666666677,null,8419.4249999999993,null,9649.8583333333336,null,10864.816666666668,null,12222.375,null,13560.391666666668,null,15032.708333333336,null,16480.291666666668,null,null,null,null,null,null,null,null,null,null,null,null,null,null,null,null,null,null,null,null,null,null,null,null,null,null,null,null,null,null,null,null,null,null,null,null,null,null,null,null,null,null,null,null,10000000000,{"$f":"BZ147+CA147+CB148","v":30000000000},{"$f":"(BZ147+CB148)/100*2500+CA147/100*0.4*2500/1.2","v":583333333333.33337},null,{"$f":"IF($AZ$112=10000000000,10000000000,IF('SOLAI T2D SPA'!$C$25<=G148,G148,10000000000))","v":10000000000},null,{"$f":"IF($AZ$112=10000000000,10000000000,IF('SOLAI T2D SPA'!$C$25<=I148,I148,10000000000))","v":10000000000},null,{"$f":"IF($AZ$112=10000000000,10000000000,IF('SOLAI T2D SPA'!$C$25<=K148,K148,10000000000))","v":10000000000},null,{"$f":"IF($AZ$112=10000000000,10000000000,IF('SOLAI T2D SPA'!$C$25<=M148,M148,10000000000))","v":10000000000},null,{"$f":"IF($AZ$112=10000000000,10000000000,IF('SOLAI T2D SPA'!$C$25<=O148,O148,10000000000))","v":10000000000},null,{"$f":"IF($AZ$112=10000000000,10000000000,IF('SOLAI T2D SPA'!$C$25<=Q148,Q148,10000000000))","v":10000000000},null,{"$f":"IF($AZ$112=10000000000,10000000000,IF('SOLAI T2D SPA'!$C$25<=S148,S148,10000000000))","v":10000000000},null,{"$f":"IF($AZ$112=10000000000,10000000000,IF('SOLAI T2D SPA'!$C$25<=U148,U148,10000000000))","v":10000000000},null,{"$f":"IF($AZ$112=10000000000,10000000000,IF('SOLAI T2D SPA'!$C$25<=W148,W148,10000000000))","v":10000000000},null,{"$f":"IF($AZ$112=10000000000,10000000000,IF('SOLAI T2D SPA'!$C$25<=Y148,Y148,10000000000))","v":10000000000},null,{"$f":"IF($AZ$112=10000000000,10000000000,IF('SOLAI T2D SPA'!$C$25<=AA148,AA148,10000000000))","v":10000000000},null,{"$f":"IF($AZ$112=10000000000,10000000000,IF('SOLAI T2D SPA'!$C$25<=AC148,AC148,10000000000))","v":10000000000},null,{"$f":"IF($AZ$112=10000000000,10000000000,IF('SOLAI T2D SPA'!$C$25<=AE148,AE148,10000000000))","v":10000000000},null,{"$f":"IF($AZ$112=10000000000,10000000000,IF('SOLAI T2D SPA'!$C$25<=AG148,AG148,10000000000))","v":10000000000},null,{"$f":"IF($AZ$112=10000000000,10000000000,IF('SOLAI T2D SPA'!$C$25<=AI148,AI148,10000000000))","v":10000000000}]
[5,null,4,{"$f":"A149+B147+C149","v":31},{"$f":"(A149+C149)/100*2500+B147/100*0.4*2500/1.2","v":408.33333333333337},null,1417.2666666666669,null,2208.166666666667,null,3168.0666666666671,null,3601.65,null,4377.541666666667,null,5318,null,6250.1833333333334,null,7340.2416666666677,null,8419.4249999999993,null,9649.8583333333336,null,10864.816666666668,null,12222.375,null,13560.391666666668,null,15032.708333333336,null,16480.291666666668,null,null,null,null,null,null,null,null,null,null,null,null,null,null,null,null,null,null,null,null,null,null,null,null,null,null,null,null,null,null,null,null,null,null,null,null,null,null,null,null,null,null,{"$f":"AV113","v":10000000000},null,10000000000,{"$f":"BZ149+CA147+CB149","v":30000000000},{"$f":"(BZ149+CB149)/100*2500+CA147/100*0.4*2500/1.2","v":583333333333.33337},null,{"$f":"IF($AZ$113=10000000000,10000000000,IF('SOLAI T2D SPA'!$C$25<=G149,G149,10000000000))","v":10000000000},null,{"$f":"IF($AZ$113=10000000000,10000000000,IF('SOLAI T2D SPA'!$C$25<=I149,I149,10000000000))","v":10000000000},null,{"$f":"IF($AZ$113=10000000000,10000000000,IF('SOLAI T2D SPA'!$C$25<=K149,K149,10000000000))","v":10000000000},null,{"$f":"IF($AZ$113=10000000000,10000000000,IF('SOLAI T2D SPA'!$C$25<=M149,M149,10000000000))","v":10000000000},null,{"$f":"IF($AZ$113=10000000000,10000000000,IF('SOLAI T2D SPA'!$C$25<=O149,O149,10000000000))","v":10000000000},null,{"$f":"IF($AZ$113=10000000000,10000000000,IF('SOLAI T2D SPA'!$C$25<=Q149,Q149,10000000000))","v":10000000000},null,{"$f":"IF($AZ$113=10000000000,10000000000,IF('SOLAI T2D SPA'!$C$25<=S149,S149,10000000000))","v":10000000000},null,{"$f":"IF($AZ$113=10000000000,10000000000,IF('SOLAI T2D SPA'!$C$25<=U149,U149,10000000000))","v":10000000000},null,{"$f":"IF($AZ$113=10000000000,10000000000,IF('SOLAI T2D SPA'!$C$25<=W149,W149,10000000000))","v":10000000000},null,{"$f":"IF($AZ$113=10000000000,10000000000,IF('SOLAI T2D SPA'!$C$25<=Y149,Y149,10000000000))","v":10000000000},null,{"$f":"IF($AZ$113=10000000000,10000000000,IF('SOLAI T2D SPA'!$C$25<=AA149,AA149,10000000000))","v":10000000000},null,{"$f":"IF($AZ$113=10000000000,10000000000,IF('SOLAI T2D SPA'!$C$25<=AC149,AC149,10000000000))","v":10000000000},null,{"$f":"IF($AZ$113=10000000000,10000000000,IF('SOLAI T2D SPA'!$C$25<=AE149,AE149,10000000000))","v":10000000000},null,{"$f":"IF($AZ$113=10000000000,10000000000,IF('SOLAI T2D SPA'!$C$25<=AG149,AG149,10000000000))","v":10000000000},null,{"$f":"IF($AZ$113=10000000000,10000000000,IF('SOLAI T2D SPA'!$C$25<=AI149,AI149,10000000000))","v":10000000000}]
[null,null,5,{"$f":"A149+B147+C150","v":32},{"$f":"(A149+C150)/100*2500+B147/100*0.4*2500/1.2","v":433.33333333333337},null,1466.3916666666669,null,2284.9833333333336,null,3278.25,null,3727.4333333333338,null,4531.0249999999996,null,5505.7416666666677,null,6470.9583333333339,null,7601.9083333333338,null,8720.5083333333332,null,9997.125,null,11258.291666666668,null,12667.883333333335,null,14059.35,null,15589.591666666667,null,17094.849999999999,null,null,null,null,null,null,null,null,null,null,null,null,null,null,null,null,null,null,null,null,null,null,null,null,null,null,null,null,null,null,null,null,null,null,null,null,null,null,null,null,null,null,null,null,10000000000,{"$f":"BZ149+CA147+CB150","v":30000000000},{"$f":"(BZ149+CB150)/100*2500+CA147/100*0.4*2500/1.2","v":583333333333.33337},null,{"$f":"IF($AZ$114=10000000000,10000000000,IF('SOLAI T2D SPA'!$C$25<=G150,G150,10000000000))","v":10000000000},null,{"$f":"IF($AZ$114=10000000000,10000000000,IF('SOLAI T2D SPA'!$C$25<=I150,I150,10000000000))","v":10000000000},null,{"$f":"IF($AZ$114=10000000000,10000000000,IF('SOLAI T2D SPA'!$C$25<=K150,K150,10000000000))","v":10000000000},null,{"$f":"IF($AZ$114=10000000000,10000000000,IF('SOLAI T2D SPA'!$C$25<=M150,M150,10000000000))","v":10000000000},null,{"$f":"IF($AZ$114=10000000000,10000000000,IF('SOLAI T2D SPA'!$C$25<=O150,O150,10000000000))","v":10000000000},null,{"$f":"IF($AZ$114=10000000000,10000000000,IF('SOLAI T2D SPA'!$C$25<=Q150,Q150,10000000000))","v":10000000000},null,{"$f":"IF($AZ$114=10000000000,10000000000,IF('SOLAI T2D SPA'!$C$25<=S150,S150,10000000000))","v":10000000000},null,{"$f":"IF($AZ$114=10000000000,10000000000,IF('SOLAI T2D SPA'!$C$25<=U150,U150,10000000000))","v":10000000000},null,{"$f":"IF($AZ$114=10000000000,10000000000,IF('SOLAI T2D SPA'!$C$25<=W150,W150,10000000000))","v":10000000000},null,{"$f":"IF($AZ$114=10000000000,10000000000,IF('SOLAI T2D SPA'!$C$25<=Y150,Y150,10000000000))","v":10000000000},null,{"$f":"IF($AZ$114=10000000000,10000000000,IF('SOLAI T2D SPA'!$C$25<=AA150,AA150,10000000000))","v":10000000000},null,{"$f":"IF($AZ$114=10000000000,10000000000,IF('SOLAI T2D SPA'!$C$25<=AC150,AC150,10000000000))","v":10000000000},null,{"$f":"IF($AZ$114=10000000000,10000000000,IF('SOLAI T2D SPA'!$C$25<=AE150,AE150,10000000000))","v":10000000000},null,{"$f":"IF($AZ$114=10000000000,10000000000,IF('SOLAI T2D SPA'!$C$25<=AG150,AG150,10000000000))","v":10000000000},null,{"$f":"IF($AZ$114=10000000000,10000000000,IF('SOLAI T2D SPA'!$C$25<=AI150,AI150,10000000000))","v":10000000000}]
[4,24,4,{"$f":"A151+B151+C151","v":32},{"$f":"(A151+C151)/100*2500+B151/100*0.4*2500/1.2","v":400},null,1466.3916666666669,null,2284.9833333333336,null,3278.25,null,3727.4333333333338,null,4531.0249999999996,null,5505.7416666666677,null,6470.9583333333339,null,7601.9083333333338,null,8720.5083333333332,null,9997.125,null,11258.291666666668,null,12667.883333333335,null,14059.35,null,15589.591666666667,null,17094.849999999999,null,null,null,null,null,null,null,null,null,null,null,null,null,null,null,null,null,null,null,null,null,null,null,null,null,null,null,null,null,null,null,null,null,null,null,null,null,null,null,null,null,null,{"$f":"AV115","v":10000000000},10000000000,10000000000,{"$f":"BZ151+CA151+CB151","v":30000000000},{"$f":"(BZ151+CB151)/100*2500+CA151/100*0.4*2500/1.2","v":583333333333.33337},null,{"$f":"IF($AZ$115=10000000000,10000000000,IF('SOLAI T2D SPA'!$C$25<=G151,G151,10000000000))","v":10000000000},null,{"$f":"IF($AZ$115=10000000000,10000000000,IF('SOLAI T2D SPA'!$C$25<=I151,I151,10000000000))","v":10000000000},null,{"$f":"IF($AZ$115=10000000000,10000000000,IF('SOLAI T2D SPA'!$C$25<=K151,K151,10000000000))","v":10000000000},null,{"$f":"IF($AZ$115=10000000000,10000000000,IF('SOLAI T2D SPA'!$C$25<=M151,M151,10000000000))","v":10000000000},null,{"$f":"IF($AZ$115=10000000000,10000000000,IF('SOLAI T2D SPA'!$C$25<=O151,O151,10000000000))","v":10000000000},null,{"$f":"IF($AZ$115=10000000000,10000000000,IF('SOLAI T2D SPA'!$C$25<=Q151,Q151,10000000000))","v":10000000000},null,{"$f":"IF($AZ$115=10000000000,10000000000,IF('SOLAI T2D SPA'!$C$25<=S151,S151,10000000000))","v":10000000000},null,{"$f":"IF($AZ$115=10000000000,10000000000,IF('SOLAI T2D SPA'!$C$25<=U151,U151,10000000000))","v":10000000000},null,{"$f":"IF($AZ$115=10000000000,10000000000,IF('SOLAI T2D SPA'!$C$25<=W151,W151,10000000000))","v":10000000000},null,{"$f":"IF($AZ$115=10000000000,10000000000,IF('SOLAI T2D SPA'!$C$25<=Y151,Y151,10000000000))","v":10000000000},null,{"$f":"IF($AZ$115=10000000000,10000000000,IF('SOLAI T2D SPA'!$C$25<=AA151,AA151,10000000000))","v":10000000000},null,{"$f":"IF($AZ$115=10000000000,10000000000,IF('SOLAI T2D SPA'!$C$25<=AC151,AC151,10000000000))","v":10000000000},null,{"$f":"IF($AZ$115=10000000000,10000000000,IF('SOLAI T2D SPA'!$C$25<=AE151,AE151,10000000000))","v":10000000000},null,{"$f":"IF($AZ$115=10000000000,10000000000,IF('SOLAI T2D SPA'!$C$25<=AG151,AG151,10000000000))","v":10000000000},null,{"$f":"IF($AZ$115=10000000000,10000000000,IF('SOLAI T2D SPA'!$C$25<=AI151,AI151,10000000000))","v":10000000000}]
[null,null,5,{"$f":"A151+B151+C152","v":33},{"$f":"(A151+C152)/100*2500+B151/100*0.4*2500/1.2","v":425},null,1515.425,null,2361.6416666666669,null,3388.55,null,3852.875,null,4684.7083333333339,null,5693.2416666666677,null,6692.7,null,7863.3166666666675,null,9021.3833333333332,null,10344.283333333333,null,11651.8,null,13113.616666666667,null,14557.341666666667,null,16145.525,null,17710.633333333335,null,null,null,null,null,null,null,null,null,null,null,null,null,null,null,null,null,null,null,null,null,null,null,null,null,null,null,null,null,null,null,null,null,null,null,null,null,null,null,null,null,null,null,null,10000000000,{"$f":"BZ151+CA151+CB152","v":30000000000},{"$f":"(BZ151+CB152)/100*2500+CA151/100*0.4*2500/1.2","v":583333333333.33337},null,{"$f":"IF($AZ$116=10000000000,10000000000,IF('SOLAI T2D SPA'!$C$25<=G152,G152,10000000000))","v":10000000000},null,{"$f":"IF($AZ$116=10000000000,10000000000,IF('SOLAI T2D SPA'!$C$25<=I152,I152,10000000000))","v":10000000000},null,{"$f":"IF($AZ$116=10000000000,10000000000,IF('SOLAI T2D SPA'!$C$25<=K152,K152,10000000000))","v":10000000000},null,{"$f":"IF($AZ$116=10000000000,10000000000,IF('SOLAI T2D SPA'!$C$25<=M152,M152,10000000000))","v":10000000000},null,{"$f":"IF($AZ$116=10000000000,10000000000,IF('SOLAI T2D SPA'!$C$25<=O152,O152,10000000000))","v":10000000000},null,{"$f":"IF($AZ$116=10000000000,10000000000,IF('SOLAI T2D SPA'!$C$25<=Q152,Q152,10000000000))","v":10000000000},null,{"$f":"IF($AZ$116=10000000000,10000000000,IF('SOLAI T2D SPA'!$C$25<=S152,S152,10000000000))","v":10000000000},null,{"$f":"IF($AZ$116=10000000000,10000000000,IF('SOLAI T2D SPA'!$C$25<=U152,U152,10000000000))","v":10000000000},null,{"$f":"IF($AZ$116=10000000000,10000000000,IF('SOLAI T2D SPA'!$C$25<=W152,W152,10000000000))","v":10000000000},null,{"$f":"IF($AZ$116=10000000000,10000000000,IF('SOLAI T2D SPA'!$C$25<=Y152,Y152,10000000000))","v":10000000000},null,{"$f":"IF($AZ$116=10000000000,10000000000,IF('SOLAI T2D SPA'!$C$25<=AA152,AA152,10000000000))","v":10000000000},null,{"$f":"IF($AZ$116=10000000000,10000000000,IF('SOLAI T2D SPA'!$C$25<=AC152,AC152,10000000000))","v":10000000000},null,{"$f":"IF($AZ$116=10000000000,10000000000,IF('SOLAI T2D SPA'!$C$25<=AE152,AE152,10000000000))","v":10000000000},null,{"$f":"IF($AZ$116=10000000000,10000000000,IF('SOLAI T2D SPA'!$C$25<=AG152,AG152,10000000000))","v":10000000000},null,{"$f":"IF($AZ$116=10000000000,10000000000,IF('SOLAI T2D SPA'!$C$25<=AI152,AI152,10000000000))","v":10000000000}]
[5,null,4,{"$f":"A153+B151+C153","v":33},{"$f":"(A153+C153)/100*2500+B151/100*0.4*2500/1.2","v":425},null,1515.425,null,2361.6416666666669,null,3388.55,null,3852.875,null,4684.7083333333339,null,5693.2416666666677,null,6692.7,null,7863.3166666666675,null,9021.3833333333332,null,10344.283333333333,null,11651.8,null,13113.616666666667,null,14557.341666666667,null,16145.525,null,17710.633333333335,null,null,null,null,null,null,null,null,null,null,null,null,null,null,null,null,null,null,null,null,null,null,null,null,null,null,null,null,null,null,null,null,null,null,null,null,null,null,null,null,null,null,{"$f":"AV117","v":10000000000},null,10000000000,{"$f":"BZ153+CA151+CB153","v":30000000000},{"$f":"(BZ153+CB153)/100*2500+CA151/100*0.4*2500/1.2","v":583333333333.33337},null,{"$f":"IF($AZ$117=10000000000,10000000000,IF('SOLAI T2D SPA'!$C$25<=G153,G153,10000000000))","v":10000000000},null,{"$f":"IF($AZ$117=10000000000,10000000000,IF('SOLAI T2D SPA'!$C$25<=I153,I153,10000000000))","v":10000000000},null,{"$f":"IF($AZ$117=10000000000,10000000000,IF('SOLAI T2D SPA'!$C$25<=K153,K153,10000000000))","v":10000000000},null,{"$f":"IF($AZ$117=10000000000,10000000000,IF('SOLAI T2D SPA'!$C$25<=M153,M153,10000000000))","v":10000000000},null,{"$f":"IF($AZ$117=10000000000,10000000000,IF('SOLAI T2D SPA'!$C$25<=O153,O153,10000000000))","v":10000000000},null,{"$f":"IF($AZ$117=10000000000,10000000000,IF('SOLAI T2D SPA'!$C$25<=Q153,Q153,10000000000))","v":10000000000},null,{"$f":"IF($AZ$117=10000000000,10000000000,IF('SOLAI T2D SPA'!$C$25<=S153,S153,10000000000))","v":10000000000},null,{"$f":"IF($AZ$117=10000000000,10000000000,IF('SOLAI T2D SPA'!$C$25<=U153,U153,10000000000))","v":10000000000},null,{"$f":"IF($AZ$117=10000000000,10000000000,IF('SOLAI T2D SPA'!$C$25<=W153,W153,10000000000))","v":10000000000},null,{"$f":"IF($AZ$117=10000000000,10000000000,IF('SOLAI T2D SPA'!$C$25<=Y153,Y153,10000000000))","v":10000000000},null,{"$f":"IF($AZ$117=10000000000,10000000000,IF('SOLAI T2D SPA'!$C$25<=AA153,AA153,10000000000))","v":10000000000},null,{"$f":"IF($AZ$117=10000000000,10000000000,IF('SOLAI T2D SPA'!$C$25<=AC153,AC153,10000000000))","v":10000000000},null,{"$f":"IF($AZ$117=10000000000,10000000000,IF('SOLAI T2D SPA'!$C$25<=AE153,AE153,10000000000))","v":10000000000},null,{"$f":"IF($AZ$117=10000000000,10000000000,IF('SOLAI T2D SPA'!$C$25<=AG153,AG153,10000000000))","v":10000000000},null,{"$f":"IF($AZ$117=10000000000,10000000000,IF('SOLAI T2D SPA'!$C$25<=AI153,AI153,10000000000))","v":10000000000}]
[null,null,5,{"$f":"A153+B151+C154","v":34},{"$f":"(A153+C154)/100*2500+B151/100*0.4*2500/1.2","v":450},null,1564.4083333333335,null,2438.3166666666671,null,3498.9583333333339,null,3978.9250000000002,null,4837.9916666666668,null,5880.4333333333334,null,6913.4833333333336,null,8124.3833333333341,null,9322.9,null,10691.25,null,12045.233333333335,null,13559.45,null,15054.075000000001,null,16702.05,null,18325.383333333335,null,null,null,null,null,null,null,null,null,null,null,null,null,null,null,null,null,null,null,null,null,null,null,null,null,null,null,null,null,null,null,null,null,null,null,null,null,null,null,null,null,null,null,null,10000000000,{"$f":"BZ153+CA151+CB154","v":30000000000},{"$f":"(BZ153+CB154)/100*2500+CA151/100*0.4*2500/1.2","v":583333333333.33337},null,{"$f":"IF($AZ$118=10000000000,10000000000,IF('SOLAI T2D SPA'!$C$25<=G154,G154,10000000000))","v":10000000000},null,{"$f":"IF($AZ$118=10000000000,10000000000,IF('SOLAI T2D SPA'!$C$25<=I154,I154,10000000000))","v":10000000000},null,{"$f":"IF($AZ$118=10000000000,10000000000,IF('SOLAI T2D SPA'!$C$25<=K154,K154,10000000000))","v":10000000000},null,{"$f":"IF($AZ$118=10000000000,10000000000,IF('SOLAI T2D SPA'!$C$25<=M154,M154,10000000000))","v":10000000000},null,{"$f":"IF($AZ$118=10000000000,10000000000,IF('SOLAI T2D SPA'!$C$25<=O154,O154,10000000000))","v":10000000000},null,{"$f":"IF($AZ$118=10000000000,10000000000,IF('SOLAI T2D SPA'!$C$25<=Q154,Q154,10000000000))","v":10000000000},null,{"$f":"IF($AZ$118=10000000000,10000000000,IF('SOLAI T2D SPA'!$C$25<=S154,S154,10000000000))","v":10000000000},null,{"$f":"IF($AZ$118=10000000000,10000000000,IF('SOLAI T2D SPA'!$C$25<=U154,U154,10000000000))","v":10000000000},null,{"$f":"IF($AZ$118=10000000000,10000000000,IF('SOLAI T2D SPA'!$C$25<=W154,W154,10000000000))","v":10000000000},null,{"$f":"IF($AZ$118=10000000000,10000000000,IF('SOLAI T2D SPA'!$C$25<=Y154,Y154,10000000000))","v":10000000000},null,{"$f":"IF($AZ$118=10000000000,10000000000,IF('SOLAI T2D SPA'!$C$25<=AA154,AA154,10000000000))","v":10000000000},null,{"$f":"IF($AZ$118=10000000000,10000000000,IF('SOLAI T2D SPA'!$C$25<=AC154,AC154,10000000000))","v":10000000000},null,{"$f":"IF($AZ$118=10000000000,10000000000,IF('SOLAI T2D SPA'!$C$25<=AE154,AE154,10000000000))","v":10000000000},null,{"$f":"IF($AZ$118=10000000000,10000000000,IF('SOLAI T2D SPA'!$C$25<=AG154,AG154,10000000000))","v":10000000000},null,{"$f":"IF($AZ$118=10000000000,10000000000,IF('SOLAI T2D SPA'!$C$25<=AI154,AI154,10000000000))","v":10000000000}]
[4,30,4,{"$f":"A155+B155+C155","v":38},{"$f":"(A155+C155)/100*2500+B155/100*0.4*2500/1.2","v":450},null,1760.6833333333334,null,2744.6166666666668,null,3940.9583333333339,null,4481.8,null,5451.5,null,6629.2749999999996,null,7798.7916666666679,null,9168.6749999999993,null,10528.016666666668,null,12081.1,null,13618.674999999999,null,15342.583333333336,null,17046.991666666669,null,18926.266666666666,null,20782.566666666666,null,null,null,null,null,null,null,null,null,null,null,null,null,null,null,null,null,null,null,null,null,null,null,null,null,null,null,null,null,null,null,null,null,null,null,null,null,null,null,null,null,null,{"$f":"AV119","v":10000000000},10000000000,10000000000,{"$f":"BZ155+CA155+CB155","v":30000000000},{"$f":"(BZ155+CB155)/100*2500+CA155/100*0.4*2500/1.2","v":583333333333.33337},null,{"$f":"IF($AZ$119=10000000000,10000000000,IF('SOLAI T2D SPA'!$C$25<=G155,G155,10000000000))","v":10000000000},null,{"$f":"IF($AZ$119=10000000000,10000000000,IF('SOLAI T2D SPA'!$C$25<=I155,I155,10000000000))","v":10000000000},null,{"$f":"IF($AZ$119=10000000000,10000000000,IF('SOLAI T2D SPA'!$C$25<=K155,K155,10000000000))","v":10000000000},null,{"$f":"IF($AZ$119=10000000000,10000000000,IF('SOLAI T2D SPA'!$C$25<=M155,M155,10000000000))","v":10000000000},null,{"$f":"IF($AZ$119=10000000000,10000000000,IF('SOLAI T2D SPA'!$C$25<=O155,O155,10000000000))","v":10000000000},null,{"$f":"IF($AZ$119=10000000000,10000000000,IF('SOLAI T2D SPA'!$C$25<=Q155,Q155,10000000000))","v":10000000000},null,{"$f":"IF($AZ$119=10000000000,10000000000,IF('SOLAI T2D SPA'!$C$25<=S155,S155,10000000000))","v":10000000000},null,{"$f":"IF($AZ$119=10000000000,10000000000,IF('SOLAI T2D SPA'!$C$25<=U155,U155,10000000000))","v":10000000000},null,{"$f":"IF($AZ$119=10000000000,10000000000,IF('SOLAI T2D SPA'!$C$25<=W155,W155,10000000000))","v":10000000000},null,{"$f":"IF($AZ$119=10000000000,10000000000,IF('SOLAI T2D SPA'!$C$25<=Y155,Y155,10000000000))","v":10000000000},null,{"$f":"IF($AZ$119=10000000000,10000000000,IF('SOLAI T2D SPA'!$C$25<=AA155,AA155,10000000000))","v":10000000000},null,{"$f":"IF($AZ$119=10000000000,10000000000,IF('SOLAI T2D SPA'!$C$25<=AC155,AC155,10000000000))","v":10000000000},null,{"$f":"IF($AZ$119=10000000000,10000000000,IF('SOLAI T2D SPA'!$C$25<=AE155,AE155,10000000000))","v":10000000000},null,{"$f":"IF($AZ$119=10000000000,10000000000,IF('SOLAI T2D SPA'!$C$25<=AG155,AG155,10000000000))","v":10000000000},null,{"$f":"IF($AZ$119=10000000000,10000000000,IF('SOLAI T2D SPA'!$C$25<=AI155,AI155,10000000000))","v":10000000000}]
[null,null,5,{"$f":"A155+B155+C156","v":39},{"$f":"(A155+C156)/100*2500+B155/100*0.4*2500/1.2","v":475},null,1809.7083333333335,null,2821.0833333333339,null,4051.3249999999998,null,4607.8333333333339,null,5604.9166666666679,null,6816.5333333333338,null,8020.2416666666677,null,9430.0583333333343,null,10828.233333333335,null,12428.191666666668,null,14011.5,null,15786.858333333335,null,17544.508333333335,null,19482.966666666667,null,21398.741666666669,null,null,null,null,null,null,null,null,null,null,null,null,null,null,null,null,null,null,null,null,null,null,null,null,null,null,null,null,null,null,null,null,null,null,null,null,null,null,null,null,null,null,null,null,10000000000,{"$f":"BZ155+CA155+CB156","v":30000000000},{"$f":"(BZ155+CB156)/100*2500+CA155/100*0.4*2500/1.2","v":583333333333.33337},null,{"$f":"IF($AZ$120=10000000000,10000000000,IF('SOLAI T2D SPA'!$C$25<=G156,G156,10000000000))","v":10000000000},null,{"$f":"IF($AZ$120=10000000000,10000000000,IF('SOLAI T2D SPA'!$C$25<=I156,I156,10000000000))","v":10000000000},null,{"$f":"IF($AZ$120=10000000000,10000000000,IF('SOLAI T2D SPA'!$C$25<=K156,K156,10000000000))","v":10000000000},null,{"$f":"IF($AZ$120=10000000000,10000000000,IF('SOLAI T2D SPA'!$C$25<=M156,M156,10000000000))","v":10000000000},null,{"$f":"IF($AZ$120=10000000000,10000000000,IF('SOLAI T2D SPA'!$C$25<=O156,O156,10000000000))","v":10000000000},null,{"$f":"IF($AZ$120=10000000000,10000000000,IF('SOLAI T2D SPA'!$C$25<=Q156,Q156,10000000000))","v":10000000000},null,{"$f":"IF($AZ$120=10000000000,10000000000,IF('SOLAI T2D SPA'!$C$25<=S156,S156,10000000000))","v":10000000000},null,{"$f":"IF($AZ$120=10000000000,10000000000,IF('SOLAI T2D SPA'!$C$25<=U156,U156,10000000000))","v":10000000000},null,{"$f":"IF($AZ$120=10000000000,10000000000,IF('SOLAI T2D SPA'!$C$25<=W156,W156,10000000000))","v":10000000000},null,{"$f":"IF($AZ$120=10000000000,10000000000,IF('SOLAI T2D SPA'!$C$25<=Y156,Y156,10000000000))","v":10000000000},null,{"$f":"IF($AZ$120=10000000000,10000000000,IF('SOLAI T2D SPA'!$C$25<=AA156,AA156,10000000000))","v":10000000000},null,{"$f":"IF($AZ$120=10000000000,10000000000,IF('SOLAI T2D SPA'!$C$25<=AC156,AC156,10000000000))","v":10000000000},null,{"$f":"IF($AZ$120=10000000000,10000000000,IF('SOLAI T2D SPA'!$C$25<=AE156,AE156,10000000000))","v":10000000000},null,{"$f":"IF($AZ$120=10000000000,10000000000,IF('SOLAI T2D SPA'!$C$25<=AG156,AG156,10000000000))","v":10000000000},null,{"$f":"IF($AZ$120=10000000000,10000000000,IF('SOLAI T2D SPA'!$C$25<=AI156,AI156,10000000000))","v":10000000000}]
[5,null,4,{"$f":"A157+B155+C157","v":39},{"$f":"(A157+C157)/100*2500+B155/100*0.4*2500/1.2","v":475},null,1809.7083333333335,null,2821.0833333333339,null,4051.3249999999998,null,4607.8333333333339,null,5604.9166666666679,null,6816.5333333333338,null,8020.2416666666677,null,9430.0583333333343,null,10828.233333333335,null,12428.191666666668,null,14011.5,null,15786.858333333335,null,17544.508333333335,null,19482.966666666667,null,21398.741666666669,null,null,null,null,null,null,null,null,null,null,null,null,null,null,null,null,null,null,null,null,null,null,null,null,null,null,null,null,null,null,null,null,null,null,null,null,null,null,null,null,null,null,{"$f":"AV121","v":10000000000},null,10000000000,{"$f":"BZ157+CA155+CB157","v":30000000000},{"$f":"(BZ157+CB157)/100*2500+CA155/100*0.4*2500/1.2","v":583333333333.33337},null,{"$f":"IF($AZ$121=10000000000,10000000000,IF('SOLAI T2D SPA'!$C$25<=G157,G157,10000000000))","v":10000000000},null,{"$f":"IF($AZ$121=10000000000,10000000000,IF('SOLAI T2D SPA'!$C$25<=I157,I157,10000000000))","v":10000000000},null,{"$f":"IF($AZ$121=10000000000,10000000000,IF('SOLAI T2D SPA'!$C$25<=K157,K157,10000000000))","v":10000000000},null,{"$f":"IF($AZ$121=10000000000,10000000000,IF('SOLAI T2D SPA'!$C$25<=M157,M157,10000000000))","v":10000000000},null,{"$f":"IF($AZ$121=10000000000,10000000000,IF('SOLAI T2D SPA'!$C$25<=O157,O157,10000000000))","v":10000000000},null,{"$f":"IF($AZ$121=10000000000,10000000000,IF('SOLAI T2D SPA'!$C$25<=Q157,Q157,10000000000))","v":10000000000},null,{"$f":"IF($AZ$121=10000000000,10000000000,IF('SOLAI T2D SPA'!$C$25<=S157,S157,10000000000))","v":10000000000},null,{"$f":"IF($AZ$121=10000000000,10000000000,IF('SOLAI T2D SPA'!$C$25<=U157,U157,10000000000))","v":10000000000},null,{"$f":"IF($AZ$121=10000000000,10000000000,IF('SOLAI T2D SPA'!$C$25<=W157,W157,10000000000))","v":10000000000},null,{"$f":"IF($AZ$121=10000000000,10000000000,IF('SOLAI T2D SPA'!$C$25<=Y157,Y157,10000000000))","v":10000000000},null,{"$f":"IF($AZ$121=10000000000,10000000000,IF('SOLAI T2D SPA'!$C$25<=AA157,AA157,10000000000))","v":10000000000},null,{"$f":"IF($AZ$121=10000000000,10000000000,IF('SOLAI T2D SPA'!$C$25<=AC157,AC157,10000000000))","v":10000000000},null,{"$f":"IF($AZ$121=10000000000,10000000000,IF('SOLAI T2D SPA'!$C$25<=AE157,AE157,10000000000))","v":10000000000},null,{"$f":"IF($AZ$121=10000000000,10000000000,IF('SOLAI T2D SPA'!$C$25<=AG157,AG157,10000000000))","v":10000000000},null,{"$f":"IF($AZ$121=10000000000,10000000000,IF('SOLAI T2D SPA'!$C$25<=AI157,AI157,10000000000))","v":10000000000}]
[null,null,5,{"$f":"A157+B155+C158","v":40},{"$f":"(A157+C158)/100*2500+B155/100*0.4*2500/1.2","v":500},null,1858.75,null,2897.8583333333336,null,4161.7416666666668,null,4733.2833333333338,null,5758.3083333333334,null,7003.9833333333336,null,8241.1583333333328,null,9691.8416666666672,null,11129.941666666668,null,12774.625,null,14405.083333333336,null,16233.875,null,18041.45,null,20039.2,null,22012.2,null,null,null,null,null,null,null,null,null,null,null,null,null,null,null,null,null,null,null,null,null,null,null,null,null,null,null,null,null,null,null,null,null,null,null,null,null,null,null,null,null,null,null,null,10000000000,{"$f":"BZ157+CA155+CB158","v":30000000000},{"$f":"(BZ157+CB158)/100*2500+CA155/100*0.4*2500/1.2","v":583333333333.33337},null,{"$f":"IF($AZ$122=10000000000,10000000000,IF('SOLAI T2D SPA'!$C$25<=G158,G158,10000000000))","v":10000000000},null,{"$f":"IF($AZ$122=10000000000,10000000000,IF('SOLAI T2D SPA'!$C$25<=I158,I158,10000000000))","v":10000000000},null,{"$f":"IF($AZ$122=10000000000,10000000000,IF('SOLAI T2D SPA'!$C$25<=K158,K158,10000000000))","v":10000000000},null,{"$f":"IF($AZ$122=10000000000,10000000000,IF('SOLAI T2D SPA'!$C$25<=M158,M158,10000000000))","v":10000000000},null,{"$f":"IF($AZ$122=10000000000,10000000000,IF('SOLAI T2D SPA'!$C$25<=O158,O158,10000000000))","v":10000000000},null,{"$f":"IF($AZ$122=10000000000,10000000000,IF('SOLAI T2D SPA'!$C$25<=Q158,Q158,10000000000))","v":10000000000},null,{"$f":"IF($AZ$122=10000000000,10000000000,IF('SOLAI T2D SPA'!$C$25<=S158,S158,10000000000))","v":10000000000},null,{"$f":"IF($AZ$122=10000000000,10000000000,IF('SOLAI T2D SPA'!$C$25<=U158,U158,10000000000))","v":10000000000},null,{"$f":"IF($AZ$122=10000000000,10000000000,IF('SOLAI T2D SPA'!$C$25<=W158,W158,10000000000))","v":10000000000},null,{"$f":"IF($AZ$122=10000000000,10000000000,IF('SOLAI T2D SPA'!$C$25<=Y158,Y158,10000000000))","v":10000000000},null,{"$f":"IF($AZ$122=10000000000,10000000000,IF('SOLAI T2D SPA'!$C$25<=AA158,AA158,10000000000))","v":10000000000},null,{"$f":"IF($AZ$122=10000000000,10000000000,IF('SOLAI T2D SPA'!$C$25<=AC158,AC158,10000000000))","v":10000000000},null,{"$f":"IF($AZ$122=10000000000,10000000000,IF('SOLAI T2D SPA'!$C$25<=AE158,AE158,10000000000))","v":10000000000},null,{"$f":"IF($AZ$122=10000000000,10000000000,IF('SOLAI T2D SPA'!$C$25<=AG158,AG158,10000000000))","v":10000000000},null,{"$f":"IF($AZ$122=10000000000,10000000000,IF('SOLAI T2D SPA'!$C$25<=AI158,AI158,10000000000))","v":10000000000}]
[null,null,null,null,null,null,null,null,null,null,null,null,null,null,null,null,null,null,null,null,null,null,null,null,null,null,null,null,null,null,null,null,null,null,null,null,null,null,null,null,null,null,null,null,null,null,null,null,null,null,null,null,null,null,null,null,null,null,null,null,null,null,null,null,null,null,null,null,null,null,null,null,null,null,null,null,null,null,null,null,null,null,null,{"$f":"MIN(CF127:CG158)","v":10000000000},null,{"$f":"MIN(CH127:CI158)","v":10000000000},null,{"$f":"MIN(CJ127:CK158)","v":10000000000},null,{"$f":"MIN(CL127:CM158)","v":10000000000},null,{"$f":"MIN(CN127:CO158)","v":10000000000},null,{"$f":"MIN(CP127:CQ158)","v":10000000000},null,{"$f":"MIN(CR127:CS158)","v":10000000000},null,{"$f":"MIN(CT127:CU158)","v":10000000000},null,{"$f":"MIN(CV127:CW158)","v":10000000000},null,10000000000,null,10000000000,null,10000000000,null,10000000000,null,10000000000,null,10000000000,null,{"$f":"MIN(CF159:DI159)","v":10000000000},null,{"$f":"IF(AND(AR90=1,DJ159=10000000000),1,0)","v":0}]
[]
[]
[]
[]
[]
[]
[null,null,null,null,null,null,null,null,null,null,null,null,null,null,null,null,null,null,null,null,null,null,null,null,null,null,null,null,null,null,null,null,null,null,null,null,null,null,null,null,null,null,null,null,null,null,null,null,null,null,null,null,null,null,null,null,null,null,null,null,null,null,null,null,null,null,null,null,null,null,null,null,null,null,null,null,null,null,null,null,null,null,null,null,null,null,null,null,null,null,null,null,null,null,null,null,null,null,null,null,null,null,null,null,null,null,null,null,null,null,null,null,null,{"$f":"MIN(DJ159,DJ78)","v":10000000000}]

{"sheet":"LP LATERIZIO","index":9,"n_rows":0,"n_cols":0,"rows_kept":0,"cut":false,"hidden":true,"merged":[]}

{"sheet":"CONTROLLO FINALE","index":10,"n_rows":14,"n_cols":17,"rows_kept":14,"cut":false,"hidden":true,"merged":[[1,14,2,14],[1,15,2,15],[1,16,2,16],[0,8,2,8],[0,9,0,12],[0,13,0,16],[1,10,2,10],[1,11,2,11],[1,12,2,12],[1,13,2,13],[1,1,2,1],[1,2,2,2],[1,3,2,3],[1,9,2,9],[0,1,0,3],[0,4,2,4],[0,5,2,5],[0,6,2,6],[0,7,2,7]]}
[null,"Caratteristiche",null,null,"P.P.","G1","G2","Q","Lcal","Momento positivo slu",null,null,null,"Momento negativo slu"]
[null,"Tipo","Int","H",null,null,null,null,null,"Vincolo","Armatura","Msoll","Mres","Vincolo","Armatura","Msoll","Mres"]
[]
["TRAVETTO BLOCCO 42",{"$f":"IF(OR('ST BLOCCO 42'!U12=1,'ST BLOCCO 42'!U46=1),\"T.S.\",\"\")","v":""},{"$f":"IF('ST BLOCCO 42'!U12=1,\"50\",IF('ST BLOCCO 42'!U46=1,\"52\",\"\"))","v":""},{"$f":"IF('ST BLOCCO 42'!W69=10000000000,\"\",'ST BLOCCO 42'!W69&\"+\"&'ST BLOCCO 42'!X69)","v":""},{"$f":"'ST BLOCCO 42'!Z69","v":10000000000},null,null,null,null,null,{"$f":"'ST BLOCCO 42'!AM10&'ST BLOCCO 42'!AM44","v":""},null,{"$f":"'ST BLOCCO 42'!AM69","v":10000000000},null,{"$f":"'ST BLOCCO 42'!AN85&'ST BLOCCO 42'!AN114","v":""},null,{"$f":"'ST BLOCCO 42'!AN134","v":10000000000}]
["TRAVETTO BLOCCO 52",{"$f":"IF(OR('ST BLOCCO 52'!U12=1,'ST BLOCCO 52'!U46=1),\"T.S.\",\"\")","v":""},{"$f":"IF('ST BLOCCO 52'!U12=1,\"60\",IF('ST BLOCCO 52'!U46=1,\"62\",\"\"))","v":""},{"$f":"IF('ST BLOCCO 52'!W75=10000000000,\"\",'ST BLOCCO 52'!W75&\"+\"&'ST BLOCCO 52'!X75)","v":""},{"$f":"'ST BLOCCO 52'!Z75","v":10000000000},null,null,null,null,null,{"$f":"'ST BLOCCO 52'!AM8&'ST BLOCCO 52'!AM53","v":""},null,{"$f":"'ST BLOCCO 52'!AM75","v":10000000000},null,{"$f":"'ST BLOCCO 52'!BL25&'ST BLOCCO 52'!BL71","v":""},null,{"$f":"'ST BLOCCO 52'!BL91","v":10000000000}]
["DOPPIO TRAVETTO BLOCCO 42",{"$f":"IF('DT BLOCCO 42'!U2=1,\"D.T.\",\"\")","v":""},null,null,100000000,null,null,null,null,null,null,null,100000000,null,null,null,100000000]
["DOPPIO TRAVETTO BLOCCO 52",{"$f":"IF('DT BLOCCO 52'!U2=1,\"D.T.\",\"\")","v":""},null,null,100000000,null,null,null,null,null,null,null,100000000,null,null,null,100000000]
["LASTRE PREDALLES POLISTIROLO",{"$f":"IF(OR('LP POLISTIROLO'!AR12=1,'LP POLISTIROLO'!AR90=1),\"L.P.\",\"\")","v":""},{"$f":"IF(OR('LP POLISTIROLO'!AR12=1,'LP POLISTIROLO'!AR90=1),120,\"\")","v":""},{"$f":"IF(OR('LP POLISTIROLO'!AR12=1,'LP POLISTIROLO'!AR90=1),'LP POLISTIROLO'!AV129&\"+\"&'LP POLISTIROLO'!AW129&\"+\"&'LP POLISTIROLO'!AX129,\"\")","v":""},{"$f":"'LP POLISTIROLO'!AZ129","v":10000000000},null,null,null,null,null,{"$f":"'LP POLISTIROLO'!BU3&'LP POLISTIROLO'!BU85","v":""},null,{"$f":"'LP POLISTIROLO'!BT129","v":10000000000},null,{"$f":"'LP POLISTIROLO'!DJ40&'LP POLISTIROLO'!DJ121","v":""},null,{"$f":"'LP POLISTIROLO'!DJ166","v":10000000000}]
["LASTRE PREDALLES LATERIZIO",{"$f":"IF('LP LATERIZIO'!U2=1,\"L.L.\",\"\")","v":""},null,null,100000000,null,null,null,null,null,null,null,100000000,null,null,null,100000000]
[null,{"$f":"B4&B5&B6&B7&B8&B9","v":""},{"$f":"C4&C5&C6&C7&C8&C9","v":""},{"$f":"D4&D5&D6&D7&D8&D9","v":""},{"$f":"MIN(E4:E9)","v":100000000},{"$f":"'SOLAI T2D SPA'!C11","v":0},{"$f":"'SOLAI T2D SPA'!C12","v":0},{"$f":"'SOLAI T2D SPA'!C13","v":0},{"$f":"'SOLAI T2D SPA'!C14","v":0},{"$f":"'SOLAI T2D SPA'!C15","v":0},{"$f":"K4&K5&K6&K7&K8&K9","v":""},{"$f":"'SOLAI T2D SPA'!C20","v":""},{"$f":"MIN(M4:M9)","v":100000000},{"$f":"'SOLAI T2D SPA'!C16","v":0},{"$f":"O4&O5&O6&O7&O8&O9","v":""},{"$f":"'SOLAI T2D SPA'!C25","v":""},{"$f":"MIN(Q4:Q9)","v":100000000}]
[]
[]
["SOLAIO NON VERIFICATO IN CAMPATA",{"$f":"'ST BLOCCO 42'!AN30+'ST BLOCCO 42'!AN64+'ST BLOCCO 52'!AN26+'ST BLOCCO 52'!AN72+'LP POLISTIROLO'!BU123+'LP POLISTIROLO'!BU42","v":0},null,"DA FINIRE"]
["SOLAIO NON VERIFICATO AGLI APPOGGI",{"$f":"'ST BLOCCO 42'!AO103+'ST BLOCCO 42'!AO132+'ST BLOCCO 52'!BM42+'ST BLOCCO 52'!BM88+'LP POLISTIROLO'!DL78+'LP POLISTIROLO'!DL159","v":0},null,"DA FINIRE"]